BEGIN:VCALENDAR
VERSION:2.0
PRODID:-//Centre d&#039;Etudes du Bouddhisme Tibétain de Genève - ECPv6.15.20//NONSGML v1.0//EN
CALSCALE:GREGORIAN
METHOD:PUBLISH
X-ORIGINAL-URL:https://cebtg.ch
X-WR-CALDESC:Évènements pour Centre d&#039;Etudes du Bouddhisme Tibétain de Genève
REFRESH-INTERVAL;VALUE=DURATION:PT1H
X-Robots-Tag:noindex
X-PUBLISHED-TTL:PT1H
BEGIN:VTIMEZONE
TZID:Europe/Zurich
BEGIN:DAYLIGHT
TZOFFSETFROM:+0100
TZOFFSETTO:+0200
TZNAME:CEST
DTSTART:20230326T010000
END:DAYLIGHT
BEGIN:STANDARD
TZOFFSETFROM:+0200
TZOFFSETTO:+0100
TZNAME:CET
DTSTART:20231029T010000
END:STANDARD
BEGIN:DAYLIGHT
TZOFFSETFROM:+0100
TZOFFSETTO:+0200
TZNAME:CEST
DTSTART:20240331T010000
END:DAYLIGHT
BEGIN:STANDARD
TZOFFSETFROM:+0200
TZOFFSETTO:+0100
TZNAME:CET
DTSTART:20241027T010000
END:STANDARD
BEGIN:DAYLIGHT
TZOFFSETFROM:+0100
TZOFFSETTO:+0200
TZNAME:CEST
DTSTART:20250330T010000
END:DAYLIGHT
BEGIN:STANDARD
TZOFFSETFROM:+0200
TZOFFSETTO:+0100
TZNAME:CET
DTSTART:20251026T010000
END:STANDARD
END:VTIMEZONE
BEGIN:VEVENT
DTSTART;TZID=Europe/Zurich:20241028T190000
DTEND;TZID=Europe/Zurich:20241028T203000
DTSTAMP:20260423T225046
CREATED:20240821T214850Z
LAST-MODIFIED:20241204T154443Z
UID:10001106-1730142000-1730147400@cebtg.ch
SUMMARY:Présentation des "groupes d'études" par les restituteurs de Dhagpo
DESCRIPTION:Deux restituteurs de Dhagpo Kagyu Ling feront une session par Zoom pour toutes les personnes intéressées du CEBTG\, ainsi que des centres proches CEBTL et Kagyu Die.\nLes restituteurs présenteront la manière d’organiser une étude approfondie par petits groupes. Il s’agit d’une méthode mise en place par Jigmé Rinpoché dans les centres du maṇḍala de Dhagpo depuis plusieurs années. \nLa présentation sera suivie d’une session de questions-réponses. Cette méthodologie s’applique à tout type de texte du Dharma et à tout groupe\, que l’on soit en présence ou en ligne. C’est un moyen précieux qui renforce la connaissance précise des textes et les liens des communautés.\nL’idée consiste ensuite à organiser des groupes en autonomie pour étudier ensemble le Dhagpo Targyen (« Cycle Gampopa » ) ou d’autres textes. \nVous pouvez rejoindre cette session en utilisant les codes habituels du CEBTG.
URL:https://cebtg.ch/evenement/groupe-de-partage/
LOCATION:Online
ATTACH;FMTTYPE=image/jpeg:https://cebtg.ch/wp-content/uploads/2024/10/groupe-detude-DKL-e1729410503155.jpg
END:VEVENT
END:VCALENDAR