BEGIN:VCALENDAR
VERSION:2.0
PRODID:-//Centre d&#039;Etudes du Bouddhisme Tibétain de Genève - ECPv6.15.20//NONSGML v1.0//EN
CALSCALE:GREGORIAN
METHOD:PUBLISH
X-ORIGINAL-URL:https://cebtg.ch
X-WR-CALDESC:Évènements pour Centre d&#039;Etudes du Bouddhisme Tibétain de Genève
REFRESH-INTERVAL;VALUE=DURATION:PT1H
X-Robots-Tag:noindex
X-PUBLISHED-TTL:PT1H
BEGIN:VTIMEZONE
TZID:Europe/Zurich
BEGIN:DAYLIGHT
TZOFFSETFROM:+0100
TZOFFSETTO:+0200
TZNAME:CEST
DTSTART:20240331T010000
END:DAYLIGHT
BEGIN:STANDARD
TZOFFSETFROM:+0200
TZOFFSETTO:+0100
TZNAME:CET
DTSTART:20241027T010000
END:STANDARD
BEGIN:DAYLIGHT
TZOFFSETFROM:+0100
TZOFFSETTO:+0200
TZNAME:CEST
DTSTART:20250330T010000
END:DAYLIGHT
BEGIN:STANDARD
TZOFFSETFROM:+0200
TZOFFSETTO:+0100
TZNAME:CET
DTSTART:20251026T010000
END:STANDARD
BEGIN:DAYLIGHT
TZOFFSETFROM:+0100
TZOFFSETTO:+0200
TZNAME:CEST
DTSTART:20260329T010000
END:DAYLIGHT
BEGIN:STANDARD
TZOFFSETFROM:+0200
TZOFFSETTO:+0100
TZNAME:CET
DTSTART:20261025T010000
END:STANDARD
END:VTIMEZONE
BEGIN:VEVENT
DTSTART;TZID=Europe/Zurich:20250402T183000
DTEND;TZID=Europe/Zurich:20250402T191500
DTSTAMP:20260421T224923
CREATED:20241204T155309Z
LAST-MODIFIED:20250831T125202Z
UID:10001228-1743618600-1743621300@cebtg.ch
SUMMARY:Pratique de Tchenrezi
DESCRIPTION:La pratique de Tchenrézi est une méditation chantée combinant visualisation et mantra\, centrée sur le développement de l’amour et de la compassion. Cette activité est ouverte à toute personne intéressée par la tradition tibétaine\, qu’elle soit bouddhiste ou non\, débutante ou confirmée. Des textes de pratique avec transcription phonétique sont disponibles sur place.Un mercredi sur deux\, la pratique est guidée : les parties récitées sont commentées pour faciliter la visualisation correspondante. \nCette pratique de Tchenrézi est caractéristique du vajrayana\, ou bouddhisme tantrique. Pour mieux l’appréhender\, des séances d’instructions individuelles ou collectives sont proposées sur demande.La pratique de Tchenrézi est accessible en présentiel et en ligne (exclusivement via Zoom).  \nLes séances en présentiel se déroulent dans la salle du Centre Vimalakirti\, située dans le quartier des Délices à Genève\, rue Henri-Frédéric Amiel 10\, 1203 Genève.
URL:https://cebtg.ch/evenement/pratique-de-tchenrezi-29/
CATEGORIES:Tchenrezi
ATTACH;FMTTYPE=image/jpeg:https://cebtg.ch/wp-content/uploads/2023/08/Tchenrezi-4-bras1.jpg
END:VEVENT
BEGIN:VEVENT
DTSTART;TZID=Europe/Zurich:20250402T193000
DTEND;TZID=Europe/Zurich:20250402T203000
DTSTAMP:20260421T224923
CREATED:20250402T115832Z
LAST-MODIFIED:20250508T082754Z
UID:10001294-1743622200-1743625800@cebtg.ch
SUMMARY:Enseignement - thème libre
DESCRIPTION:Enseignement de lama Djinpa Lodreu (Jean-Marc Falcombello) en présence à Vimalakirti\, sur Zoom et Youtube. Thème libre.
URL:https://cebtg.ch/evenement/enseignement-theme-libre-13/
END:VEVENT
BEGIN:VEVENT
DTSTART;TZID=Europe/Zurich:20250403T120000
DTEND;TZID=Europe/Zurich:20250403T130000
DTSTAMP:20260421T224923
CREATED:20250320T175315Z
LAST-MODIFIED:20250402T194832Z
UID:10001279-1743681600-1743685200@cebtg.ch
SUMMARY:Cours de tibétain - Tib 3
DESCRIPTION:Le premier cours\, de 12h à 13h concerne l’analyse de texte. Il s’adresse à des étudiants avancés ayant déjà une certaine aisance dans la lecture d’un texte tibétain. L’enseignement s’appuie cette année sur l’étude du texte des 37 pratiques des bodhisattvas. Les leçons sont disponibles en replay pour les personnes qui souhaiteraient reprendre depuis le début.
URL:https://cebtg.ch/evenement/cours-de-tibetain-tib-3-8/
CATEGORIES:Cours de tibétain
ATTACH;FMTTYPE=image/png:https://cebtg.ch/wp-content/uploads/2023/01/texte_tibetain_16_9.png
END:VEVENT
BEGIN:VEVENT
DTSTART;TZID=Europe/Zurich:20250403T131500
DTEND;TZID=Europe/Zurich:20250403T141500
DTSTAMP:20260421T224923
CREATED:20250320T175315Z
LAST-MODIFIED:20250402T194833Z
UID:10001280-1743686100-1743689700@cebtg.ch
SUMMARY:Cours de tibétain - Tib 2
DESCRIPTION:Le deuxième cours\, de 13h15 à 14h15\, concerne l’apprentissage de la lecture pour des débutants ou des personnes désireuses de parfaire leur capacité. La méthode employée est une méthode contextuelle développée spécifiquement\, qui consiste à apprendre les lettres directement dans le texte. C’est une sorte d’apprentissage « sur le terrain ». Cette année nous étudierons le sūtra de la pousse de riz. Les leçons sont disponibles en replay pour les personnes qui souhaiteraient reprendre depuis le début.
URL:https://cebtg.ch/evenement/cours-de-tibetain-tib-2-8/
CATEGORIES:Cours de tibétain
ATTACH;FMTTYPE=image/png:https://cebtg.ch/wp-content/uploads/2023/01/texte_tibetain_16_9.png
END:VEVENT
BEGIN:VEVENT
DTSTART;TZID=Europe/Zurich:20250409T113000
DTEND;TZID=Europe/Zurich:20250409T123000
DTSTAMP:20260421T224923
CREATED:20250320T175315Z
LAST-MODIFIED:20250407T203120Z
UID:10001281-1744198200-1744201800@cebtg.ch
SUMMARY:Cours de tibétain débutant - Tib 1
DESCRIPTION:Ce cours « débutant » s’adresse aux personnes qui n’ont aucune connaissance de l’alphabet tibétain et ne savent pas lire. À terme\, elles pourront rejoindre le cours intermédiaire.
URL:https://cebtg.ch/evenement/cours-de-tibetain-debutant-tib-1-4/
CATEGORIES:Cours de tibétain
ATTACH;FMTTYPE=image/png:https://cebtg.ch/wp-content/uploads/2023/01/texte_tibetain_16_9.png
END:VEVENT
BEGIN:VEVENT
DTSTART;TZID=Europe/Zurich:20250410T120000
DTEND;TZID=Europe/Zurich:20250410T130000
DTSTAMP:20260421T224923
CREATED:20250320T175315Z
LAST-MODIFIED:20250409T205232Z
UID:10001282-1744286400-1744290000@cebtg.ch
SUMMARY:Cours de tibétain - Tib 3
DESCRIPTION:Le premier cours\, de 12h à 13h concerne l’analyse de texte. Il s’adresse à des étudiants avancés ayant déjà une certaine aisance dans la lecture d’un texte tibétain. L’enseignement s’appuie cette année sur l’étude du texte des 37 pratiques des bodhisattvas. Les leçons sont disponibles en replay pour les personnes qui souhaiteraient reprendre depuis le début.
URL:https://cebtg.ch/evenement/cours-de-tibetain-tib-3-9/
CATEGORIES:Cours de tibétain
ATTACH;FMTTYPE=image/png:https://cebtg.ch/wp-content/uploads/2023/01/texte_tibetain_16_9.png
END:VEVENT
BEGIN:VEVENT
DTSTART;TZID=Europe/Zurich:20250410T131500
DTEND;TZID=Europe/Zurich:20250410T141500
DTSTAMP:20260421T224923
CREATED:20250320T175315Z
LAST-MODIFIED:20250409T205232Z
UID:10001283-1744290900-1744294500@cebtg.ch
SUMMARY:Cours de tibétain - Tib 2
DESCRIPTION:Le deuxième cours\, de 13h15 à 14h15\, concerne l’apprentissage de la lecture pour des débutants ou des personnes désireuses de parfaire leur capacité. La méthode employée est une méthode contextuelle développée spécifiquement\, qui consiste à apprendre les lettres directement dans le texte. C’est une sorte d’apprentissage « sur le terrain ». Cette année nous étudierons le sūtra de la pousse de riz. Les leçons sont disponibles en replay pour les personnes qui souhaiteraient reprendre depuis le début.
URL:https://cebtg.ch/evenement/cours-de-tibetain-tib-2-9/
CATEGORIES:Cours de tibétain
ATTACH;FMTTYPE=image/png:https://cebtg.ch/wp-content/uploads/2023/01/texte_tibetain_16_9.png
END:VEVENT
BEGIN:VEVENT
DTSTART;TZID=Europe/Zurich:20250413T100000
DTEND;TZID=Europe/Zurich:20250413T113000
DTSTAMP:20260421T224923
CREATED:20241204T155309Z
LAST-MODIFIED:20251002T091432Z
UID:10001235-1744538400-1744543800@cebtg.ch
SUMMARY:Acharya - Gampopa
DESCRIPTION:Une fois par mois le dimanche\, en direct depuis l’Inde\, l’Acharya Kunchok Tenzin transmet un enseignement sur L’Ornement de la Libération\, un texte fondamental de Gampopa\, le disciple du célèbre Milarépa et un des pères fondateurs de la lignée kagyu. \nCet enseignement fait partie du « Cycle d’enseignement autour de L’Ornement de la Libération » et sert de base à la constitution d’une éducation au Dharma fondée sur : 1) l’écoute\, 2) la réflexion et 3) l’intégration. De ce fait\, cet enseignement dominical est suivi par deux mercredis consacrés chacun à l’exercice de la réflexion et de l’intégration. \nL’enseignement du dimanche est donné en tibétain et est traduit en français par lama Djinpa Lodreu / Jean-Marc Falcombello.
URL:https://cebtg.ch/evenement/acharya-gampopa-9/
CATEGORIES:Gampopa
ATTACH;FMTTYPE=image/png:https://cebtg.ch/wp-content/uploads/2023/01/Gampopa-detail-16_9.png
END:VEVENT
BEGIN:VEVENT
DTSTART;TZID=Europe/Zurich:20250414T073000
DTEND;TZID=Europe/Zurich:20250414T080000
DTSTAMP:20260421T224923
CREATED:20241204T155309Z
LAST-MODIFIED:20241208T220453Z
UID:10001236-1744615800-1744617600@cebtg.ch
SUMMARY:Récitation de l'Appel au Lama de loin
DESCRIPTION:Récitation de l’Appel au Lama de loin en présence à la Maison Verte et sur Zoom.
URL:https://cebtg.ch/evenement/recitation-de-lappel-au-lama-de-loin-32/
CATEGORIES:Prière
ATTACH;FMTTYPE=image/jpeg:https://cebtg.ch/wp-content/uploads/2024/11/IMG_5501-e1733695400999.jpg
END:VEVENT
BEGIN:VEVENT
DTSTART;TZID=Europe/Zurich:20250414T080000
DTEND;TZID=Europe/Zurich:20250414T090000
DTSTAMP:20260421T224923
CREATED:20241204T155309Z
LAST-MODIFIED:20241207T163847Z
UID:10001237-1744617600-1744621200@cebtg.ch
SUMMARY:Méditation
DESCRIPTION:Méditation du calme mental en présence à la Maison Verte\, sur Zoom (codes habituels) et Youtube.
URL:https://cebtg.ch/evenement/meditation-64/
CATEGORIES:Calme Mental
ATTACH;FMTTYPE=image/jpeg:https://cebtg.ch/wp-content/uploads/2023/08/IMG_7234-scaled-e1693428506443.jpeg
END:VEVENT
BEGIN:VEVENT
DTSTART;TZID=Europe/Zurich:20250414T183000
DTEND;TZID=Europe/Zurich:20250414T200000
DTSTAMP:20260421T224923
CREATED:20241204T155309Z
LAST-MODIFIED:20241207T163847Z
UID:10001238-1744655400-1744660800@cebtg.ch
SUMMARY:Méditation
DESCRIPTION:Méditation du calme mental\, en présence à Vimalakirti\, sur Zoom (codes habituels) et Youtube.
URL:https://cebtg.ch/evenement/meditation-65/
CATEGORIES:Calme Mental
ATTACH;FMTTYPE=image/jpeg:https://cebtg.ch/wp-content/uploads/2023/08/IMG_7234-scaled-e1693428506443.jpeg
END:VEVENT
BEGIN:VEVENT
DTSTART;TZID=Europe/Zurich:20250416T183000
DTEND;TZID=Europe/Zurich:20250416T191500
DTSTAMP:20260421T224923
CREATED:20241204T155309Z
LAST-MODIFIED:20250831T125202Z
UID:10001239-1744828200-1744830900@cebtg.ch
SUMMARY:Pratique de Tchenrezi
DESCRIPTION:La pratique de Tchenrézi est une méditation chantée combinant visualisation et mantra\, centrée sur le développement de l’amour et de la compassion. Cette activité est ouverte à toute personne intéressée par la tradition tibétaine\, qu’elle soit bouddhiste ou non\, débutante ou confirmée. Des textes de pratique avec transcription phonétique sont disponibles sur place.Un mercredi sur deux\, la pratique est guidée : les parties récitées sont commentées pour faciliter la visualisation correspondante. \nCette pratique de Tchenrézi est caractéristique du vajrayana\, ou bouddhisme tantrique. Pour mieux l’appréhender\, des séances d’instructions individuelles ou collectives sont proposées sur demande.La pratique de Tchenrézi est accessible en présentiel et en ligne (exclusivement via Zoom).  \nLes séances en présentiel se déroulent dans la salle du Centre Vimalakirti\, située dans le quartier des Délices à Genève\, rue Henri-Frédéric Amiel 10\, 1203 Genève.
URL:https://cebtg.ch/evenement/pratique-de-tchenrezi-31/
CATEGORIES:Tchenrezi
ATTACH;FMTTYPE=image/jpeg:https://cebtg.ch/wp-content/uploads/2023/08/Tchenrezi-4-bras1.jpg
END:VEVENT
BEGIN:VEVENT
DTSTART;TZID=Europe/Zurich:20250417T120000
DTEND;TZID=Europe/Zurich:20250417T130000
DTSTAMP:20260421T224923
CREATED:20250320T175315Z
LAST-MODIFIED:20250416T220431Z
UID:10001284-1744891200-1744894800@cebtg.ch
SUMMARY:Cours de tibétain - Tib 3
DESCRIPTION:Le premier cours\, de 12h à 13h concerne l’analyse de texte. Il s’adresse à des étudiants avancés ayant déjà une certaine aisance dans la lecture d’un texte tibétain. L’enseignement s’appuie cette année sur l’étude du texte des 37 pratiques des bodhisattvas. Les leçons sont disponibles en replay pour les personnes qui souhaiteraient reprendre depuis le début.
URL:https://cebtg.ch/evenement/cours-de-tibetain-tib-3-10/
CATEGORIES:Cours de tibétain
ATTACH;FMTTYPE=image/png:https://cebtg.ch/wp-content/uploads/2023/01/texte_tibetain_16_9.png
END:VEVENT
BEGIN:VEVENT
DTSTART;TZID=Europe/Zurich:20250417T131500
DTEND;TZID=Europe/Zurich:20250417T141500
DTSTAMP:20260421T224923
CREATED:20250320T175315Z
LAST-MODIFIED:20250416T220431Z
UID:10001285-1744895700-1744899300@cebtg.ch
SUMMARY:Cours de tibétain - Tib 2
DESCRIPTION:Le deuxième cours\, de 13h15 à 14h15\, concerne l’apprentissage de la lecture pour des débutants ou des personnes désireuses de parfaire leur capacité. La méthode employée est une méthode contextuelle développée spécifiquement\, qui consiste à apprendre les lettres directement dans le texte. C’est une sorte d’apprentissage « sur le terrain ». Cette année nous étudierons le sūtra de la pousse de riz. Les leçons sont disponibles en replay pour les personnes qui souhaiteraient reprendre depuis le début.
URL:https://cebtg.ch/evenement/cours-de-tibetain-tib-2-10/
CATEGORIES:Cours de tibétain
ATTACH;FMTTYPE=image/png:https://cebtg.ch/wp-content/uploads/2023/01/texte_tibetain_16_9.png
END:VEVENT
BEGIN:VEVENT
DTSTART;TZID=Europe/Zurich:20250417T183000
DTEND;TZID=Europe/Zurich:20250417T193000
DTSTAMP:20260421T224923
CREATED:20250320T175315Z
LAST-MODIFIED:20250416T220431Z
UID:10001286-1744914600-1744918200@cebtg.ch
SUMMARY:Cours de tibétain débutant - Tib 1
DESCRIPTION:Ce cours « débutant » s’adresse aux personnes qui n’ont aucune connaissance de l’alphabet tibétain et ne savent pas lire. À terme\, elles pourront rejoindre le cours intermédiaire.
URL:https://cebtg.ch/evenement/cours-de-tibetain-debutant-tib-1-5/
CATEGORIES:Cours de tibétain
ATTACH;FMTTYPE=image/png:https://cebtg.ch/wp-content/uploads/2023/01/texte_tibetain_16_9.png
END:VEVENT
BEGIN:VEVENT
DTSTART;TZID=Europe/Zurich:20250424T120000
DTEND;TZID=Europe/Zurich:20250424T130000
DTSTAMP:20260421T224923
CREATED:20250320T175315Z
LAST-MODIFIED:20250423T013427Z
UID:10001287-1745496000-1745499600@cebtg.ch
SUMMARY:Cours de tibétain - Tib 3
DESCRIPTION:Le premier cours\, de 12h à 13h concerne l’analyse de texte. Il s’adresse à des étudiants avancés ayant déjà une certaine aisance dans la lecture d’un texte tibétain. L’enseignement s’appuie cette année sur l’étude du texte des 37 pratiques des bodhisattvas. Les leçons sont disponibles en replay pour les personnes qui souhaiteraient reprendre depuis le début.
URL:https://cebtg.ch/evenement/cours-de-tibetain-tib-3-11/
CATEGORIES:Cours de tibétain
ATTACH;FMTTYPE=image/png:https://cebtg.ch/wp-content/uploads/2023/01/texte_tibetain_16_9.png
END:VEVENT
BEGIN:VEVENT
DTSTART;TZID=Europe/Zurich:20250424T131500
DTEND;TZID=Europe/Zurich:20250424T141500
DTSTAMP:20260421T224923
CREATED:20250320T175315Z
LAST-MODIFIED:20250423T013427Z
UID:10001288-1745500500-1745504100@cebtg.ch
SUMMARY:Cours de tibétain - Tib 2
DESCRIPTION:Le deuxième cours\, de 13h15 à 14h15\, concerne l’apprentissage de la lecture pour des débutants ou des personnes désireuses de parfaire leur capacité. La méthode employée est une méthode contextuelle développée spécifiquement\, qui consiste à apprendre les lettres directement dans le texte. C’est une sorte d’apprentissage « sur le terrain ». Cette année nous étudierons le sūtra de la pousse de riz. Les leçons sont disponibles en replay pour les personnes qui souhaiteraient reprendre depuis le début.
URL:https://cebtg.ch/evenement/cours-de-tibetain-tib-2-11/
CATEGORIES:Cours de tibétain
ATTACH;FMTTYPE=image/png:https://cebtg.ch/wp-content/uploads/2023/01/texte_tibetain_16_9.png
END:VEVENT
BEGIN:VEVENT
DTSTART;VALUE=DATE:20250428
DTEND;VALUE=DATE:20250503
DTSTAMP:20260421T224923
CREATED:20250508T084631Z
LAST-MODIFIED:20250519T061147Z
UID:10001310-1745798400-1746230399@cebtg.ch
SUMMARY:Lojong 2
DESCRIPTION:2e partie\nLa deuxième partie du stage nous permet de mieux intégrer encore certains des 59 aphorismes de l’Entraînement de l’esprit\, qui composent le texte racine sous la forme de courtes phrases. \nNous avons aussi l’occasion de prendre plus de temps pour la pratique méditative associée à l’Entraînement de l’esprit : la pratique de Tonglen. Des moments de restitution et d’échange\, en groupe\, sont aussi proposés pour nous aider à clarifier et enrichir notre pratique. \nIl est possible d’assister uniquement à cette deuxième partie\, mais si l’on n’a jamais pris contact avec la pratique de Lojong\, il est conseillé de suivre tout d’abord la première partie du stage.
URL:https://cebtg.ch/evenement/lojong-2-2/
END:VEVENT
END:VCALENDAR