BEGIN:VCALENDAR
VERSION:2.0
PRODID:-//Centre d&#039;Etudes du Bouddhisme Tibétain de Genève - ECPv6.15.20//NONSGML v1.0//EN
CALSCALE:GREGORIAN
METHOD:PUBLISH
X-ORIGINAL-URL:https://cebtg.ch
X-WR-CALDESC:Évènements pour Centre d&#039;Etudes du Bouddhisme Tibétain de Genève
REFRESH-INTERVAL;VALUE=DURATION:PT1H
X-Robots-Tag:noindex
X-PUBLISHED-TTL:PT1H
BEGIN:VTIMEZONE
TZID:Europe/Zurich
BEGIN:DAYLIGHT
TZOFFSETFROM:+0100
TZOFFSETTO:+0200
TZNAME:CEST
DTSTART:20230326T010000
END:DAYLIGHT
BEGIN:STANDARD
TZOFFSETFROM:+0200
TZOFFSETTO:+0100
TZNAME:CET
DTSTART:20231029T010000
END:STANDARD
BEGIN:DAYLIGHT
TZOFFSETFROM:+0100
TZOFFSETTO:+0200
TZNAME:CEST
DTSTART:20240331T010000
END:DAYLIGHT
BEGIN:STANDARD
TZOFFSETFROM:+0200
TZOFFSETTO:+0100
TZNAME:CET
DTSTART:20241027T010000
END:STANDARD
BEGIN:DAYLIGHT
TZOFFSETFROM:+0100
TZOFFSETTO:+0200
TZNAME:CEST
DTSTART:20250330T010000
END:DAYLIGHT
BEGIN:STANDARD
TZOFFSETFROM:+0200
TZOFFSETTO:+0100
TZNAME:CET
DTSTART:20251026T010000
END:STANDARD
BEGIN:DAYLIGHT
TZOFFSETFROM:+0100
TZOFFSETTO:+0200
TZNAME:CEST
DTSTART:20260329T010000
END:DAYLIGHT
BEGIN:STANDARD
TZOFFSETFROM:+0200
TZOFFSETTO:+0100
TZNAME:CET
DTSTART:20261025T010000
END:STANDARD
END:VTIMEZONE
BEGIN:VEVENT
DTSTART;TZID=Europe/Zurich:20241202T073000
DTEND;TZID=Europe/Zurich:20241202T080000
DTSTAMP:20260423T134210
CREATED:20241019T180345Z
LAST-MODIFIED:20241208T220453Z
UID:10001125-1733124600-1733126400@cebtg.ch
SUMMARY:Récitation de l'Appel au Lama de loin
DESCRIPTION:Récitation de l’Appel au Lama de loin en présence à la Maison Verte et sur Zoom.
URL:https://cebtg.ch/evenement/recitation-de-lappel-au-lama-de-loin-13/
CATEGORIES:Prière
ATTACH;FMTTYPE=image/jpeg:https://cebtg.ch/wp-content/uploads/2024/11/IMG_5501-e1733695400999.jpg
END:VEVENT
BEGIN:VEVENT
DTSTART;TZID=Europe/Zurich:20241209T073000
DTEND;TZID=Europe/Zurich:20241209T080000
DTSTAMP:20260423T134210
CREATED:20241019T180345Z
LAST-MODIFIED:20250508T082749Z
UID:10001131-1733729400-1733731200@cebtg.ch
SUMMARY:Récitation de l'Appel au Lama de loin
DESCRIPTION:Récitation de l’Appel au Lama de loin en présence à la Maison Verte et sur Zoom.
URL:https://cebtg.ch/evenement/recitation-de-lappel-au-lama-de-loin-14/
CATEGORIES:Prière
ATTACH;FMTTYPE=image/jpeg:https://cebtg.ch/wp-content/uploads/2024/11/IMG_5501-e1733695400999.jpg
END:VEVENT
BEGIN:VEVENT
DTSTART;TZID=Europe/Zurich:20250106T073000
DTEND;TZID=Europe/Zurich:20250106T080000
DTSTAMP:20260423T134210
CREATED:20241204T155304Z
LAST-MODIFIED:20250508T082750Z
UID:10001162-1736148600-1736150400@cebtg.ch
SUMMARY:Récitation de l'Appel au Lama de loin
DESCRIPTION:Récitation de l’Appel au Lama de loin en présence à la Maison Verte et sur Zoom.
URL:https://cebtg.ch/evenement/recitation-de-lappel-au-lama-de-loin-18/
CATEGORIES:Prière
ATTACH;FMTTYPE=image/jpeg:https://cebtg.ch/wp-content/uploads/2024/11/IMG_5501-e1733695400999.jpg
END:VEVENT
BEGIN:VEVENT
DTSTART;TZID=Europe/Zurich:20250113T073000
DTEND;TZID=Europe/Zurich:20250113T080000
DTSTAMP:20260423T134210
CREATED:20241204T155304Z
LAST-MODIFIED:20241208T220453Z
UID:10001169-1736753400-1736755200@cebtg.ch
SUMMARY:Récitation de l'Appel au Lama de loin
DESCRIPTION:Récitation de l’Appel au Lama de loin en présence à la Maison Verte et sur Zoom.
URL:https://cebtg.ch/evenement/recitation-de-lappel-au-lama-de-loin-19/
CATEGORIES:Prière
ATTACH;FMTTYPE=image/jpeg:https://cebtg.ch/wp-content/uploads/2024/11/IMG_5501-e1733695400999.jpg
END:VEVENT
BEGIN:VEVENT
DTSTART;TZID=Europe/Zurich:20250120T073000
DTEND;TZID=Europe/Zurich:20250120T080000
DTSTAMP:20260423T134210
CREATED:20241204T155305Z
LAST-MODIFIED:20250508T082750Z
UID:10001174-1737358200-1737360000@cebtg.ch
SUMMARY:Récitation de l'Appel au Lama de loin
DESCRIPTION:Récitation de l’Appel au Lama de loin en présence à la Maison Verte et sur Zoom.
URL:https://cebtg.ch/evenement/recitation-de-lappel-au-lama-de-loin-20/
CATEGORIES:Prière
ATTACH;FMTTYPE=image/jpeg:https://cebtg.ch/wp-content/uploads/2024/11/IMG_5501-e1733695400999.jpg
END:VEVENT
BEGIN:VEVENT
DTSTART;TZID=Europe/Zurich:20250127T073000
DTEND;TZID=Europe/Zurich:20250127T080000
DTSTAMP:20260423T134210
CREATED:20241204T155305Z
LAST-MODIFIED:20250508T082751Z
UID:10001178-1737963000-1737964800@cebtg.ch
SUMMARY:Récitation de l'Appel au Lama de loin
DESCRIPTION:Récitation de l’Appel au Lama de loin en présence à la Maison Verte et sur Zoom.
URL:https://cebtg.ch/evenement/recitation-de-lappel-au-lama-de-loin-21/
CATEGORIES:Prière
ATTACH;FMTTYPE=image/jpeg:https://cebtg.ch/wp-content/uploads/2024/11/IMG_5501-e1733695400999.jpg
END:VEVENT
BEGIN:VEVENT
DTSTART;TZID=Europe/Zurich:20250203T073000
DTEND;TZID=Europe/Zurich:20250203T080000
DTSTAMP:20260423T134210
CREATED:20241204T155305Z
LAST-MODIFIED:20250508T082751Z
UID:10001184-1738567800-1738569600@cebtg.ch
SUMMARY:Récitation de l'Appel au Lama de loin
DESCRIPTION:Récitation de l’Appel au Lama de loin en présence à la Maison Verte et sur Zoom.
URL:https://cebtg.ch/evenement/recitation-de-lappel-au-lama-de-loin-22/
CATEGORIES:Prière
ATTACH;FMTTYPE=image/jpeg:https://cebtg.ch/wp-content/uploads/2024/11/IMG_5501-e1733695400999.jpg
END:VEVENT
BEGIN:VEVENT
DTSTART;TZID=Europe/Zurich:20250210T073000
DTEND;TZID=Europe/Zurich:20250210T080000
DTSTAMP:20260423T134210
CREATED:20241204T155306Z
LAST-MODIFIED:20250508T082751Z
UID:10001189-1739172600-1739174400@cebtg.ch
SUMMARY:Récitation de l'Appel au Lama de loin
DESCRIPTION:Récitation de l’Appel au Lama de loin en présence à la Maison Verte et sur Zoom.
URL:https://cebtg.ch/evenement/recitation-de-lappel-au-lama-de-loin-23/
CATEGORIES:Prière
ATTACH;FMTTYPE=image/jpeg:https://cebtg.ch/wp-content/uploads/2024/11/IMG_5501-e1733695400999.jpg
END:VEVENT
BEGIN:VEVENT
DTSTART;TZID=Europe/Zurich:20250217T073000
DTEND;TZID=Europe/Zurich:20250217T080000
DTSTAMP:20260423T134210
CREATED:20241204T155306Z
LAST-MODIFIED:20250508T082752Z
UID:10001195-1739777400-1739779200@cebtg.ch
SUMMARY:Récitation de l'Appel au Lama de loin
DESCRIPTION:Lundi 17 février\, comme initialement évoqué (précédente newsletter)\, la récitation de l’appel au lama de loin et la session de méditation auront lieu par zoom pour les personnes à distance. \n \nPour les personnes qui sont à Genève\, de 8h à 9h il vous sera possible de venir méditer à la Maison Verte (sans suivre sur zoom).
URL:https://cebtg.ch/evenement/recitation-de-lappel-au-lama-de-loin-24/
CATEGORIES:Prière
ATTACH;FMTTYPE=image/jpeg:https://cebtg.ch/wp-content/uploads/2024/11/IMG_5501-e1733695400999.jpg
END:VEVENT
BEGIN:VEVENT
DTSTART;TZID=Europe/Zurich:20250224T073000
DTEND;TZID=Europe/Zurich:20250224T080000
DTSTAMP:20260423T134210
CREATED:20241204T155307Z
LAST-MODIFIED:20250508T082752Z
UID:10001200-1740382200-1740384000@cebtg.ch
SUMMARY:Récitation de l'Appel au Lama de loin
DESCRIPTION:Récitation de l’Appel au Lama de loin en présence à la Maison Verte et sur Zoom.
URL:https://cebtg.ch/evenement/recitation-de-lappel-au-lama-de-loin-25/
CATEGORIES:Prière
ATTACH;FMTTYPE=image/jpeg:https://cebtg.ch/wp-content/uploads/2024/11/IMG_5501-e1733695400999.jpg
END:VEVENT
BEGIN:VEVENT
DTSTART;TZID=Europe/Zurich:20250303T073000
DTEND;TZID=Europe/Zurich:20250303T080000
DTSTAMP:20260423T134210
CREATED:20241204T155307Z
LAST-MODIFIED:20250508T082753Z
UID:10001204-1740987000-1740988800@cebtg.ch
SUMMARY:Récitation de l'Appel au Lama de loin
DESCRIPTION:Récitation de l’Appel au Lama de loin en présence à la Maison Verte et sur Zoom.
URL:https://cebtg.ch/evenement/recitation-de-lappel-au-lama-de-loin-26/
CATEGORIES:Prière
ATTACH;FMTTYPE=image/jpeg:https://cebtg.ch/wp-content/uploads/2024/11/IMG_5501-e1733695400999.jpg
END:VEVENT
BEGIN:VEVENT
DTSTART;TZID=Europe/Zurich:20250310T073000
DTEND;TZID=Europe/Zurich:20250310T080000
DTSTAMP:20260423T134210
CREATED:20241204T155307Z
LAST-MODIFIED:20250508T082753Z
UID:10001209-1741591800-1741593600@cebtg.ch
SUMMARY:Récitation de l'Appel au Lama de loin
DESCRIPTION:Récitation de l’Appel au Lama de loin en présence à la Maison Verte et sur Zoom.
URL:https://cebtg.ch/evenement/recitation-de-lappel-au-lama-de-loin-27/
CATEGORIES:Prière
ATTACH;FMTTYPE=image/jpeg:https://cebtg.ch/wp-content/uploads/2024/11/IMG_5501-e1733695400999.jpg
END:VEVENT
BEGIN:VEVENT
DTSTART;TZID=Europe/Zurich:20250317T073000
DTEND;TZID=Europe/Zurich:20250317T080000
DTSTAMP:20260423T134210
CREATED:20241204T155308Z
LAST-MODIFIED:20250508T082754Z
UID:10001215-1742196600-1742198400@cebtg.ch
SUMMARY:Récitation de l'Appel au Lama de loin
DESCRIPTION:Récitation de l’Appel au Lama de loin en présence à la Maison Verte et sur Zoom.
URL:https://cebtg.ch/evenement/recitation-de-lappel-au-lama-de-loin-28/
CATEGORIES:Prière
ATTACH;FMTTYPE=image/jpeg:https://cebtg.ch/wp-content/uploads/2024/11/IMG_5501-e1733695400999.jpg
END:VEVENT
BEGIN:VEVENT
DTSTART;TZID=Europe/Zurich:20250324T073000
DTEND;TZID=Europe/Zurich:20250324T080000
DTSTAMP:20260423T134210
CREATED:20241204T155308Z
LAST-MODIFIED:20250508T082754Z
UID:10001221-1742801400-1742803200@cebtg.ch
SUMMARY:Récitation de l'Appel au Lama de loin
DESCRIPTION:Récitation de l’Appel au Lama de loin en présence à la Maison Verte et sur Zoom.
URL:https://cebtg.ch/evenement/recitation-de-lappel-au-lama-de-loin-29/
CATEGORIES:Prière
ATTACH;FMTTYPE=image/jpeg:https://cebtg.ch/wp-content/uploads/2024/11/IMG_5501-e1733695400999.jpg
END:VEVENT
BEGIN:VEVENT
DTSTART;TZID=Europe/Zurich:20250331T073000
DTEND;TZID=Europe/Zurich:20250331T080000
DTSTAMP:20260423T134210
CREATED:20241204T155308Z
LAST-MODIFIED:20250508T082754Z
UID:10001226-1743406200-1743408000@cebtg.ch
SUMMARY:Récitation de l'Appel au Lama de loin
DESCRIPTION:Récitation de l’Appel au Lama de loin en présence à la Maison Verte et sur Zoom.
URL:https://cebtg.ch/evenement/recitation-de-lappel-au-lama-de-loin-30/
CATEGORIES:Prière
ATTACH;FMTTYPE=image/jpeg:https://cebtg.ch/wp-content/uploads/2024/11/IMG_5501-e1733695400999.jpg
END:VEVENT
BEGIN:VEVENT
DTSTART;TZID=Europe/Zurich:20250414T073000
DTEND;TZID=Europe/Zurich:20250414T080000
DTSTAMP:20260423T134210
CREATED:20241204T155309Z
LAST-MODIFIED:20241208T220453Z
UID:10001236-1744615800-1744617600@cebtg.ch
SUMMARY:Récitation de l'Appel au Lama de loin
DESCRIPTION:Récitation de l’Appel au Lama de loin en présence à la Maison Verte et sur Zoom.
URL:https://cebtg.ch/evenement/recitation-de-lappel-au-lama-de-loin-32/
CATEGORIES:Prière
ATTACH;FMTTYPE=image/jpeg:https://cebtg.ch/wp-content/uploads/2024/11/IMG_5501-e1733695400999.jpg
END:VEVENT
BEGIN:VEVENT
DTSTART;TZID=Europe/Zurich:20250903T193000
DTEND;TZID=Europe/Zurich:20250903T203000
DTSTAMP:20260423T134210
CREATED:20251002T085650Z
LAST-MODIFIED:20251223T162650Z
UID:10001554-1756927800-1756931400@cebtg.ch
SUMMARY:Enseignement - thème libre
DESCRIPTION:Enseignement de lama Djinpa Lodreu (Jean-Marc Falcombello) en présence à Vimalakirti\, sur Zoom et Youtube. Thème libre\, cet automne : la Prière à sept branches.Un fondement de la pratique bouddhisteDans le cadre des enseignements du CEBT Genève donnés par lama Jean-Marc Falcombello cet automne\, nous abordons l’étude et la réflexion autour de la Prière à Sept Branches (ཡན་ལག་བདུན་པ་ yenlak dünpa) qui constitue l’un des piliers de la pratique bouddhiste. Comme l’enseigne les maîtres de toutes les lignées\, cette prière « incarne l’essence de la pratique » car elle contient tous les points essentiels pour rassembler les accumulations et purifier les voiles.
URL:https://cebtg.ch/evenement/enseignement-theme-libre-32/
CATEGORIES:7 branches,Prière
ATTACH;FMTTYPE=image/jpeg:https://cebtg.ch/wp-content/uploads/2025/09/20240102_071323.jpg
END:VEVENT
BEGIN:VEVENT
DTSTART;TZID=Europe/Zurich:20250910T193000
DTEND;TZID=Europe/Zurich:20250910T203000
DTSTAMP:20260423T134210
CREATED:20251002T085651Z
LAST-MODIFIED:20251223T162650Z
UID:10001559-1757532600-1757536200@cebtg.ch
SUMMARY:Enseignement - thème libre
DESCRIPTION:Enseignement de lama Djinpa Lodreu (Jean-Marc Falcombello) en présence à Vimalakirti\, sur Zoom et Youtube. Thème libre\, cet automne : la Prière à sept branches.Un fondement de la pratique bouddhisteDans le cadre des enseignements du CEBT Genève donnés par lama Jean-Marc Falcombello cet automne\, nous abordons l’étude et la réflexion autour de la Prière à Sept Branches (ཡན་ལག་བདུན་པ་ yenlak dünpa) qui constitue l’un des piliers de la pratique bouddhiste. Comme l’enseigne les maîtres de toutes les lignées\, cette prière « incarne l’essence de la pratique » car elle contient tous les points essentiels pour rassembler les accumulations et purifier les voiles.
URL:https://cebtg.ch/evenement/enseignement-theme-libre-33/
CATEGORIES:7 branches,Prière
ATTACH;FMTTYPE=image/jpeg:https://cebtg.ch/wp-content/uploads/2025/09/20240102_071323.jpg
END:VEVENT
BEGIN:VEVENT
DTSTART;TZID=Europe/Zurich:20251001T193000
DTEND;TZID=Europe/Zurich:20251001T203000
DTSTAMP:20260423T134210
CREATED:20251002T085652Z
LAST-MODIFIED:20251223T162651Z
UID:10001579-1759347000-1759350600@cebtg.ch
SUMMARY:Enseignement - thème libre
DESCRIPTION:Enseignement de lama Djinpa Lodreu (Jean-Marc Falcombello) en présence à Vimalakirti\, sur Zoom et Youtube. Thème libre\, cet automne : la Prière à sept branches.Un fondement de la pratique bouddhisteDans le cadre des enseignements du CEBT Genève donnés par lama Jean-Marc Falcombello cet automne\, nous abordons l’étude et la réflexion autour de la Prière à Sept Branches (ཡན་ལག་བདུན་པ་ yenlak dünpa) qui constitue l’un des piliers de la pratique bouddhiste. Comme l’enseigne les maîtres de toutes les lignées\, cette prière « incarne l’essence de la pratique » car elle contient tous les points essentiels pour rassembler les accumulations et purifier les voiles.
URL:https://cebtg.ch/evenement/enseignement-theme-libre-34/
CATEGORIES:7 branches,Prière
ATTACH;FMTTYPE=image/jpeg:https://cebtg.ch/wp-content/uploads/2025/09/20240102_071323.jpg
END:VEVENT
BEGIN:VEVENT
DTSTART;TZID=Europe/Zurich:20251022T193000
DTEND;TZID=Europe/Zurich:20251022T203000
DTSTAMP:20260423T134210
CREATED:20251002T085654Z
LAST-MODIFIED:20251223T162652Z
UID:10001602-1761161400-1761165000@cebtg.ch
SUMMARY:Enseignement - thème libre
DESCRIPTION:Enseignement de lama Djinpa Lodreu (Jean-Marc Falcombello) en présence à Vimalakirti\, sur Zoom et Youtube. Thème libre\, cet automne : la Prière à sept branches.Un fondement de la pratique bouddhisteDans le cadre des enseignements du CEBT Genève donnés par lama Jean-Marc Falcombello cet automne\, nous abordons l’étude et la réflexion autour de la Prière à Sept Branches (ཡན་ལག་བདུན་པ་ yenlak dünpa) qui constitue l’un des piliers de la pratique bouddhiste. Comme l’enseigne les maîtres de toutes les lignées\, cette prière « incarne l’essence de la pratique » car elle contient tous les points essentiels pour rassembler les accumulations et purifier les voiles.
URL:https://cebtg.ch/evenement/enseignement-theme-libre-35/
CATEGORIES:7 branches,Prière
ATTACH;FMTTYPE=image/jpeg:https://cebtg.ch/wp-content/uploads/2025/09/20240102_071323.jpg
END:VEVENT
BEGIN:VEVENT
DTSTART;TZID=Europe/Zurich:20251119T193000
DTEND;TZID=Europe/Zurich:20251119T203000
DTSTAMP:20260423T134210
CREATED:20251119T144806Z
LAST-MODIFIED:20251223T162654Z
UID:10001697-1763580600-1763584200@cebtg.ch
SUMMARY:Enseignement - thème libre
DESCRIPTION:Enseignement de lama Djinpa Lodreu (Jean-Marc Falcombello) en présence à Vimalakirti\, sur Zoom et Youtube. Thème libre\, cet automne : la Prière à sept branches.Un fondement de la pratique bouddhisteDans le cadre des enseignements du CEBT Genève donnés par lama Jean-Marc Falcombello cet automne\, nous abordons l’étude et la réflexion autour de la Prière à Sept Branches (ཡན་ལག་བདུན་པ་ yenlak dünpa) qui constitue l’un des piliers de la pratique bouddhiste. Comme l’enseigne les maîtres de toutes les lignées\, cette prière « incarne l’essence de la pratique » car elle contient tous les points essentiels pour rassembler les accumulations et purifier les voiles.
URL:https://cebtg.ch/evenement/enseignement-theme-libre-40/
CATEGORIES:7 branches,Prière
ATTACH;FMTTYPE=image/jpeg:https://cebtg.ch/wp-content/uploads/2025/09/20240102_071323.jpg
END:VEVENT
BEGIN:VEVENT
DTSTART;TZID=Europe/Zurich:20251126T193000
DTEND;TZID=Europe/Zurich:20251126T203000
DTSTAMP:20260423T134210
CREATED:20251002T085657Z
LAST-MODIFIED:20251223T162654Z
UID:10001632-1764185400-1764189000@cebtg.ch
SUMMARY:Enseignement - thème libre
DESCRIPTION:Enseignement de lama Djinpa Lodreu (Jean-Marc Falcombello) en présence à Vimalakirti\, sur Zoom et Youtube. Thème libre\, cet automne : la Prière à sept branches.Un fondement de la pratique bouddhisteDans le cadre des enseignements du CEBT Genève donnés par lama Jean-Marc Falcombello cet automne\, nous abordons l’étude et la réflexion autour de la Prière à Sept Branches (ཡན་ལག་བདུན་པ་ yenlak dünpa) qui constitue l’un des piliers de la pratique bouddhiste. Comme l’enseigne les maîtres de toutes les lignées\, cette prière « incarne l’essence de la pratique » car elle contient tous les points essentiels pour rassembler les accumulations et purifier les voiles.
URL:https://cebtg.ch/evenement/enseignement-theme-libre-38/
CATEGORIES:7 branches,Prière
ATTACH;FMTTYPE=image/jpeg:https://cebtg.ch/wp-content/uploads/2025/09/20240102_071323.jpg
END:VEVENT
BEGIN:VEVENT
DTSTART;TZID=Europe/Zurich:20251203T193000
DTEND;TZID=Europe/Zurich:20251203T203000
DTSTAMP:20260423T134210
CREATED:20251002T085657Z
LAST-MODIFIED:20260125T105116Z
UID:10001637-1764790200-1764793800@cebtg.ch
SUMMARY:Enseignement - thème libre
DESCRIPTION:Enseignement de lama Djinpa Lodreu (Jean-Marc Falcombello) en présence à Vimalakirti\, sur Zoom et Youtube. Thème libre\, cet automne : la Prière à sept branches.Un fondement de la pratique bouddhisteDans le cadre des enseignements du CEBT Genève donnés par lama Jean-Marc Falcombello cet automne\, nous abordons l’étude et la réflexion autour de la Prière à Sept Branches (ཡན་ལག་བདུན་པ་ yenlak dünpa) qui constitue l’un des piliers de la pratique bouddhiste. Comme l’enseigne les maîtres de toutes les lignées\, cette prière « incarne l’essence de la pratique » car elle contient tous les points essentiels pour rassembler les accumulations et purifier les voiles.
URL:https://cebtg.ch/evenement/enseignement-theme-libre-39/
CATEGORIES:7 branches,Prière
ATTACH;FMTTYPE=image/jpeg:https://cebtg.ch/wp-content/uploads/2025/09/20240102_071323.jpg
END:VEVENT
END:VCALENDAR