BEGIN:VCALENDAR
VERSION:2.0
PRODID:-//Centre d&#039;Etudes du Bouddhisme Tibétain de Genève - ECPv6.15.20//NONSGML v1.0//EN
CALSCALE:GREGORIAN
METHOD:PUBLISH
X-ORIGINAL-URL:https://cebtg.ch
X-WR-CALDESC:Évènements pour Centre d&#039;Etudes du Bouddhisme Tibétain de Genève
REFRESH-INTERVAL;VALUE=DURATION:PT1H
X-Robots-Tag:noindex
X-PUBLISHED-TTL:PT1H
BEGIN:VTIMEZONE
TZID:Europe/Zurich
BEGIN:DAYLIGHT
TZOFFSETFROM:+0100
TZOFFSETTO:+0200
TZNAME:CEST
DTSTART:20240331T010000
END:DAYLIGHT
BEGIN:STANDARD
TZOFFSETFROM:+0200
TZOFFSETTO:+0100
TZNAME:CET
DTSTART:20241027T010000
END:STANDARD
BEGIN:DAYLIGHT
TZOFFSETFROM:+0100
TZOFFSETTO:+0200
TZNAME:CEST
DTSTART:20250330T010000
END:DAYLIGHT
BEGIN:STANDARD
TZOFFSETFROM:+0200
TZOFFSETTO:+0100
TZNAME:CET
DTSTART:20251026T010000
END:STANDARD
BEGIN:DAYLIGHT
TZOFFSETFROM:+0100
TZOFFSETTO:+0200
TZNAME:CEST
DTSTART:20260329T010000
END:DAYLIGHT
BEGIN:STANDARD
TZOFFSETFROM:+0200
TZOFFSETTO:+0100
TZNAME:CET
DTSTART:20261025T010000
END:STANDARD
END:VTIMEZONE
BEGIN:VEVENT
DTSTART;TZID=Europe/Zurich:20251201T183000
DTEND;TZID=Europe/Zurich:20251201T200000
DTSTAMP:20260426T002717
CREATED:20251002T085657Z
LAST-MODIFIED:20260125T105116Z
UID:10001635-1764613800-1764619200@cebtg.ch
SUMMARY:AG Extraordinaire
DESCRIPTION:Méditation du calme mental\, en présence à Vimalakirti\, sur Zoom (codes habituels) et Youtube.
URL:https://cebtg.ch/evenement/meditation-140/
CATEGORIES:Mercredi soir,Shiné
ATTACH;FMTTYPE=image/jpeg:https://cebtg.ch/wp-content/uploads/2023/03/calme-turquoise.jpg
END:VEVENT
BEGIN:VEVENT
DTSTART;TZID=Europe/Zurich:20251204T191500
DTEND;TZID=Europe/Zurich:20251204T211500
DTSTAMP:20260426T002717
CREATED:20251002T085657Z
LAST-MODIFIED:20260125T105116Z
UID:10001638-1764875700-1764882900@cebtg.ch
SUMMARY:Méditation groupe Lausanne
DESCRIPTION:
URL:https://cebtg.ch/evenement/meditation-groupe-lausanne-15/
CATEGORIES:Mercredi soir,Shiné
ATTACH;FMTTYPE=image/jpeg:https://cebtg.ch/wp-content/uploads/2023/03/calme-turquoise.jpg
END:VEVENT
BEGIN:VEVENT
DTSTART;TZID=Europe/Zurich:20251208T080000
DTEND;TZID=Europe/Zurich:20251208T090000
DTSTAMP:20260426T002717
CREATED:20251002T085657Z
LAST-MODIFIED:20260125T105117Z
UID:10001641-1765180800-1765184400@cebtg.ch
SUMMARY:Méditation
DESCRIPTION:Méditation du calme mental en présence à la Maison Verte\, sur Zoom (codes habituels) et Youtube.
URL:https://cebtg.ch/evenement/meditation-141/
CATEGORIES:Calme Mental,Méditation,Mercredi soir,Shiné
ATTACH;FMTTYPE=image/jpeg:https://cebtg.ch/wp-content/uploads/2023/03/calme-turquoise.jpg
END:VEVENT
BEGIN:VEVENT
DTSTART;TZID=Europe/Zurich:20251208T183000
DTEND;TZID=Europe/Zurich:20251208T200000
DTSTAMP:20260426T002717
CREATED:20251002T085657Z
LAST-MODIFIED:20260125T105117Z
UID:10001643-1765218600-1765224000@cebtg.ch
SUMMARY:Méditation
DESCRIPTION:Méditation du calme mental\, en présence à Vimalakirti\, sur Zoom (codes habituels) et Youtube.
URL:https://cebtg.ch/evenement/meditation-142/
CATEGORIES:Calme Mental,Méditation,Mercredi soir,Shiné
ATTACH;FMTTYPE=image/jpeg:https://cebtg.ch/wp-content/uploads/2023/03/calme-turquoise.jpg
END:VEVENT
BEGIN:VEVENT
DTSTART;TZID=Europe/Zurich:20251211T183000
DTEND;TZID=Europe/Zurich:20251211T203000
DTSTAMP:20260426T002717
CREATED:20251002T085658Z
LAST-MODIFIED:20260125T105117Z
UID:10001646-1765477800-1765485000@cebtg.ch
SUMMARY:Vevey Méditation
DESCRIPTION:
URL:https://cebtg.ch/evenement/vevey-meditation-24/
CATEGORIES:Mercredi soir,Shiné,Vevey
ATTACH;FMTTYPE=image/jpeg:https://cebtg.ch/wp-content/uploads/2023/03/calme-turquoise.jpg
END:VEVENT
BEGIN:VEVENT
DTSTART;TZID=Europe/Zurich:20251215T070000
DTEND;TZID=Europe/Zurich:20251215T080000
DTSTAMP:20260426T002717
CREATED:20251002T085658Z
LAST-MODIFIED:20260125T105117Z
UID:10001648-1765782000-1765785600@cebtg.ch
SUMMARY:Méditation (par Zoom\, en direct de KML)
DESCRIPTION:Méditation du calme mental en présence à la Maison Verte\, sur Zoom (codes habituels) et Youtube.
URL:https://cebtg.ch/evenement/meditation-143/
CATEGORIES:Mercredi soir,Shiné
ATTACH;FMTTYPE=image/jpeg:https://cebtg.ch/wp-content/uploads/2023/03/calme-turquoise.jpg
END:VEVENT
BEGIN:VEVENT
DTSTART;TZID=Europe/Zurich:20251215T180000
DTEND;TZID=Europe/Zurich:20251215T190000
DTSTAMP:20260426T002717
CREATED:20251002T085658Z
LAST-MODIFIED:20260125T105117Z
UID:10001649-1765821600-1765825200@cebtg.ch
SUMMARY:Méditation
DESCRIPTION:Méditation du calme mental\, uniquement sur Zoom et YouTube pour cette session.
URL:https://cebtg.ch/evenement/meditation-144/
CATEGORIES:Calme Mental,Méditation,Mercredi soir,Shiné
ATTACH;FMTTYPE=image/jpeg:https://cebtg.ch/wp-content/uploads/2023/03/calme-turquoise.jpg
END:VEVENT
END:VCALENDAR