BEGIN:VCALENDAR
VERSION:2.0
PRODID:-//Centre d&#039;Etudes du Bouddhisme Tibétain de Genève - ECPv6.15.20//NONSGML v1.0//EN
CALSCALE:GREGORIAN
METHOD:PUBLISH
X-WR-CALNAME:Centre d&#039;Etudes du Bouddhisme Tibétain de Genève
X-ORIGINAL-URL:https://cebtg.ch
X-WR-CALDESC:Évènements pour Centre d&#039;Etudes du Bouddhisme Tibétain de Genève
REFRESH-INTERVAL;VALUE=DURATION:PT1H
X-Robots-Tag:noindex
X-PUBLISHED-TTL:PT1H
BEGIN:VTIMEZONE
TZID:Europe/Zurich
BEGIN:DAYLIGHT
TZOFFSETFROM:+0100
TZOFFSETTO:+0200
TZNAME:CEST
DTSTART:20230326T010000
END:DAYLIGHT
BEGIN:STANDARD
TZOFFSETFROM:+0200
TZOFFSETTO:+0100
TZNAME:CET
DTSTART:20231029T010000
END:STANDARD
BEGIN:DAYLIGHT
TZOFFSETFROM:+0100
TZOFFSETTO:+0200
TZNAME:CEST
DTSTART:20240331T010000
END:DAYLIGHT
BEGIN:STANDARD
TZOFFSETFROM:+0200
TZOFFSETTO:+0100
TZNAME:CET
DTSTART:20241027T010000
END:STANDARD
BEGIN:DAYLIGHT
TZOFFSETFROM:+0100
TZOFFSETTO:+0200
TZNAME:CEST
DTSTART:20250330T010000
END:DAYLIGHT
BEGIN:STANDARD
TZOFFSETFROM:+0200
TZOFFSETTO:+0100
TZNAME:CET
DTSTART:20251026T010000
END:STANDARD
BEGIN:DAYLIGHT
TZOFFSETFROM:+0100
TZOFFSETTO:+0200
TZNAME:CEST
DTSTART:20260329T010000
END:DAYLIGHT
BEGIN:STANDARD
TZOFFSETFROM:+0200
TZOFFSETTO:+0100
TZNAME:CET
DTSTART:20261025T010000
END:STANDARD
END:VTIMEZONE
BEGIN:VEVENT
DTSTART;TZID=Europe/Zurich:20240111T200000
DTEND;TZID=Europe/Zurich:20240111T220000
DTSTAMP:20260419T233710
CREATED:20240123T072746Z
LAST-MODIFIED:20240123T083952Z
UID:10000880-1705003200-1705010400@cebtg.ch
SUMMARY:Dharma Lausanne
DESCRIPTION:
URL:https://cebtg.ch/evenement/dharma-lausanne/
CATEGORIES:Lausanne
ATTACH;FMTTYPE=image/png:https://cebtg.ch/wp-content/uploads/2023/01/lausanne_16_9.png
END:VEVENT
BEGIN:VEVENT
DTSTART;TZID=Europe/Zurich:20240201T200000
DTEND;TZID=Europe/Zurich:20240201T220000
DTSTAMP:20260419T233710
CREATED:20240123T083353Z
LAST-MODIFIED:20240123T083353Z
UID:10000887-1706817600-1706824800@cebtg.ch
SUMMARY:Dharma Lausanne
DESCRIPTION:
URL:https://cebtg.ch/evenement/dharma-lausanne-2/
CATEGORIES:Lausanne
ATTACH;FMTTYPE=image/jpeg:https://cebtg.ch/wp-content/uploads/2024/01/colton-sturgeon-6KkYYqTEDwQ-unsplash-1-e1705999069653.jpg
END:VEVENT
BEGIN:VEVENT
DTSTART;TZID=Europe/Zurich:20240314T200000
DTEND;TZID=Europe/Zurich:20240314T220000
DTSTAMP:20260419T233710
CREATED:20240123T083353Z
LAST-MODIFIED:20240123T083353Z
UID:10000888-1710446400-1710453600@cebtg.ch
SUMMARY:Dharma Lausanne
DESCRIPTION:
URL:https://cebtg.ch/evenement/dharma-lausanne-3/
CATEGORIES:Lausanne
ATTACH;FMTTYPE=image/jpeg:https://cebtg.ch/wp-content/uploads/2024/01/colton-sturgeon-6KkYYqTEDwQ-unsplash-1-e1705999069653.jpg
END:VEVENT
BEGIN:VEVENT
DTSTART;TZID=Europe/Zurich:20240411T200000
DTEND;TZID=Europe/Zurich:20240411T220000
DTSTAMP:20260419T233710
CREATED:20240123T083353Z
LAST-MODIFIED:20240123T083353Z
UID:10000889-1712865600-1712872800@cebtg.ch
SUMMARY:Dharma Lausanne
DESCRIPTION:
URL:https://cebtg.ch/evenement/dharma-lausanne-4/
CATEGORIES:Lausanne
ATTACH;FMTTYPE=image/jpeg:https://cebtg.ch/wp-content/uploads/2024/01/colton-sturgeon-6KkYYqTEDwQ-unsplash-1-e1705999069653.jpg
END:VEVENT
BEGIN:VEVENT
DTSTART;TZID=Europe/Zurich:20240502T200000
DTEND;TZID=Europe/Zurich:20240502T220000
DTSTAMP:20260419T233710
CREATED:20240123T083353Z
LAST-MODIFIED:20240123T083353Z
UID:10000890-1714680000-1714687200@cebtg.ch
SUMMARY:Dharma Lausanne
DESCRIPTION:
URL:https://cebtg.ch/evenement/dharma-lausanne-5/
CATEGORIES:Lausanne
ATTACH;FMTTYPE=image/jpeg:https://cebtg.ch/wp-content/uploads/2024/01/colton-sturgeon-6KkYYqTEDwQ-unsplash-1-e1705999069653.jpg
END:VEVENT
BEGIN:VEVENT
DTSTART;TZID=Europe/Zurich:20250320T191500
DTEND;TZID=Europe/Zurich:20250320T211500
DTSTAMP:20260419T233710
CREATED:20250111T141104Z
LAST-MODIFIED:20250831T125537Z
UID:10001251-1742498100-1742505300@cebtg.ch
SUMMARY:Méditation groupe Lausanne
DESCRIPTION:
URL:https://cebtg.ch/evenement/meditation-lausanne-et-agathe-a-ls-seance-religion-3/
CATEGORIES:Lausanne
ATTACH;FMTTYPE=image/jpeg:https://cebtg.ch/wp-content/uploads/2024/01/colton-sturgeon-6KkYYqTEDwQ-unsplash-1-e1705999069653.jpg
END:VEVENT
BEGIN:VEVENT
DTSTART;TZID=Europe/Zurich:20250515T191500
DTEND;TZID=Europe/Zurich:20250515T211500
DTSTAMP:20260419T233710
CREATED:20250508T084632Z
LAST-MODIFIED:20250831T125537Z
UID:10001322-1747336500-1747343700@cebtg.ch
SUMMARY:Méditation groupe Lausanne
DESCRIPTION:
URL:https://cebtg.ch/evenement/meditation-groupe-lausanne/
CATEGORIES:Lausanne
ATTACH;FMTTYPE=image/jpeg:https://cebtg.ch/wp-content/uploads/2024/01/colton-sturgeon-6KkYYqTEDwQ-unsplash-1-e1705999069653.jpg
END:VEVENT
BEGIN:VEVENT
DTSTART;TZID=Europe/Zurich:20250605T191500
DTEND;TZID=Europe/Zurich:20250605T211500
DTSTAMP:20260419T233710
CREATED:20250508T084633Z
LAST-MODIFIED:20250831T125537Z
UID:10001341-1749150900-1749158100@cebtg.ch
SUMMARY:Méditation groupe Lausanne
DESCRIPTION:
URL:https://cebtg.ch/evenement/meditation-groupe-lausanne-2/
CATEGORIES:Lausanne
ATTACH;FMTTYPE=image/jpeg:https://cebtg.ch/wp-content/uploads/2024/01/colton-sturgeon-6KkYYqTEDwQ-unsplash-1-e1705999069653.jpg
END:VEVENT
BEGIN:VEVENT
DTSTART;TZID=Europe/Zurich:20250626T191500
DTEND;TZID=Europe/Zurich:20250626T211500
DTSTAMP:20260419T233710
CREATED:20250508T084634Z
LAST-MODIFIED:20250831T125537Z
UID:10001361-1750965300-1750972500@cebtg.ch
SUMMARY:Méditation groupe Lausanne
DESCRIPTION:
URL:https://cebtg.ch/evenement/meditation-groupe-lausanne-3/
CATEGORIES:Lausanne
ATTACH;FMTTYPE=image/jpeg:https://cebtg.ch/wp-content/uploads/2024/01/colton-sturgeon-6KkYYqTEDwQ-unsplash-1-e1705999069653.jpg
END:VEVENT
BEGIN:VEVENT
DTSTART;TZID=Europe/Zurich:20250911T191500
DTEND;TZID=Europe/Zurich:20250911T211500
DTSTAMP:20260419T233710
CREATED:20250831T104119Z
LAST-MODIFIED:20251002T084151Z
UID:10001408-1757618100-1757625300@cebtg.ch
SUMMARY:Méditation groupe Lausanne
DESCRIPTION:
URL:https://cebtg.ch/evenement/meditation-groupe-lausanne-4/
CATEGORIES:Lausanne
ATTACH;FMTTYPE=image/jpeg:https://cebtg.ch/wp-content/uploads/2024/01/colton-sturgeon-6KkYYqTEDwQ-unsplash-1-e1705999069653.jpg
END:VEVENT
END:VCALENDAR