BEGIN:VCALENDAR
VERSION:2.0
PRODID:-//Centre d&#039;Etudes du Bouddhisme Tibétain de Genève - ECPv6.15.20//NONSGML v1.0//EN
CALSCALE:GREGORIAN
METHOD:PUBLISH
X-ORIGINAL-URL:https://cebtg.ch
X-WR-CALDESC:Évènements pour Centre d&#039;Etudes du Bouddhisme Tibétain de Genève
REFRESH-INTERVAL;VALUE=DURATION:PT1H
X-Robots-Tag:noindex
X-PUBLISHED-TTL:PT1H
BEGIN:VTIMEZONE
TZID:Europe/Zurich
BEGIN:DAYLIGHT
TZOFFSETFROM:+0100
TZOFFSETTO:+0200
TZNAME:CEST
DTSTART:20240331T010000
END:DAYLIGHT
BEGIN:STANDARD
TZOFFSETFROM:+0200
TZOFFSETTO:+0100
TZNAME:CET
DTSTART:20241027T010000
END:STANDARD
BEGIN:DAYLIGHT
TZOFFSETFROM:+0100
TZOFFSETTO:+0200
TZNAME:CEST
DTSTART:20250330T010000
END:DAYLIGHT
BEGIN:STANDARD
TZOFFSETFROM:+0200
TZOFFSETTO:+0100
TZNAME:CET
DTSTART:20251026T010000
END:STANDARD
BEGIN:DAYLIGHT
TZOFFSETFROM:+0100
TZOFFSETTO:+0200
TZNAME:CEST
DTSTART:20260329T010000
END:DAYLIGHT
BEGIN:STANDARD
TZOFFSETFROM:+0200
TZOFFSETTO:+0100
TZNAME:CET
DTSTART:20261025T010000
END:STANDARD
END:VTIMEZONE
BEGIN:VEVENT
DTSTART;TZID=Europe/Zurich:20251217T193000
DTEND;TZID=Europe/Zurich:20251217T203000
DTSTAMP:20260423T035603
CREATED:20251007T085651Z
LAST-MODIFIED:20260209T102032Z
UID:10001690-1765999800-1766003400@cebtg.ch
SUMMARY:Enseignement - Cycle Gampopa
DESCRIPTION:Enseignement – réflexion/intégration lié au « cycle Gampopa »\, 2e volet. \nPour cette session : uniquement par Zoom\, sous réserve d’une bonne connexion depuis le Bost pendant les Kagyu Monlam. Confirmation par message WhatsApp le jour même.
URL:https://cebtg.ch/evenement/enseignement-cycle-gampopa-36/
CATEGORIES:Gampopa
ATTACH;FMTTYPE=image/png:https://cebtg.ch/wp-content/uploads/2023/01/Gampopa-detail-16_9.png
END:VEVENT
END:VCALENDAR