BEGIN:VCALENDAR
VERSION:2.0
PRODID:-//Centre d&#039;Etudes du Bouddhisme Tibétain de Genève - ECPv6.15.20//NONSGML v1.0//EN
CALSCALE:GREGORIAN
METHOD:PUBLISH
X-ORIGINAL-URL:https://cebtg.ch
X-WR-CALDESC:Évènements pour Centre d&#039;Etudes du Bouddhisme Tibétain de Genève
REFRESH-INTERVAL;VALUE=DURATION:PT1H
X-Robots-Tag:noindex
X-PUBLISHED-TTL:PT1H
BEGIN:VTIMEZONE
TZID:Europe/Zurich
BEGIN:DAYLIGHT
TZOFFSETFROM:+0100
TZOFFSETTO:+0200
TZNAME:CEST
DTSTART:20250330T010000
END:DAYLIGHT
BEGIN:STANDARD
TZOFFSETFROM:+0200
TZOFFSETTO:+0100
TZNAME:CET
DTSTART:20251026T010000
END:STANDARD
BEGIN:DAYLIGHT
TZOFFSETFROM:+0100
TZOFFSETTO:+0200
TZNAME:CEST
DTSTART:20260329T010000
END:DAYLIGHT
BEGIN:STANDARD
TZOFFSETFROM:+0200
TZOFFSETTO:+0100
TZNAME:CET
DTSTART:20261025T010000
END:STANDARD
BEGIN:DAYLIGHT
TZOFFSETFROM:+0100
TZOFFSETTO:+0200
TZNAME:CEST
DTSTART:20270328T010000
END:DAYLIGHT
BEGIN:STANDARD
TZOFFSETFROM:+0200
TZOFFSETTO:+0100
TZNAME:CET
DTSTART:20271031T010000
END:STANDARD
END:VTIMEZONE
BEGIN:VEVENT
DTSTART;TZID=Europe/Zurich:20260104T100000
DTEND;TZID=Europe/Zurich:20260104T113000
DTSTAMP:20260423T004833
CREATED:20251223T163615Z
LAST-MODIFIED:20260209T102032Z
UID:10001714-1767520800-1767526200@cebtg.ch
SUMMARY:Acharya Kunchok Tenzin - Cycle Gampopa
DESCRIPTION:Une fois par mois le dimanche\, par Zoom\, l’Acharya Kunchok Tenzin transmet un enseignement sur L’Ornement de la Libération\, un texte fondamental de Gampopa\, le disciple du célèbre Milarépa et un des pères fondateurs de la lignée kagyu. \nCet enseignement fait partie du « Cycle d’enseignement autour de L’Ornement de la Libération » et sert de base à la constitution d’une éducation au Dharma fondée sur : 1) l’écoute\, 2) la réflexion et 3) l’intégration. De ce fait\, cet enseignement dominical est suivi par deux mercredis consacrés chacun à l’exercice de la réflexion et de l’intégration. \nL’enseignement du dimanche est donné en tibétain et est traduit en français par lama Djinpa Lodreu / Jean-Marc Falcombello.
URL:https://cebtg.ch/evenement/acharya-kunchok-tenzin-cycle-gampopa-11/
CATEGORIES:Gampopa
ATTACH;FMTTYPE=image/png:https://cebtg.ch/wp-content/uploads/2023/01/Gampopa-detail-16_9.png
END:VEVENT
BEGIN:VEVENT
DTSTART;TZID=Europe/Zurich:20260107T193000
DTEND;TZID=Europe/Zurich:20260107T203000
DTSTAMP:20260423T004833
CREATED:20251223T163616Z
LAST-MODIFIED:20260209T102031Z
UID:10001719-1767814200-1767817800@cebtg.ch
SUMMARY:Enseignement - Cycle Gampopa
DESCRIPTION:Enseignement – réflexion/intégration lié au « cycle Gampopa » et qui fait suis à l’enseignement donné le dimanche précédent par Acharya Kunchok Tenzin. 1er volet. \nhttps://cebtg.ch/activites/cycle-denseignement-autour-de-lornement-de-la-liberation/  \nAvec lama Djinpa Lodreu (Jean-Marc Falcombello) en présence à Vimalakirti.
URL:https://cebtg.ch/evenement/enseignement-cycle-gampopa-37/
CATEGORIES:Gampopa
ATTACH;FMTTYPE=image/png:https://cebtg.ch/wp-content/uploads/2023/01/Gampopa-detail-16_9.png
END:VEVENT
BEGIN:VEVENT
DTSTART;TZID=Europe/Zurich:20260114T193000
DTEND;TZID=Europe/Zurich:20260114T203000
DTSTAMP:20260423T004833
CREATED:20251223T163616Z
LAST-MODIFIED:20260209T102031Z
UID:10001726-1768419000-1768422600@cebtg.ch
SUMMARY:Enseignement - Cycle Gampopa
DESCRIPTION:Enseignement – réflexion/intégration lié au « cycle Gampopa » et qui fait suis à l’enseignement donné le dimanche précédent par Acharya Kunchok Tenzin. 2ème volet. \nhttps://cebtg.ch/activites/cycle-denseignement-autour-de-lornement-de-la-liberation/  \nAvec lama Djinpa Lodreu (Jean-Marc Falcombello) en présence à Vimalakirti.
URL:https://cebtg.ch/evenement/enseignement-cycle-gampopa-38/
CATEGORIES:Gampopa
ATTACH;FMTTYPE=image/png:https://cebtg.ch/wp-content/uploads/2023/01/Gampopa-detail-16_9.png
END:VEVENT
BEGIN:VEVENT
DTSTART;TZID=Europe/Zurich:20260201T100000
DTEND;TZID=Europe/Zurich:20260201T113000
DTSTAMP:20260423T004833
CREATED:20251223T163617Z
LAST-MODIFIED:20260320T212644Z
UID:10001739-1769940000-1769945400@cebtg.ch
SUMMARY:Cycle Gampopa དྭགས་པོའི་ཐར་རྒྱན། - étude du Dhagpo Thargyen\, l'Ornement de la Libération
DESCRIPTION:Une fois par mois le dimanche\, par Zoom\, l’Acharya Kunchok Tenzin transmet un enseignement sur L’Ornement de la Libération\, un texte fondamental de Gampopa\, le disciple du célèbre Milarépa et un des pères fondateurs de la lignée kagyu. \nCet enseignement fait partie du « Cycle d’enseignement autour de L’Ornement de la Libération » et sert de base à la constitution d’une éducation au Dharma fondée sur : 1) l’écoute\, 2) la réflexion et 3) l’intégration. De ce fait\, cet enseignement dominical est suivi par deux mercredis consacrés chacun à l’exercice de la réflexion et de l’intégration. \nL’enseignement du dimanche est donné en tibétain et est traduit en français par lama Djinpa Lodreu / Jean-Marc Falcombello.
URL:https://cebtg.ch/evenement/acharya-kunchok-tenzin-cycle-gampopa-12/
CATEGORIES:CEBTG,Gampopa
ATTACH;FMTTYPE=image/png:https://cebtg.ch/wp-content/uploads/2023/01/Gampopa-detail-16_9.png
END:VEVENT
BEGIN:VEVENT
DTSTART;TZID=Europe/Zurich:20260204T193000
DTEND;TZID=Europe/Zurich:20260204T203000
DTSTAMP:20260423T004833
CREATED:20251223T163618Z
LAST-MODIFIED:20260320T212644Z
UID:10001744-1770233400-1770237000@cebtg.ch
SUMMARY:Enseignement - Cycle Gampopa
DESCRIPTION:Enseignement – réflexion/intégration lié au « cycle Gampopa » et qui fait suis à l’enseignement donné le dimanche précédent par Acharya Kunchok Tenzin. 1er volet. \nhttps://cebtg.ch/activites/cycle-denseignement-autour-de-lornement-de-la-liberation/  \nAvec lama Djinpa Lodreu (Jean-Marc Falcombello) en présence à Vimalakirti.
URL:https://cebtg.ch/evenement/enseignement-cycle-gampopa-39/
CATEGORIES:CEBTG,Gampopa
ATTACH;FMTTYPE=image/jpeg:https://cebtg.ch/wp-content/uploads/2024/04/13818668-Dharma-Wheel-Dharmachakra-the-Buddhist-eight-fold-path-illustrated-in-a-wheel-Ba-Vang-Buddhist-Temple-Uong-Bi.jpg
END:VEVENT
BEGIN:VEVENT
DTSTART;TZID=Europe/Zurich:20260211T193000
DTEND;TZID=Europe/Zurich:20260211T203000
DTSTAMP:20260423T004833
CREATED:20251223T163618Z
LAST-MODIFIED:20260320T212644Z
UID:10001749-1770838200-1770841800@cebtg.ch
SUMMARY:Enseignement - Cycle Gampopa
DESCRIPTION:Enseignement – réflexion/intégration lié au « cycle Gampopa » et qui fait suis à l’enseignement donné le dimanche précédent par Acharya Kunchok Tenzin. 2ème volet. \nhttps://cebtg.ch/activites/cycle-denseignement-autour-de-lornement-de-la-liberation/  \nAvec lama Djinpa Lodreu (Jean-Marc Falcombello) en présence à Vimalakirti.
URL:https://cebtg.ch/evenement/enseignement-cycle-gampopa-40/
CATEGORIES:CEBTG,Gampopa
ATTACH;FMTTYPE=image/jpeg:https://cebtg.ch/wp-content/uploads/2024/04/13818668-Dharma-Wheel-Dharmachakra-the-Buddhist-eight-fold-path-illustrated-in-a-wheel-Ba-Vang-Buddhist-Temple-Uong-Bi.jpg
END:VEVENT
BEGIN:VEVENT
DTSTART;TZID=Europe/Zurich:20260301T100000
DTEND;TZID=Europe/Zurich:20260301T113000
DTSTAMP:20260423T004833
CREATED:20260125T102648Z
LAST-MODIFIED:20260320T212646Z
UID:10001823-1772359200-1772364600@cebtg.ch
SUMMARY:Cycle Gampopa དྭགས་པོའི་ཐར་རྒྱན། - étude du Dhagpo Thargyen\, l'Ornement de la Libération
DESCRIPTION:Une fois par mois le dimanche\, par Zoom\, l’Acharya Kunchok Tenzin transmet un enseignement sur L’Ornement de la Libération\, un texte fondamental de Gampopa\, le disciple du célèbre Milarépa et un des pères fondateurs de la lignée kagyu. \nCet enseignement fait partie du « Cycle d’enseignement autour de L’Ornement de la Libération » et sert de base à la constitution d’une éducation au Dharma fondée sur : 1) l’écoute\, 2) la réflexion et 3) l’intégration. De ce fait\, cet enseignement dominical est suivi par deux mercredis consacrés chacun à l’exercice de la réflexion et de l’intégration. \nL’enseignement du dimanche est donné en tibétain et est traduit en français par lama Djinpa Lodreu / Jean-Marc Falcombello.
URL:https://cebtg.ch/evenement/cycle-gampopa-%e0%bd%91%e0%be%ad%e0%bd%82%e0%bd%a6%e0%bc%8b%e0%bd%94%e0%bd%bc%e0%bd%a0%e0%bd%b2%e0%bc%8b%e0%bd%90%e0%bd%a2%e0%bc%8b%e0%bd%a2%e0%be%92%e0%be%b1%e0%bd%93%e0%bc%8d-etude-du-dhagpo-tharg/
CATEGORIES:CEBTG,Gampopa
ATTACH;FMTTYPE=image/png:https://cebtg.ch/wp-content/uploads/2023/01/Gampopa-detail-16_9.png
END:VEVENT
BEGIN:VEVENT
DTSTART;TZID=Europe/Zurich:20260304T193000
DTEND;TZID=Europe/Zurich:20260304T203000
DTSTAMP:20260423T004833
CREATED:20251223T163621Z
LAST-MODIFIED:20260320T212646Z
UID:10001771-1772652600-1772656200@cebtg.ch
SUMMARY:Enseignement - Cycle Gampopa
DESCRIPTION:Enseignement – réflexion/intégration lié au « cycle Gampopa » et qui fait suis à l’enseignement donné le dimanche précédent par Acharya Kunchok Tenzin. 1er volet. \nhttps://cebtg.ch/activites/cycle-denseignement-autour-de-lornement-de-la-liberation/  \nAvec lama Djinpa Lodreu (Jean-Marc Falcombello) en présence à Vimalakirti.
URL:https://cebtg.ch/evenement/enseignement-cycle-gampopa-41/
CATEGORIES:CEBTG,Gampopa
ATTACH;FMTTYPE=image/jpeg:https://cebtg.ch/wp-content/uploads/2024/04/13818668-Dharma-Wheel-Dharmachakra-the-Buddhist-eight-fold-path-illustrated-in-a-wheel-Ba-Vang-Buddhist-Temple-Uong-Bi.jpg
END:VEVENT
BEGIN:VEVENT
DTSTART;TZID=Europe/Zurich:20260318T193000
DTEND;TZID=Europe/Zurich:20260318T203000
DTSTAMP:20260423T004833
CREATED:20260305T162646Z
LAST-MODIFIED:20260320T212646Z
UID:10001880-1773862200-1773865800@cebtg.ch
SUMMARY:Enseignement - Cycle Gampopa
DESCRIPTION:Enseignement – réflexion/intégration lié au « cycle Gampopa » et qui fait suis à l’enseignement donné le dimanche précédent par Acharya Kunchok Tenzin. 1er volet. \nhttps://cebtg.ch/activites/cycle-denseignement-autour-de-lornement-de-la-liberation/  \nAvec lama Djinpa Lodreu (Jean-Marc Falcombello) en présence à Vimalakirti.
URL:https://cebtg.ch/evenement/enseignement-cycle-gampopa-46/
CATEGORIES:CEBTG,Gampopa
ATTACH;FMTTYPE=image/png:https://cebtg.ch/wp-content/uploads/2023/01/Gampopa-detail-16_9.png
END:VEVENT
BEGIN:VEVENT
DTSTART;TZID=Europe/Zurich:20260404T100000
DTEND;TZID=Europe/Zurich:20260404T113000
DTSTAMP:20260423T004833
CREATED:20260125T105243Z
LAST-MODIFIED:20260422T224145Z
UID:10001829-1775296800-1775302200@cebtg.ch
SUMMARY:Cycle Gampopa དྭགས་པོའི་ཐར་རྒྱན། - étude du Dhagpo Thargyen\, l'Ornement de la Libération
DESCRIPTION:Une fois par mois le dimanche\, par Zoom\, l’Acharya Kunchok Tenzin transmet un enseignement sur L’Ornement de la Libération\, un texte fondamental de Gampopa\, le disciple du célèbre Milarépa et un des pères fondateurs de la lignée kagyu. \nCet enseignement fait partie du « Cycle d’enseignement autour de L’Ornement de la Libération » et sert de base à la constitution d’une éducation au Dharma fondée sur : 1) l’écoute\, 2) la réflexion et 3) l’intégration. De ce fait\, cet enseignement dominical est suivi par deux mercredis consacrés chacun à l’exercice de la réflexion et de l’intégration. \nL’enseignement du dimanche est donné en tibétain et est traduit en français par lama Djinpa Lodreu / Jean-Marc Falcombello.
URL:https://cebtg.ch/evenement/cycle-gampopa-%e0%bd%91%e0%be%ad%e0%bd%82%e0%bd%a6%e0%bc%8b%e0%bd%94%e0%bd%bc%e0%bd%a0%e0%bd%b2%e0%bc%8b%e0%bd%90%e0%bd%a2%e0%bc%8b%e0%bd%a2%e0%be%92%e0%be%b1%e0%bd%93%e0%bc%8d-etude-du-dhagpo-tharg-2/
CATEGORIES:Calme Mental,CEBTG,Gampopa
ATTACH;FMTTYPE=image/png:https://cebtg.ch/wp-content/uploads/2023/01/Gampopa-detail-16_9.png
END:VEVENT
BEGIN:VEVENT
DTSTART;TZID=Europe/Zurich:20260408T193000
DTEND;TZID=Europe/Zurich:20260408T203000
DTSTAMP:20260423T004833
CREATED:20260125T105244Z
LAST-MODIFIED:20260422T224145Z
UID:10001834-1775676600-1775680200@cebtg.ch
SUMMARY:Enseignement - Cycle Gampopa
DESCRIPTION:Enseignement – réflexion/intégration lié au « cycle Gampopa » et qui fait suis à l’enseignement donné le dimanche précédent par Khenpo Rigzin. 1er volet. \nhttps://cebtg.ch/activites/cycle-denseignement-autour-de-lornement-de-la-liberation/  \nAvec lama Djinpa Lodreu (Jean-Marc Falcombello) en présence à Vimalakirti.
URL:https://cebtg.ch/evenement/enseignement-cycle-gampopa-43/
CATEGORIES:Calme Mental,CEBTG,Gampopa
ATTACH;FMTTYPE=image/jpeg:https://cebtg.ch/wp-content/uploads/2024/04/13818668-Dharma-Wheel-Dharmachakra-the-Buddhist-eight-fold-path-illustrated-in-a-wheel-Ba-Vang-Buddhist-Temple-Uong-Bi.jpg
END:VEVENT
BEGIN:VEVENT
DTSTART;TZID=Europe/Zurich:20260503T100000
DTEND;TZID=Europe/Zurich:20260503T113000
DTSTAMP:20260423T004833
CREATED:20260125T105246Z
LAST-MODIFIED:20260422T224147Z
UID:10001853-1777802400-1777807800@cebtg.ch
SUMMARY:Cycle Gampopa དྭགས་པོའི་ཐར་རྒྱན། - étude du Dhagpo Thargyen\, l'Ornement de la Libération
DESCRIPTION:Une fois par mois le dimanche\, par Zoom\, l’Acharya Kunchok Tenzin transmet un enseignement sur L’Ornement de la Libération\, un texte fondamental de Gampopa\, le disciple du célèbre Milarépa et un des pères fondateurs de la lignée kagyu. \nCet enseignement fait partie du « Cycle d’enseignement autour de L’Ornement de la Libération » et sert de base à la constitution d’une éducation au Dharma fondée sur : 1) l’écoute\, 2) la réflexion et 3) l’intégration. De ce fait\, cet enseignement dominical est suivi par deux mercredis consacrés chacun à l’exercice de la réflexion et de l’intégration. \nL’enseignement du dimanche est donné en tibétain et est traduit en français par lama Djinpa Lodreu / Jean-Marc Falcombello.
URL:https://cebtg.ch/evenement/cycle-gampopa-%e0%bd%91%e0%be%ad%e0%bd%82%e0%bd%a6%e0%bc%8b%e0%bd%94%e0%bd%bc%e0%bd%a0%e0%bd%b2%e0%bc%8b%e0%bd%90%e0%bd%a2%e0%bc%8b%e0%bd%a2%e0%be%92%e0%be%b1%e0%bd%93%e0%bc%8d-etude-du-dhagpo-tharg-3/
CATEGORIES:Calme Mental,CEBTG,Gampopa
ATTACH;FMTTYPE=image/png:https://cebtg.ch/wp-content/uploads/2023/01/Gampopa-detail-16_9.png
END:VEVENT
END:VCALENDAR