BEGIN:VCALENDAR
VERSION:2.0
PRODID:-//Centre d&#039;Etudes du Bouddhisme Tibétain de Genève - ECPv6.15.20//NONSGML v1.0//EN
CALSCALE:GREGORIAN
METHOD:PUBLISH
X-WR-CALNAME:Centre d&#039;Etudes du Bouddhisme Tibétain de Genève
X-ORIGINAL-URL:https://cebtg.ch
X-WR-CALDESC:Évènements pour Centre d&#039;Etudes du Bouddhisme Tibétain de Genève
REFRESH-INTERVAL;VALUE=DURATION:PT1H
X-Robots-Tag:noindex
X-PUBLISHED-TTL:PT1H
BEGIN:VTIMEZONE
TZID:Europe/Zurich
BEGIN:DAYLIGHT
TZOFFSETFROM:+0100
TZOFFSETTO:+0200
TZNAME:CEST
DTSTART:20230326T010000
END:DAYLIGHT
BEGIN:STANDARD
TZOFFSETFROM:+0200
TZOFFSETTO:+0100
TZNAME:CET
DTSTART:20231029T010000
END:STANDARD
BEGIN:DAYLIGHT
TZOFFSETFROM:+0100
TZOFFSETTO:+0200
TZNAME:CEST
DTSTART:20240331T010000
END:DAYLIGHT
BEGIN:STANDARD
TZOFFSETFROM:+0200
TZOFFSETTO:+0100
TZNAME:CET
DTSTART:20241027T010000
END:STANDARD
BEGIN:DAYLIGHT
TZOFFSETFROM:+0100
TZOFFSETTO:+0200
TZNAME:CEST
DTSTART:20250330T010000
END:DAYLIGHT
BEGIN:STANDARD
TZOFFSETFROM:+0200
TZOFFSETTO:+0100
TZNAME:CET
DTSTART:20251026T010000
END:STANDARD
BEGIN:DAYLIGHT
TZOFFSETFROM:+0100
TZOFFSETTO:+0200
TZNAME:CEST
DTSTART:20260329T010000
END:DAYLIGHT
BEGIN:STANDARD
TZOFFSETFROM:+0200
TZOFFSETTO:+0100
TZNAME:CET
DTSTART:20261025T010000
END:STANDARD
END:VTIMEZONE
BEGIN:VEVENT
DTSTART;TZID=Europe/Zurich:20240904T193000
DTEND;TZID=Europe/Zurich:20240904T203000
DTSTAMP:20260421T173517
CREATED:20240821T110406Z
LAST-MODIFIED:20241204T154440Z
UID:10001048-1725478200-1725481800@cebtg.ch
SUMMARY:Enseignement
DESCRIPTION:Enseignement de lama Djinpa Lodreu (Jean-Marc Falcombello) en présence à Vimalakirti\, sur Zoom et Youtube. Thème libre.
URL:https://cebtg.ch/evenement/enseignement/
CATEGORIES:Enseignement
ATTACH;FMTTYPE=image/jpeg:https://cebtg.ch/wp-content/uploads/2023/04/IMG_5560.jpg
END:VEVENT
BEGIN:VEVENT
DTSTART;TZID=Europe/Zurich:20241002T193000
DTEND;TZID=Europe/Zurich:20241002T203000
DTSTAMP:20260421T173517
CREATED:20240821T110407Z
LAST-MODIFIED:20241204T154442Z
UID:10001069-1727897400-1727901000@cebtg.ch
SUMMARY:Enseignement - thème libre
DESCRIPTION:Enseignement de lama Djinpa Lodreu (Jean-Marc Falcombello) en présence à Vimalakirti\, sur Zoom et Youtube. Thème libre.
URL:https://cebtg.ch/evenement/enseignement-2/
CATEGORIES:Enseignement
ATTACH;FMTTYPE=image/jpeg:https://cebtg.ch/wp-content/uploads/2023/04/IMG_5560.jpg
END:VEVENT
BEGIN:VEVENT
DTSTART;TZID=Europe/Zurich:20241023T193000
DTEND;TZID=Europe/Zurich:20241023T203000
DTSTAMP:20260421T173517
CREATED:20240821T110408Z
LAST-MODIFIED:20241204T154443Z
UID:10001084-1729711800-1729715400@cebtg.ch
SUMMARY:Enseignement - thème libre
DESCRIPTION:Enseignement de lama Djinpa Lodreu (Jean-Marc Falcombello) en présence à Vimalakirti\, sur Zoom et Youtube. Thème libre.
URL:https://cebtg.ch/evenement/enseignement-3/
CATEGORIES:Enseignement
ATTACH;FMTTYPE=image/jpeg:https://cebtg.ch/wp-content/uploads/2023/04/IMG_5560.jpg
END:VEVENT
BEGIN:VEVENT
DTSTART;TZID=Europe/Zurich:20241030T193000
DTEND;TZID=Europe/Zurich:20241030T203000
DTSTAMP:20260421T173517
CREATED:20240821T110408Z
LAST-MODIFIED:20241204T154443Z
UID:10001089-1730316600-1730320200@cebtg.ch
SUMMARY:Enseignement - thème libre
DESCRIPTION:Enseignement de lama Djinpa Lodreu (Jean-Marc Falcombello) en présence à Vimalakirti\, sur Zoom et Youtube. Thème libre.
URL:https://cebtg.ch/evenement/enseignement-4/
CATEGORIES:Enseignement
ATTACH;FMTTYPE=image/jpeg:https://cebtg.ch/wp-content/uploads/2023/04/IMG_5560.jpg
END:VEVENT
BEGIN:VEVENT
DTSTART;TZID=Europe/Zurich:20241106T193000
DTEND;TZID=Europe/Zurich:20241106T203000
DTSTAMP:20260421T173517
CREATED:20240821T110409Z
LAST-MODIFIED:20241204T154443Z
UID:10001094-1730921400-1730925000@cebtg.ch
SUMMARY:Enseignement - thème libre
DESCRIPTION:Enseignement de lama Djinpa Lodreu (Jean-Marc Falcombello) en présence à Vimalakirti\, sur Zoom et Youtube. Thème libre.
URL:https://cebtg.ch/evenement/enseignement-5/
CATEGORIES:Enseignement
ATTACH;FMTTYPE=image/jpeg:https://cebtg.ch/wp-content/uploads/2023/04/IMG_5560.jpg
END:VEVENT
BEGIN:VEVENT
DTSTART;TZID=Europe/Zurich:20250903T193000
DTEND;TZID=Europe/Zurich:20250903T203000
DTSTAMP:20260421T173517
CREATED:20250831T104119Z
LAST-MODIFIED:20251002T084151Z
UID:10001402-1756927800-1756931400@cebtg.ch
SUMMARY:Enseignement - thème libre
DESCRIPTION:Enseignement de lama Djinpa Lodreu (Jean-Marc Falcombello) en présence à Vimalakirti\, sur Zoom et Youtube. Thème libre\, cet automne : la Prière à sept branches.Un fondement de la pratique bouddhisteDans le cadre des enseignements du CEBT Genève donnés par lama Jean-Marc Falcombello cet automne\, nous abordons l’étude et la réflexion autour de la Prière à Sept Branches (ཡན་ལག་བདུན་པ་ yenlak dünpa) qui constitue l’un des piliers de la pratique bouddhiste. Comme l’enseigne les maîtres de toutes les lignées\, cette prière « incarne l’essence de la pratique » car elle contient tous les points essentiels pour rassembler les accumulations et purifier les voiles.
URL:https://cebtg.ch/evenement/enseignement-theme-libre-17/
CATEGORIES:Enseignement
ATTACH;FMTTYPE=image/jpeg:https://cebtg.ch/wp-content/uploads/2023/04/IMG_5560.jpg
END:VEVENT
BEGIN:VEVENT
DTSTART;TZID=Europe/Zurich:20250910T193000
DTEND;TZID=Europe/Zurich:20250910T203000
DTSTAMP:20260421T173517
CREATED:20250831T141138Z
LAST-MODIFIED:20251002T084151Z
UID:10001516-1757532600-1757536200@cebtg.ch
SUMMARY:Enseignement - thème libre
DESCRIPTION:Enseignement de lama Djinpa Lodreu (Jean-Marc Falcombello) en présence à Vimalakirti\, sur Zoom et Youtube. Thème libre\, cet automne : la Prière à sept branches.Un fondement de la pratique bouddhisteDans le cadre des enseignements du CEBT Genève donnés par lama Jean-Marc Falcombello cet automne\, nous abordons l’étude et la réflexion autour de la Prière à Sept Branches (ཡན་ལག་བདུན་པ་ yenlak dünpa) qui constitue l’un des piliers de la pratique bouddhiste. Comme l’enseigne les maîtres de toutes les lignées\, cette prière « incarne l’essence de la pratique » car elle contient tous les points essentiels pour rassembler les accumulations et purifier les voiles.
URL:https://cebtg.ch/evenement/enseignement-theme-libre-25/
CATEGORIES:Enseignement
ATTACH;FMTTYPE=image/jpeg:https://cebtg.ch/wp-content/uploads/2023/04/IMG_5560.jpg
END:VEVENT
BEGIN:VEVENT
DTSTART;TZID=Europe/Zurich:20251001T193000
DTEND;TZID=Europe/Zurich:20251001T203000
DTSTAMP:20260421T173517
CREATED:20250831T141140Z
LAST-MODIFIED:20251002T084152Z
UID:10001518-1759347000-1759350600@cebtg.ch
SUMMARY:Enseignement - thème libre
DESCRIPTION:Enseignement de lama Djinpa Lodreu (Jean-Marc Falcombello) en présence à Vimalakirti\, sur Zoom et Youtube. Thème libre\, cet automne : la Prière à sept branches.Un fondement de la pratique bouddhisteDans le cadre des enseignements du CEBT Genève donnés par lama Jean-Marc Falcombello cet automne\, nous abordons l’étude et la réflexion autour de la Prière à Sept Branches (ཡན་ལག་བདུན་པ་ yenlak dünpa) qui constitue l’un des piliers de la pratique bouddhiste. Comme l’enseigne les maîtres de toutes les lignées\, cette prière « incarne l’essence de la pratique » car elle contient tous les points essentiels pour rassembler les accumulations et purifier les voiles.
URL:https://cebtg.ch/evenement/enseignement-theme-libre-26/
CATEGORIES:Enseignement
ATTACH;FMTTYPE=image/jpeg:https://cebtg.ch/wp-content/uploads/2023/04/IMG_5560.jpg
END:VEVENT
END:VCALENDAR