BEGIN:VCALENDAR
VERSION:2.0
PRODID:-//Centre d&#039;Etudes du Bouddhisme Tibétain de Genève - ECPv6.15.20//NONSGML v1.0//EN
CALSCALE:GREGORIAN
METHOD:PUBLISH
X-ORIGINAL-URL:https://cebtg.ch
X-WR-CALDESC:Évènements pour Centre d&#039;Etudes du Bouddhisme Tibétain de Genève
REFRESH-INTERVAL;VALUE=DURATION:PT1H
X-Robots-Tag:noindex
X-PUBLISHED-TTL:PT1H
BEGIN:VTIMEZONE
TZID:Europe/Zurich
BEGIN:DAYLIGHT
TZOFFSETFROM:+0100
TZOFFSETTO:+0200
TZNAME:CEST
DTSTART:20250330T010000
END:DAYLIGHT
BEGIN:STANDARD
TZOFFSETFROM:+0200
TZOFFSETTO:+0100
TZNAME:CET
DTSTART:20251026T010000
END:STANDARD
BEGIN:DAYLIGHT
TZOFFSETFROM:+0100
TZOFFSETTO:+0200
TZNAME:CEST
DTSTART:20260329T010000
END:DAYLIGHT
BEGIN:STANDARD
TZOFFSETFROM:+0200
TZOFFSETTO:+0100
TZNAME:CET
DTSTART:20261025T010000
END:STANDARD
BEGIN:DAYLIGHT
TZOFFSETFROM:+0100
TZOFFSETTO:+0200
TZNAME:CEST
DTSTART:20270328T010000
END:DAYLIGHT
BEGIN:STANDARD
TZOFFSETFROM:+0200
TZOFFSETTO:+0100
TZNAME:CET
DTSTART:20271031T010000
END:STANDARD
END:VTIMEZONE
BEGIN:VEVENT
DTSTART;TZID=Europe/Zurich:20260106T113000
DTEND;TZID=Europe/Zurich:20260106T123000
DTSTAMP:20260421T231638
CREATED:20251210T185646Z
LAST-MODIFIED:20260304T104306Z
UID:10001702-1767699000-1767702600@cebtg.ch
SUMMARY:Tib 1 - Tibétain
DESCRIPTION:Ce cours « débutant » s’adresse aux personnes qui n’ont aucune connaissance de l’alphabet tibétain et ne savent pas lire. À terme\, elles pourront rejoindre le cours intermédiaire.
URL:https://cebtg.ch/evenement/tib-1-tibetain-24/
CATEGORIES:Cours de tibétain
ATTACH;FMTTYPE=image/png:https://cebtg.ch/wp-content/uploads/2023/01/texte_tibetain_16_9.png
END:VEVENT
BEGIN:VEVENT
DTSTART;TZID=Europe/Zurich:20260108T120000
DTEND;TZID=Europe/Zurich:20260108T130000
DTSTAMP:20260421T231638
CREATED:20251210T185646Z
LAST-MODIFIED:20260304T104307Z
UID:10001703-1767873600-1767877200@cebtg.ch
SUMMARY:Tib 3 - Tibétain
DESCRIPTION:Le premier cours\, de 12h à 13h concerne l’analyse de texte. Il s’adresse à des étudiants avancés ayant déjà une certaine aisance dans la lecture d’un texte tibétain. L’enseignement s’appuie cette année sur la poursuite de l’étude de la prière de la conduite excellente\, Sangtcheu Monlam. Les leçons sont disponibles en replay pour les personnes qui souhaiteraient reprendre depuis le début.
URL:https://cebtg.ch/evenement/tib-3-tibetain-45/
CATEGORIES:Cours de tibétain
ATTACH;FMTTYPE=image/png:https://cebtg.ch/wp-content/uploads/2023/01/texte_tibetain_16_9.png
END:VEVENT
BEGIN:VEVENT
DTSTART;TZID=Europe/Zurich:20260108T131500
DTEND;TZID=Europe/Zurich:20260108T141500
DTSTAMP:20260421T231638
CREATED:20251210T185646Z
LAST-MODIFIED:20260304T104307Z
UID:10001704-1767878100-1767881700@cebtg.ch
SUMMARY:Tib 2 - Tibétain
DESCRIPTION:Le deuxième cours\, de 13h15 à 14h15\, concerne l’apprentissage de la lecture pour des débutants ou des personnes désireuses de parfaire leur capacité. La méthode employée est une méthode contextuelle développée spécifiquement\, qui consiste à apprendre les lettres directement dans le texte. C’est une sorte d’apprentissage « sur le terrain ». Cette année nous étudierons le sūtra de la pousse de riz. Les leçons sont disponibles en replay pour les personnes qui souhaiteraient reprendre depuis le début.
URL:https://cebtg.ch/evenement/tib-2-tibetain-36/
CATEGORIES:Cours de tibétain
ATTACH;FMTTYPE=image/png:https://cebtg.ch/wp-content/uploads/2023/01/texte_tibetain_16_9.png
END:VEVENT
BEGIN:VEVENT
DTSTART;TZID=Europe/Zurich:20260115T120000
DTEND;TZID=Europe/Zurich:20260115T130000
DTSTAMP:20260421T231638
CREATED:20251210T185646Z
LAST-MODIFIED:20260304T104307Z
UID:10001705-1768478400-1768482000@cebtg.ch
SUMMARY:Tib 3 - Tibétain
DESCRIPTION:Le premier cours\, de 12h à 13h concerne l’analyse de texte. Il s’adresse à des étudiants avancés ayant déjà une certaine aisance dans la lecture d’un texte tibétain. L’enseignement s’appuie cette année sur la poursuite de l’étude de la prière de la conduite excellente\, Sangtcheu Monlam. Les leçons sont disponibles en replay pour les personnes qui souhaiteraient reprendre depuis le début.
URL:https://cebtg.ch/evenement/tib-3-tibetain-46/
CATEGORIES:Cours de tibétain
ATTACH;FMTTYPE=image/png:https://cebtg.ch/wp-content/uploads/2023/01/texte_tibetain_16_9.png
END:VEVENT
BEGIN:VEVENT
DTSTART;TZID=Europe/Zurich:20260115T131500
DTEND;TZID=Europe/Zurich:20260115T141500
DTSTAMP:20260421T231638
CREATED:20251210T185646Z
LAST-MODIFIED:20260304T104307Z
UID:10001706-1768482900-1768486500@cebtg.ch
SUMMARY:Tib 2 - Tibétain
DESCRIPTION:Le deuxième cours\, de 13h15 à 14h15\, concerne l’apprentissage de la lecture pour des débutants ou des personnes désireuses de parfaire leur capacité. La méthode employée est une méthode contextuelle développée spécifiquement\, qui consiste à apprendre les lettres directement dans le texte. C’est une sorte d’apprentissage « sur le terrain ». Cette année nous étudierons le sūtra de la pousse de riz. Les leçons sont disponibles en replay pour les personnes qui souhaiteraient reprendre depuis le début.
URL:https://cebtg.ch/evenement/tib-2-tibetain-37/
CATEGORIES:Cours de tibétain
ATTACH;FMTTYPE=image/png:https://cebtg.ch/wp-content/uploads/2023/01/texte_tibetain_16_9.png
END:VEVENT
BEGIN:VEVENT
DTSTART;TZID=Europe/Zurich:20260120T113000
DTEND;TZID=Europe/Zurich:20260120T123000
DTSTAMP:20260421T231638
CREATED:20251210T185647Z
LAST-MODIFIED:20260304T104307Z
UID:10001707-1768908600-1768912200@cebtg.ch
SUMMARY:Tib 1 - Tibétain
DESCRIPTION:Ce cours « débutant » s’adresse aux personnes qui n’ont aucune connaissance de l’alphabet tibétain et ne savent pas lire. À terme\, elles pourront rejoindre le cours intermédiaire.
URL:https://cebtg.ch/evenement/tib-1-tibetain-25/
CATEGORIES:Cours de tibétain
ATTACH;FMTTYPE=image/png:https://cebtg.ch/wp-content/uploads/2023/01/texte_tibetain_16_9.png
END:VEVENT
BEGIN:VEVENT
DTSTART;TZID=Europe/Zurich:20260122T120000
DTEND;TZID=Europe/Zurich:20260122T130000
DTSTAMP:20260421T231638
CREATED:20251210T185647Z
LAST-MODIFIED:20260304T104307Z
UID:10001708-1769083200-1769086800@cebtg.ch
SUMMARY:Tib 3 - Tibétain
DESCRIPTION:Le premier cours\, de 12h à 13h concerne l’analyse de texte. Il s’adresse à des étudiants avancés ayant déjà une certaine aisance dans la lecture d’un texte tibétain. L’enseignement s’appuie cette année sur la poursuite de l’étude de la prière de la conduite excellente\, Sangtcheu Monlam. Les leçons sont disponibles en replay pour les personnes qui souhaiteraient reprendre depuis le début.
URL:https://cebtg.ch/evenement/tib-3-tibetain-47/
CATEGORIES:Cours de tibétain
ATTACH;FMTTYPE=image/png:https://cebtg.ch/wp-content/uploads/2023/01/texte_tibetain_16_9.png
END:VEVENT
BEGIN:VEVENT
DTSTART;TZID=Europe/Zurich:20260122T131500
DTEND;TZID=Europe/Zurich:20260122T141500
DTSTAMP:20260421T231638
CREATED:20251210T185647Z
LAST-MODIFIED:20260304T104307Z
UID:10001709-1769087700-1769091300@cebtg.ch
SUMMARY:Tib 2 - Tibétain
DESCRIPTION:Le deuxième cours\, de 13h15 à 14h15\, concerne l’apprentissage de la lecture pour des débutants ou des personnes désireuses de parfaire leur capacité. La méthode employée est une méthode contextuelle développée spécifiquement\, qui consiste à apprendre les lettres directement dans le texte. C’est une sorte d’apprentissage « sur le terrain ». Cette année nous étudierons le sūtra de la pousse de riz. Les leçons sont disponibles en replay pour les personnes qui souhaiteraient reprendre depuis le début.
URL:https://cebtg.ch/evenement/tib-2-tibetain-38/
CATEGORIES:Cours de tibétain
ATTACH;FMTTYPE=image/png:https://cebtg.ch/wp-content/uploads/2023/01/texte_tibetain_16_9.png
END:VEVENT
BEGIN:VEVENT
DTSTART;TZID=Europe/Zurich:20260129T120000
DTEND;TZID=Europe/Zurich:20260129T130000
DTSTAMP:20260421T231638
CREATED:20251210T185647Z
LAST-MODIFIED:20260304T104307Z
UID:10001710-1769688000-1769691600@cebtg.ch
SUMMARY:Tib 3 - Tibétain
DESCRIPTION:Le premier cours\, de 12h à 13h concerne l’analyse de texte. Il s’adresse à des étudiants avancés ayant déjà une certaine aisance dans la lecture d’un texte tibétain. L’enseignement s’appuie cette année sur la poursuite de l’étude de la prière de la conduite excellente\, Sangtcheu Monlam. Les leçons sont disponibles en replay pour les personnes qui souhaiteraient reprendre depuis le début.
URL:https://cebtg.ch/evenement/tib-3-tibetain-48/
CATEGORIES:Cours de tibétain
ATTACH;FMTTYPE=image/png:https://cebtg.ch/wp-content/uploads/2023/01/texte_tibetain_16_9.png
END:VEVENT
BEGIN:VEVENT
DTSTART;TZID=Europe/Zurich:20260129T131500
DTEND;TZID=Europe/Zurich:20260129T141500
DTSTAMP:20260421T231638
CREATED:20251210T185647Z
LAST-MODIFIED:20260304T104307Z
UID:10001711-1769692500-1769696100@cebtg.ch
SUMMARY:Tib 2 - Tibétain
DESCRIPTION:Le deuxième cours\, de 13h15 à 14h15\, concerne l’apprentissage de la lecture pour des débutants ou des personnes désireuses de parfaire leur capacité. La méthode employée est une méthode contextuelle développée spécifiquement\, qui consiste à apprendre les lettres directement dans le texte. C’est une sorte d’apprentissage « sur le terrain ». Cette année nous étudierons le sūtra de la pousse de riz. Les leçons sont disponibles en replay pour les personnes qui souhaiteraient reprendre depuis le début.
URL:https://cebtg.ch/evenement/tib-2-tibetain-39/
CATEGORIES:Cours de tibétain
ATTACH;FMTTYPE=image/png:https://cebtg.ch/wp-content/uploads/2023/01/texte_tibetain_16_9.png
END:VEVENT
END:VCALENDAR