BEGIN:VCALENDAR
VERSION:2.0
PRODID:-//Centre d&#039;Etudes du Bouddhisme Tibétain de Genève - ECPv6.15.20//NONSGML v1.0//EN
CALSCALE:GREGORIAN
METHOD:PUBLISH
X-ORIGINAL-URL:https://cebtg.ch
X-WR-CALDESC:Évènements pour Centre d&#039;Etudes du Bouddhisme Tibétain de Genève
REFRESH-INTERVAL;VALUE=DURATION:PT1H
X-Robots-Tag:noindex
X-PUBLISHED-TTL:PT1H
BEGIN:VTIMEZONE
TZID:Europe/Zurich
BEGIN:DAYLIGHT
TZOFFSETFROM:+0100
TZOFFSETTO:+0200
TZNAME:CEST
DTSTART:20240331T010000
END:DAYLIGHT
BEGIN:STANDARD
TZOFFSETFROM:+0200
TZOFFSETTO:+0100
TZNAME:CET
DTSTART:20241027T010000
END:STANDARD
BEGIN:DAYLIGHT
TZOFFSETFROM:+0100
TZOFFSETTO:+0200
TZNAME:CEST
DTSTART:20250330T010000
END:DAYLIGHT
BEGIN:STANDARD
TZOFFSETFROM:+0200
TZOFFSETTO:+0100
TZNAME:CET
DTSTART:20251026T010000
END:STANDARD
BEGIN:DAYLIGHT
TZOFFSETFROM:+0100
TZOFFSETTO:+0200
TZNAME:CEST
DTSTART:20260329T010000
END:DAYLIGHT
BEGIN:STANDARD
TZOFFSETFROM:+0200
TZOFFSETTO:+0100
TZNAME:CET
DTSTART:20261025T010000
END:STANDARD
END:VTIMEZONE
BEGIN:VEVENT
DTSTART;TZID=Europe/Zurich:20250902T120000
DTEND;TZID=Europe/Zurich:20250902T130000
DTSTAMP:20260424T002713
CREATED:20250831T064142Z
LAST-MODIFIED:20251002T093748Z
UID:10001366-1756814400-1756818000@cebtg.ch
SUMMARY:Tib 3 - Tibétain
DESCRIPTION:Le premier cours\, de 12h à 13h concerne l’analyse de texte. Il s’adresse à des étudiants avancés ayant déjà une certaine aisance dans la lecture d’un texte tibétain. L’enseignement s’appuie cette année sur la poursuite de l’étude de la prière de la conduite excellente\, Sangtcheu Monlam. Les leçons sont disponibles en replay pour les personnes qui souhaiteraient reprendre depuis le début.
URL:https://cebtg.ch/evenement/tib-3-tibetain-6/
CATEGORIES:Cours de tibétain,Tibétain
ATTACH;FMTTYPE=image/png:https://cebtg.ch/wp-content/uploads/2023/01/texte_tibetain_16_9.png
END:VEVENT
BEGIN:VEVENT
DTSTART;TZID=Europe/Zurich:20250902T120000
DTEND;TZID=Europe/Zurich:20250902T130000
DTSTAMP:20260424T002713
CREATED:20251002T093534Z
LAST-MODIFIED:20260304T104304Z
UID:10001652-1756814400-1756818000@cebtg.ch
SUMMARY:Tib 3 - Tibétain
DESCRIPTION:Le premier cours\, de 12h à 13h concerne l’analyse de texte. Il s’adresse à des étudiants avancés ayant déjà une certaine aisance dans la lecture d’un texte tibétain. L’enseignement s’appuie cette année sur la poursuite de l’étude de la prière de la conduite excellente\, Sangtcheu Monlam. Les leçons sont disponibles en replay pour les personnes qui souhaiteraient reprendre depuis le début.
URL:https://cebtg.ch/evenement/tib-3-tibetain-30/
CATEGORIES:Cours de tibétain
ATTACH;FMTTYPE=image/png:https://cebtg.ch/wp-content/uploads/2023/01/texte_tibetain_16_9.png
END:VEVENT
BEGIN:VEVENT
DTSTART;TZID=Europe/Zurich:20250902T131500
DTEND;TZID=Europe/Zurich:20250902T141500
DTSTAMP:20260424T002713
CREATED:20251002T093534Z
LAST-MODIFIED:20260304T104304Z
UID:10001653-1756818900-1756822500@cebtg.ch
SUMMARY:Tib 2 - Tibétain
DESCRIPTION:Le deuxième cours\, de 13h15 à 14h15\, concerne l’apprentissage de la lecture pour des débutants ou des personnes désireuses de parfaire leur capacité. La méthode employée est une méthode contextuelle développée spécifiquement\, qui consiste à apprendre les lettres directement dans le texte. C’est une sorte d’apprentissage « sur le terrain ». Cette année nous étudierons le sūtra de la pousse de riz. Les leçons sont disponibles en replay pour les personnes qui souhaiteraient reprendre depuis le début.
URL:https://cebtg.ch/evenement/tib-2-tibetain-21/
CATEGORIES:Cours de tibétain
ATTACH;FMTTYPE=image/png:https://cebtg.ch/wp-content/uploads/2023/01/texte_tibetain_16_9.png
END:VEVENT
BEGIN:VEVENT
DTSTART;TZID=Europe/Zurich:20250905T113000
DTEND;TZID=Europe/Zurich:20250905T123000
DTSTAMP:20260424T002713
CREATED:20250831T064142Z
LAST-MODIFIED:20251002T093748Z
UID:10001368-1757071800-1757075400@cebtg.ch
SUMMARY:Tib 1 - Tibétain
DESCRIPTION:Ce cours « débutant » s’adresse aux personnes qui n’ont aucune connaissance de l’alphabet tibétain et ne savent pas lire. À terme\, elles pourront rejoindre le cours intermédiaire.
URL:https://cebtg.ch/evenement/tib-1-tibetain-5/
CATEGORIES:Cours de tibétain,Tibétain
ATTACH;FMTTYPE=image/png:https://cebtg.ch/wp-content/uploads/2023/01/texte_tibetain_16_9.png
END:VEVENT
BEGIN:VEVENT
DTSTART;TZID=Europe/Zurich:20250905T113000
DTEND;TZID=Europe/Zurich:20250905T123000
DTSTAMP:20260424T002713
CREATED:20251002T093534Z
LAST-MODIFIED:20260304T104304Z
UID:10001654-1757071800-1757075400@cebtg.ch
SUMMARY:Tib 1 - Tibétain
DESCRIPTION:Ce cours « débutant » s’adresse aux personnes qui n’ont aucune connaissance de l’alphabet tibétain et ne savent pas lire. À terme\, elles pourront rejoindre le cours intermédiaire.
URL:https://cebtg.ch/evenement/tib-1-tibetain-14/
CATEGORIES:Cours de tibétain
ATTACH;FMTTYPE=image/png:https://cebtg.ch/wp-content/uploads/2023/01/texte_tibetain_16_9.png
END:VEVENT
BEGIN:VEVENT
DTSTART;TZID=Europe/Zurich:20250911T120000
DTEND;TZID=Europe/Zurich:20250911T130000
DTSTAMP:20260424T002713
CREATED:20250831T064142Z
LAST-MODIFIED:20251002T093710Z
UID:10001369-1757592000-1757595600@cebtg.ch
SUMMARY:Tib 3 - Tibétain
DESCRIPTION:Le premier cours\, de 12h à 13h concerne l’analyse de texte. Il s’adresse à des étudiants avancés ayant déjà une certaine aisance dans la lecture d’un texte tibétain. L’enseignement s’appuie cette année sur l’étude du texte des 37 pratiques des bodhisattvas. Les leçons sont disponibles en replay pour les personnes qui souhaiteraient reprendre depuis le début.
URL:https://cebtg.ch/evenement/tib-3-tibetain-7/
CATEGORIES:Cours de tibétain,Tibétain
ATTACH;FMTTYPE=image/png:https://cebtg.ch/wp-content/uploads/2023/01/texte_tibetain_16_9.png
END:VEVENT
BEGIN:VEVENT
DTSTART;TZID=Europe/Zurich:20250911T120000
DTEND;TZID=Europe/Zurich:20250911T130000
DTSTAMP:20260424T002713
CREATED:20251002T093534Z
LAST-MODIFIED:20260304T104304Z
UID:10001655-1757592000-1757595600@cebtg.ch
SUMMARY:Tib 3 - Tibétain
DESCRIPTION:Le premier cours\, de 12h à 13h concerne l’analyse de texte. Il s’adresse à des étudiants avancés ayant déjà une certaine aisance dans la lecture d’un texte tibétain. L’enseignement s’appuie cette année sur l’étude du texte des 37 pratiques des bodhisattvas. Les leçons sont disponibles en replay pour les personnes qui souhaiteraient reprendre depuis le début.
URL:https://cebtg.ch/evenement/tib-3-tibetain-31/
CATEGORIES:Cours de tibétain
ATTACH;FMTTYPE=image/png:https://cebtg.ch/wp-content/uploads/2023/01/texte_tibetain_16_9.png
END:VEVENT
BEGIN:VEVENT
DTSTART;TZID=Europe/Zurich:20250911T131500
DTEND;TZID=Europe/Zurich:20250911T141500
DTSTAMP:20260424T002713
CREATED:20250831T064142Z
LAST-MODIFIED:20251002T093710Z
UID:10001370-1757596500-1757600100@cebtg.ch
SUMMARY:Tib 2 - Tibétain
DESCRIPTION:Le deuxième cours\, de 13h15 à 14h15\, concerne l’apprentissage de la lecture pour des débutants ou des personnes désireuses de parfaire leur capacité. La méthode employée est une méthode contextuelle développée spécifiquement\, qui consiste à apprendre les lettres directement dans le texte. C’est une sorte d’apprentissage « sur le terrain ». Cette année nous étudierons le sūtra de la pousse de riz. Les leçons sont disponibles en replay pour les personnes qui souhaiteraient reprendre depuis le début.
URL:https://cebtg.ch/evenement/tib-2-tibetain-8/
CATEGORIES:Cours de tibétain,Tibétain
ATTACH;FMTTYPE=image/png:https://cebtg.ch/wp-content/uploads/2023/01/texte_tibetain_16_9.png
END:VEVENT
BEGIN:VEVENT
DTSTART;TZID=Europe/Zurich:20250911T131500
DTEND;TZID=Europe/Zurich:20250911T141500
DTSTAMP:20260424T002713
CREATED:20251002T093534Z
LAST-MODIFIED:20260304T104304Z
UID:10001656-1757596500-1757600100@cebtg.ch
SUMMARY:Tib 2 - Tibétain
DESCRIPTION:Le deuxième cours\, de 13h15 à 14h15\, concerne l’apprentissage de la lecture pour des débutants ou des personnes désireuses de parfaire leur capacité. La méthode employée est une méthode contextuelle développée spécifiquement\, qui consiste à apprendre les lettres directement dans le texte. C’est une sorte d’apprentissage « sur le terrain ». Cette année nous étudierons le sūtra de la pousse de riz. Les leçons sont disponibles en replay pour les personnes qui souhaiteraient reprendre depuis le début.
URL:https://cebtg.ch/evenement/tib-2-tibetain-22/
CATEGORIES:Cours de tibétain
ATTACH;FMTTYPE=image/png:https://cebtg.ch/wp-content/uploads/2023/01/texte_tibetain_16_9.png
END:VEVENT
BEGIN:VEVENT
DTSTART;TZID=Europe/Zurich:20250916T120000
DTEND;TZID=Europe/Zurich:20250916T130000
DTSTAMP:20260424T002713
CREATED:20250831T134459Z
LAST-MODIFIED:20251002T093710Z
UID:10001501-1758024000-1758027600@cebtg.ch
SUMMARY:Tib 3 - Tibétain
DESCRIPTION:Le premier cours\, de 12h à 13h concerne l’analyse de texte. Il s’adresse à des étudiants avancés ayant déjà une certaine aisance dans la lecture d’un texte tibétain. L’enseignement s’appuie cette année sur la poursuite de l’étude de la prière de la conduite excellente\, Sangtcheu Monlam. Les leçons sont disponibles en replay pour les personnes qui souhaiteraient reprendre depuis le début.
URL:https://cebtg.ch/evenement/tib-3-tibetain-18/
CATEGORIES:Cours de tibétain,Tibétain
ATTACH;FMTTYPE=image/png:https://cebtg.ch/wp-content/uploads/2023/01/texte_tibetain_16_9.png
END:VEVENT
BEGIN:VEVENT
DTSTART;TZID=Europe/Zurich:20250916T120000
DTEND;TZID=Europe/Zurich:20250916T130000
DTSTAMP:20260424T002713
CREATED:20251002T093534Z
LAST-MODIFIED:20260304T104304Z
UID:10001657-1758024000-1758027600@cebtg.ch
SUMMARY:Tib 3 - Tibétain
DESCRIPTION:Le premier cours\, de 12h à 13h concerne l’analyse de texte. Il s’adresse à des étudiants avancés ayant déjà une certaine aisance dans la lecture d’un texte tibétain. L’enseignement s’appuie cette année sur la poursuite de l’étude de la prière de la conduite excellente\, Sangtcheu Monlam. Les leçons sont disponibles en replay pour les personnes qui souhaiteraient reprendre depuis le début.
URL:https://cebtg.ch/evenement/tib-3-tibetain-32/
CATEGORIES:Cours de tibétain
ATTACH;FMTTYPE=image/png:https://cebtg.ch/wp-content/uploads/2023/01/texte_tibetain_16_9.png
END:VEVENT
BEGIN:VEVENT
DTSTART;TZID=Europe/Zurich:20250916T131500
DTEND;TZID=Europe/Zurich:20250916T141500
DTSTAMP:20260424T002713
CREATED:20250831T064142Z
LAST-MODIFIED:20251002T093710Z
UID:10001372-1758028500-1758032100@cebtg.ch
SUMMARY:Tib 2 - Tibétain
DESCRIPTION:Le deuxième cours\, de 13h15 à 14h15\, concerne l’apprentissage de la lecture pour des débutants ou des personnes désireuses de parfaire leur capacité. La méthode employée est une méthode contextuelle développée spécifiquement\, qui consiste à apprendre les lettres directement dans le texte. C’est une sorte d’apprentissage « sur le terrain ». Cette année nous étudierons le sūtra de la pousse de riz. Les leçons sont disponibles en replay pour les personnes qui souhaiteraient reprendre depuis le début.
URL:https://cebtg.ch/evenement/tib-2-tibetain-9/
CATEGORIES:Cours de tibétain,Tibétain
ATTACH;FMTTYPE=image/png:https://cebtg.ch/wp-content/uploads/2023/01/texte_tibetain_16_9.png
END:VEVENT
BEGIN:VEVENT
DTSTART;TZID=Europe/Zurich:20250916T131500
DTEND;TZID=Europe/Zurich:20250916T141500
DTSTAMP:20260424T002713
CREATED:20251002T093534Z
LAST-MODIFIED:20260304T104304Z
UID:10001658-1758028500-1758032100@cebtg.ch
SUMMARY:Tib 2 - Tibétain
DESCRIPTION:Le deuxième cours\, de 13h15 à 14h15\, concerne l’apprentissage de la lecture pour des débutants ou des personnes désireuses de parfaire leur capacité. La méthode employée est une méthode contextuelle développée spécifiquement\, qui consiste à apprendre les lettres directement dans le texte. C’est une sorte d’apprentissage « sur le terrain ». Cette année nous étudierons le sūtra de la pousse de riz. Les leçons sont disponibles en replay pour les personnes qui souhaiteraient reprendre depuis le début.
URL:https://cebtg.ch/evenement/tib-2-tibetain-23/
CATEGORIES:Cours de tibétain
ATTACH;FMTTYPE=image/png:https://cebtg.ch/wp-content/uploads/2023/01/texte_tibetain_16_9.png
END:VEVENT
BEGIN:VEVENT
DTSTART;TZID=Europe/Zurich:20250917T113000
DTEND;TZID=Europe/Zurich:20250917T123000
DTSTAMP:20260424T002713
CREATED:20250831T064142Z
LAST-MODIFIED:20251002T093710Z
UID:10001373-1758108600-1758112200@cebtg.ch
SUMMARY:Tib 1 - Tibétain
DESCRIPTION:Ce cours « débutant » s’adresse aux personnes qui n’ont aucune connaissance de l’alphabet tibétain et ne savent pas lire. À terme\, elles pourront rejoindre le cours intermédiaire.
URL:https://cebtg.ch/evenement/tib-1-tibetain-6/
CATEGORIES:Cours de tibétain,Tibétain
ATTACH;FMTTYPE=image/png:https://cebtg.ch/wp-content/uploads/2023/01/texte_tibetain_16_9.png
END:VEVENT
BEGIN:VEVENT
DTSTART;TZID=Europe/Zurich:20250917T113000
DTEND;TZID=Europe/Zurich:20250917T123000
DTSTAMP:20260424T002713
CREATED:20251002T093534Z
LAST-MODIFIED:20260304T104304Z
UID:10001659-1758108600-1758112200@cebtg.ch
SUMMARY:Tib 1 - Tibétain
DESCRIPTION:Ce cours « débutant » s’adresse aux personnes qui n’ont aucune connaissance de l’alphabet tibétain et ne savent pas lire. À terme\, elles pourront rejoindre le cours intermédiaire.
URL:https://cebtg.ch/evenement/tib-1-tibetain-15/
CATEGORIES:Cours de tibétain
ATTACH;FMTTYPE=image/png:https://cebtg.ch/wp-content/uploads/2023/01/texte_tibetain_16_9.png
END:VEVENT
BEGIN:VEVENT
DTSTART;TZID=Europe/Zurich:20250923T120000
DTEND;TZID=Europe/Zurich:20250923T130000
DTSTAMP:20260424T002713
CREATED:20250831T064142Z
LAST-MODIFIED:20251002T093710Z
UID:10001374-1758628800-1758632400@cebtg.ch
SUMMARY:Tib 1 - Tibétain
DESCRIPTION:Ce cours « débutant » s’adresse aux personnes qui n’ont aucune connaissance de l’alphabet tibétain et ne savent pas lire. À terme\, elles pourront rejoindre le cours intermédiaire.
URL:https://cebtg.ch/evenement/tib-1-tibetain-7/
CATEGORIES:Cours de tibétain
ATTACH;FMTTYPE=image/png:https://cebtg.ch/wp-content/uploads/2023/01/texte_tibetain_16_9.png
END:VEVENT
BEGIN:VEVENT
DTSTART;TZID=Europe/Zurich:20250923T120000
DTEND;TZID=Europe/Zurich:20250923T130000
DTSTAMP:20260424T002713
CREATED:20251002T093534Z
LAST-MODIFIED:20260304T104304Z
UID:10001660-1758628800-1758632400@cebtg.ch
SUMMARY:Tib 1 - Tibétain
DESCRIPTION:Ce cours « débutant » s’adresse aux personnes qui n’ont aucune connaissance de l’alphabet tibétain et ne savent pas lire. À terme\, elles pourront rejoindre le cours intermédiaire.
URL:https://cebtg.ch/evenement/tib-1-tibetain-16/
CATEGORIES:Cours de tibétain
ATTACH;FMTTYPE=image/png:https://cebtg.ch/wp-content/uploads/2023/01/texte_tibetain_16_9.png
END:VEVENT
BEGIN:VEVENT
DTSTART;TZID=Europe/Zurich:20250925T120000
DTEND;TZID=Europe/Zurich:20250925T130000
DTSTAMP:20260424T002713
CREATED:20250831T134459Z
LAST-MODIFIED:20251002T093710Z
UID:10001502-1758801600-1758805200@cebtg.ch
SUMMARY:Tib 3 - Tibétain
DESCRIPTION:Le premier cours\, de 12h à 13h concerne l’analyse de texte. Il s’adresse à des étudiants avancés ayant déjà une certaine aisance dans la lecture d’un texte tibétain. L’enseignement s’appuie cette année sur la poursuite de l’étude de la prière de la conduite excellente\, Sangtcheu Monlam. Les leçons sont disponibles en replay pour les personnes qui souhaiteraient reprendre depuis le début.
URL:https://cebtg.ch/evenement/tib-3-tibetain-19/
CATEGORIES:Cours de tibétain
ATTACH;FMTTYPE=image/png:https://cebtg.ch/wp-content/uploads/2023/01/texte_tibetain_16_9.png
END:VEVENT
BEGIN:VEVENT
DTSTART;TZID=Europe/Zurich:20250925T120000
DTEND;TZID=Europe/Zurich:20250925T130000
DTSTAMP:20260424T002713
CREATED:20251002T093534Z
LAST-MODIFIED:20260304T104305Z
UID:10001661-1758801600-1758805200@cebtg.ch
SUMMARY:Tib 3 - Tibétain
DESCRIPTION:Le premier cours\, de 12h à 13h concerne l’analyse de texte. Il s’adresse à des étudiants avancés ayant déjà une certaine aisance dans la lecture d’un texte tibétain. L’enseignement s’appuie cette année sur la poursuite de l’étude de la prière de la conduite excellente\, Sangtcheu Monlam. Les leçons sont disponibles en replay pour les personnes qui souhaiteraient reprendre depuis le début.
URL:https://cebtg.ch/evenement/tib-3-tibetain-33/
CATEGORIES:Cours de tibétain
ATTACH;FMTTYPE=image/png:https://cebtg.ch/wp-content/uploads/2023/01/texte_tibetain_16_9.png
END:VEVENT
BEGIN:VEVENT
DTSTART;TZID=Europe/Zurich:20250925T131500
DTEND;TZID=Europe/Zurich:20250925T141500
DTSTAMP:20260424T002713
CREATED:20250831T064142Z
LAST-MODIFIED:20251002T093710Z
UID:10001376-1758806100-1758809700@cebtg.ch
SUMMARY:Tib 2 - Tibétain
DESCRIPTION:Le deuxième cours\, de 13h15 à 14h15\, concerne l’apprentissage de la lecture pour des débutants ou des personnes désireuses de parfaire leur capacité. La méthode employée est une méthode contextuelle développée spécifiquement\, qui consiste à apprendre les lettres directement dans le texte. C’est une sorte d’apprentissage « sur le terrain ». Cette année nous étudierons le sūtra de la pousse de riz. Les leçons sont disponibles en replay pour les personnes qui souhaiteraient reprendre depuis le début.
URL:https://cebtg.ch/evenement/tib-2-tibetain-10/
CATEGORIES:Cours de tibétain
ATTACH;FMTTYPE=image/png:https://cebtg.ch/wp-content/uploads/2023/01/texte_tibetain_16_9.png
END:VEVENT
BEGIN:VEVENT
DTSTART;TZID=Europe/Zurich:20250925T131500
DTEND;TZID=Europe/Zurich:20250925T141500
DTSTAMP:20260424T002713
CREATED:20251002T093534Z
LAST-MODIFIED:20260304T104305Z
UID:10001662-1758806100-1758809700@cebtg.ch
SUMMARY:Tib 2 - Tibétain
DESCRIPTION:Le deuxième cours\, de 13h15 à 14h15\, concerne l’apprentissage de la lecture pour des débutants ou des personnes désireuses de parfaire leur capacité. La méthode employée est une méthode contextuelle développée spécifiquement\, qui consiste à apprendre les lettres directement dans le texte. C’est une sorte d’apprentissage « sur le terrain ». Cette année nous étudierons le sūtra de la pousse de riz. Les leçons sont disponibles en replay pour les personnes qui souhaiteraient reprendre depuis le début.
URL:https://cebtg.ch/evenement/tib-2-tibetain-24/
CATEGORIES:Cours de tibétain
ATTACH;FMTTYPE=image/png:https://cebtg.ch/wp-content/uploads/2023/01/texte_tibetain_16_9.png
END:VEVENT
END:VCALENDAR