BEGIN:VCALENDAR
VERSION:2.0
PRODID:-//Centre d&#039;Etudes du Bouddhisme Tibétain de Genève - ECPv6.15.20//NONSGML v1.0//EN
CALSCALE:GREGORIAN
METHOD:PUBLISH
X-WR-CALNAME:Centre d&#039;Etudes du Bouddhisme Tibétain de Genève
X-ORIGINAL-URL:https://cebtg.ch
X-WR-CALDESC:Évènements pour Centre d&#039;Etudes du Bouddhisme Tibétain de Genève
REFRESH-INTERVAL;VALUE=DURATION:PT1H
X-Robots-Tag:noindex
X-PUBLISHED-TTL:PT1H
BEGIN:VTIMEZONE
TZID:Europe/Zurich
BEGIN:DAYLIGHT
TZOFFSETFROM:+0100
TZOFFSETTO:+0200
TZNAME:CEST
DTSTART:20240331T010000
END:DAYLIGHT
BEGIN:STANDARD
TZOFFSETFROM:+0200
TZOFFSETTO:+0100
TZNAME:CET
DTSTART:20241027T010000
END:STANDARD
BEGIN:DAYLIGHT
TZOFFSETFROM:+0100
TZOFFSETTO:+0200
TZNAME:CEST
DTSTART:20250330T010000
END:DAYLIGHT
BEGIN:STANDARD
TZOFFSETFROM:+0200
TZOFFSETTO:+0100
TZNAME:CET
DTSTART:20251026T010000
END:STANDARD
BEGIN:DAYLIGHT
TZOFFSETFROM:+0100
TZOFFSETTO:+0200
TZNAME:CEST
DTSTART:20260329T010000
END:DAYLIGHT
BEGIN:STANDARD
TZOFFSETFROM:+0200
TZOFFSETTO:+0100
TZNAME:CET
DTSTART:20261025T010000
END:STANDARD
END:VTIMEZONE
BEGIN:VEVENT
DTSTART;TZID=Europe/Zurich:20250113T183000
DTEND;TZID=Europe/Zurich:20250113T200000
DTSTAMP:20260424T003153
CREATED:20241204T155305Z
LAST-MODIFIED:20250508T082750Z
UID:10001170-1736793000-1736798400@cebtg.ch
SUMMARY:Méditation
DESCRIPTION:Méditation du calme mental\, en présence à Vimalakirti\, sur Zoom (codes habituels) et Youtube.
URL:https://cebtg.ch/evenement/meditation-39/
CATEGORIES:Calme Mental,Méditation
ATTACH;FMTTYPE=image/jpeg:https://cebtg.ch/wp-content/uploads/2023/08/IMG_7234-scaled-e1693428506443.jpeg
END:VEVENT
BEGIN:VEVENT
DTSTART;TZID=Europe/Zurich:20250120T080000
DTEND;TZID=Europe/Zurich:20250120T090000
DTSTAMP:20260424T003153
CREATED:20241204T155305Z
LAST-MODIFIED:20250508T082750Z
UID:10001173-1737360000-1737363600@cebtg.ch
SUMMARY:Méditation
DESCRIPTION:Méditation du calme mental en présence à la Maison Verte\, sur Zoom (codes habituels) et Youtube.
URL:https://cebtg.ch/evenement/meditation-40/
CATEGORIES:Calme Mental,Méditation
ATTACH;FMTTYPE=image/jpeg:https://cebtg.ch/wp-content/uploads/2023/08/IMG_7234-scaled-e1693428506443.jpeg
END:VEVENT
BEGIN:VEVENT
DTSTART;TZID=Europe/Zurich:20250120T183000
DTEND;TZID=Europe/Zurich:20250120T200000
DTSTAMP:20260424T003153
CREATED:20241204T155305Z
LAST-MODIFIED:20250508T082750Z
UID:10001175-1737397800-1737403200@cebtg.ch
SUMMARY:Méditation
DESCRIPTION:Méditation du calme mental\, en présence à Vimalakirti\, sur Zoom (codes habituels) et Youtube.
URL:https://cebtg.ch/evenement/meditation-41/
CATEGORIES:Calme Mental,Méditation
ATTACH;FMTTYPE=image/jpeg:https://cebtg.ch/wp-content/uploads/2023/08/IMG_7234-scaled-e1693428506443.jpeg
END:VEVENT
BEGIN:VEVENT
DTSTART;TZID=Europe/Zurich:20250127T080000
DTEND;TZID=Europe/Zurich:20250127T090000
DTSTAMP:20260424T003153
CREATED:20241204T155305Z
LAST-MODIFIED:20250508T082751Z
UID:10001179-1737964800-1737968400@cebtg.ch
SUMMARY:Méditation
DESCRIPTION:Méditation du calme mental en présence à la Maison Verte\, sur Zoom (codes habituels) et Youtube.
URL:https://cebtg.ch/evenement/meditation-42/
CATEGORIES:Calme Mental,Méditation
ATTACH;FMTTYPE=image/jpeg:https://cebtg.ch/wp-content/uploads/2023/08/IMG_7234-scaled-e1693428506443.jpeg
END:VEVENT
BEGIN:VEVENT
DTSTART;TZID=Europe/Zurich:20250127T183000
DTEND;TZID=Europe/Zurich:20250127T200000
DTSTAMP:20260424T003153
CREATED:20241204T155305Z
LAST-MODIFIED:20250508T082751Z
UID:10001180-1738002600-1738008000@cebtg.ch
SUMMARY:Méditation
DESCRIPTION:Méditation du calme mental\, en présence à Vimalakirti\, sur Zoom (codes habituels) et Youtube.
URL:https://cebtg.ch/evenement/meditation-43/
CATEGORIES:Calme Mental,Méditation
ATTACH;FMTTYPE=image/jpeg:https://cebtg.ch/wp-content/uploads/2023/08/IMG_7234-scaled-e1693428506443.jpeg
END:VEVENT
BEGIN:VEVENT
DTSTART;TZID=Europe/Zurich:20250203T080000
DTEND;TZID=Europe/Zurich:20250203T090000
DTSTAMP:20260424T003153
CREATED:20241204T155305Z
LAST-MODIFIED:20250508T082751Z
UID:10001183-1738569600-1738573200@cebtg.ch
SUMMARY:Méditation
DESCRIPTION:Méditation du calme mental en présence à la Maison Verte\, sur Zoom (codes habituels) et Youtube.
URL:https://cebtg.ch/evenement/meditation-44/
CATEGORIES:Calme Mental,Méditation
ATTACH;FMTTYPE=image/jpeg:https://cebtg.ch/wp-content/uploads/2023/08/IMG_7234-scaled-e1693428506443.jpeg
END:VEVENT
BEGIN:VEVENT
DTSTART;TZID=Europe/Zurich:20250203T183000
DTEND;TZID=Europe/Zurich:20250203T200000
DTSTAMP:20260424T003153
CREATED:20241204T155306Z
LAST-MODIFIED:20250508T082751Z
UID:10001185-1738607400-1738612800@cebtg.ch
SUMMARY:Méditation
DESCRIPTION:Méditation du calme mental\, en présence à Vimalakirti\, sur Zoom (codes habituels) et Youtube.
URL:https://cebtg.ch/evenement/meditation-45/
CATEGORIES:Calme Mental,Méditation
ATTACH;FMTTYPE=image/jpeg:https://cebtg.ch/wp-content/uploads/2023/08/IMG_7234-scaled-e1693428506443.jpeg
END:VEVENT
BEGIN:VEVENT
DTSTART;TZID=Europe/Zurich:20250210T080000
DTEND;TZID=Europe/Zurich:20250210T090000
DTSTAMP:20260424T003153
CREATED:20241204T155306Z
LAST-MODIFIED:20250508T082752Z
UID:10001190-1739174400-1739178000@cebtg.ch
SUMMARY:Méditation
DESCRIPTION:Méditation du calme mental en présence à la Maison Verte\, sur Zoom (codes habituels) et Youtube.
URL:https://cebtg.ch/evenement/meditation-46/
CATEGORIES:Calme Mental
ATTACH;FMTTYPE=image/jpeg:https://cebtg.ch/wp-content/uploads/2023/08/IMG_7234-scaled-e1693428506443.jpeg
END:VEVENT
BEGIN:VEVENT
DTSTART;TZID=Europe/Zurich:20250210T183000
DTEND;TZID=Europe/Zurich:20250210T200000
DTSTAMP:20260424T003153
CREATED:20241204T155306Z
LAST-MODIFIED:20250508T082752Z
UID:10001191-1739212200-1739217600@cebtg.ch
SUMMARY:Méditation
DESCRIPTION:Méditation du calme mental\, en présence à Vimalakirti\, sur Zoom (codes habituels) et Youtube.
URL:https://cebtg.ch/evenement/meditation-47/
CATEGORIES:Calme Mental
ATTACH;FMTTYPE=image/jpeg:https://cebtg.ch/wp-content/uploads/2023/08/IMG_7234-scaled-e1693428506443.jpeg
END:VEVENT
BEGIN:VEVENT
DTSTART;TZID=Europe/Zurich:20250217T080000
DTEND;TZID=Europe/Zurich:20250217T090000
DTSTAMP:20260424T003153
CREATED:20241204T155306Z
LAST-MODIFIED:20250508T082752Z
UID:10001194-1739779200-1739782800@cebtg.ch
SUMMARY:Méditation
DESCRIPTION:Lundi 17 février\, comme initialement évoqué (précédente newsletter)\, la récitation de l’appel au lama de loin et la session de méditation auront lieu par zoom pour les personnes à distance. \n \nPour les personnes qui sont à Genève\, de 8h à 9h il vous sera possible de venir méditer à la Maison Verte (sans suivre sur zoom).
URL:https://cebtg.ch/evenement/meditation-48/
CATEGORIES:Calme Mental
ATTACH;FMTTYPE=image/jpeg:https://cebtg.ch/wp-content/uploads/2023/08/IMG_7234-scaled-e1693428506443.jpeg
END:VEVENT
BEGIN:VEVENT
DTSTART;TZID=Europe/Zurich:20250217T183000
DTEND;TZID=Europe/Zurich:20250217T200000
DTSTAMP:20260424T003153
CREATED:20241204T155306Z
LAST-MODIFIED:20250508T082752Z
UID:10001196-1739817000-1739822400@cebtg.ch
SUMMARY:Méditation
DESCRIPTION:Méditation du calme mental\, en présence à Vimalakirti\, sur Zoom (codes habituels) et Youtube.
URL:https://cebtg.ch/evenement/meditation-49/
CATEGORIES:Calme Mental
ATTACH;FMTTYPE=image/jpeg:https://cebtg.ch/wp-content/uploads/2023/08/IMG_7234-scaled-e1693428506443.jpeg
END:VEVENT
BEGIN:VEVENT
DTSTART;TZID=Europe/Zurich:20250224T080000
DTEND;TZID=Europe/Zurich:20250224T090000
DTSTAMP:20260424T003153
CREATED:20241204T155307Z
LAST-MODIFIED:20250508T082752Z
UID:10001199-1740384000-1740387600@cebtg.ch
SUMMARY:Méditation
DESCRIPTION:Méditation du calme mental en présence à la Maison Verte\, sur Zoom (codes habituels) et Youtube.
URL:https://cebtg.ch/evenement/meditation-50/
CATEGORIES:Calme Mental
ATTACH;FMTTYPE=image/jpeg:https://cebtg.ch/wp-content/uploads/2023/08/IMG_7234-scaled-e1693428506443.jpeg
END:VEVENT
BEGIN:VEVENT
DTSTART;TZID=Europe/Zurich:20250224T183000
DTEND;TZID=Europe/Zurich:20250224T200000
DTSTAMP:20260424T003153
CREATED:20241204T155307Z
LAST-MODIFIED:20250508T082752Z
UID:10001201-1740421800-1740427200@cebtg.ch
SUMMARY:Méditation
DESCRIPTION:Méditation du calme mental\, en présence à Vimalakirti\, sur Zoom (codes habituels) et Youtube.
URL:https://cebtg.ch/evenement/meditation-51/
CATEGORIES:Calme Mental
ATTACH;FMTTYPE=image/jpeg:https://cebtg.ch/wp-content/uploads/2023/08/IMG_7234-scaled-e1693428506443.jpeg
END:VEVENT
BEGIN:VEVENT
DTSTART;TZID=Europe/Zurich:20250303T080000
DTEND;TZID=Europe/Zurich:20250303T090000
DTSTAMP:20260424T003153
CREATED:20241204T155307Z
LAST-MODIFIED:20250508T082753Z
UID:10001205-1740988800-1740992400@cebtg.ch
SUMMARY:Méditation
DESCRIPTION:Méditation du calme mental en présence à la Maison Verte\, sur Zoom (codes habituels) et Youtube.
URL:https://cebtg.ch/evenement/meditation-52/
CATEGORIES:Calme Mental
ATTACH;FMTTYPE=image/jpeg:https://cebtg.ch/wp-content/uploads/2023/08/IMG_7234-scaled-e1693428506443.jpeg
END:VEVENT
BEGIN:VEVENT
DTSTART;TZID=Europe/Zurich:20250303T183000
DTEND;TZID=Europe/Zurich:20250303T200000
DTSTAMP:20260424T003153
CREATED:20241204T155307Z
LAST-MODIFIED:20250508T082753Z
UID:10001206-1741026600-1741032000@cebtg.ch
SUMMARY:Méditation
DESCRIPTION:Méditation du calme mental\, en présence à Vimalakirti\, sur Zoom (codes habituels) et Youtube.
URL:https://cebtg.ch/evenement/meditation-53/
CATEGORIES:Calme Mental
ATTACH;FMTTYPE=image/jpeg:https://cebtg.ch/wp-content/uploads/2023/08/IMG_7234-scaled-e1693428506443.jpeg
END:VEVENT
BEGIN:VEVENT
DTSTART;TZID=Europe/Zurich:20250310T080000
DTEND;TZID=Europe/Zurich:20250310T090000
DTSTAMP:20260424T003153
CREATED:20241204T155307Z
LAST-MODIFIED:20250508T082753Z
UID:10001210-1741593600-1741597200@cebtg.ch
SUMMARY:Méditation
DESCRIPTION:Méditation du calme mental en présence à la Maison Verte\, sur Zoom (codes habituels) et Youtube.
URL:https://cebtg.ch/evenement/meditation-54/
CATEGORIES:Calme Mental
ATTACH;FMTTYPE=image/jpeg:https://cebtg.ch/wp-content/uploads/2023/08/IMG_7234-scaled-e1693428506443.jpeg
END:VEVENT
BEGIN:VEVENT
DTSTART;TZID=Europe/Zurich:20250310T183000
DTEND;TZID=Europe/Zurich:20250310T200000
DTSTAMP:20260424T003153
CREATED:20241204T155307Z
LAST-MODIFIED:20250508T082753Z
UID:10001211-1741631400-1741636800@cebtg.ch
SUMMARY:Méditation
DESCRIPTION:Méditation du calme mental\, en présence à Vimalakirti\, sur Zoom (codes habituels) et Youtube.
URL:https://cebtg.ch/evenement/meditation-55/
CATEGORIES:Calme Mental
ATTACH;FMTTYPE=image/jpeg:https://cebtg.ch/wp-content/uploads/2023/08/IMG_7234-scaled-e1693428506443.jpeg
END:VEVENT
BEGIN:VEVENT
DTSTART;TZID=Europe/Zurich:20250317T080000
DTEND;TZID=Europe/Zurich:20250317T090000
DTSTAMP:20260424T003153
CREATED:20241204T155308Z
LAST-MODIFIED:20250508T082754Z
UID:10001216-1742198400-1742202000@cebtg.ch
SUMMARY:Méditation
DESCRIPTION:Méditation du calme mental en présence à la Maison Verte\, sur Zoom (codes habituels) et Youtube.
URL:https://cebtg.ch/evenement/meditation-56/
CATEGORIES:Calme Mental
ATTACH;FMTTYPE=image/jpeg:https://cebtg.ch/wp-content/uploads/2023/08/IMG_7234-scaled-e1693428506443.jpeg
END:VEVENT
BEGIN:VEVENT
DTSTART;TZID=Europe/Zurich:20250317T183000
DTEND;TZID=Europe/Zurich:20250317T200000
DTSTAMP:20260424T003153
CREATED:20241204T155308Z
LAST-MODIFIED:20250508T082754Z
UID:10001217-1742236200-1742241600@cebtg.ch
SUMMARY:Méditation
DESCRIPTION:Méditation du calme mental\, en présence à Vimalakirti\, sur Zoom (codes habituels) et Youtube.
URL:https://cebtg.ch/evenement/meditation-57/
CATEGORIES:Calme Mental
ATTACH;FMTTYPE=image/jpeg:https://cebtg.ch/wp-content/uploads/2023/08/IMG_7234-scaled-e1693428506443.jpeg
END:VEVENT
BEGIN:VEVENT
DTSTART;TZID=Europe/Zurich:20250324T080000
DTEND;TZID=Europe/Zurich:20250324T090000
DTSTAMP:20260424T003153
CREATED:20241204T155308Z
LAST-MODIFIED:20250508T082754Z
UID:10001220-1742803200-1742806800@cebtg.ch
SUMMARY:Méditation
DESCRIPTION:Méditation du calme mental en présence à la Maison Verte\, sur Zoom (codes habituels) et Youtube.
URL:https://cebtg.ch/evenement/meditation-58/
CATEGORIES:Calme Mental
ATTACH;FMTTYPE=image/jpeg:https://cebtg.ch/wp-content/uploads/2023/08/IMG_7234-scaled-e1693428506443.jpeg
END:VEVENT
BEGIN:VEVENT
DTSTART;TZID=Europe/Zurich:20250324T183000
DTEND;TZID=Europe/Zurich:20250324T200000
DTSTAMP:20260424T003153
CREATED:20241204T155308Z
LAST-MODIFIED:20250508T082754Z
UID:10001222-1742841000-1742846400@cebtg.ch
SUMMARY:Méditation
DESCRIPTION:Méditation du calme mental\, en présence à Vimalakirti\, sur Zoom (codes habituels) et Youtube.
URL:https://cebtg.ch/evenement/meditation-59/
CATEGORIES:Calme Mental
ATTACH;FMTTYPE=image/jpeg:https://cebtg.ch/wp-content/uploads/2023/08/IMG_7234-scaled-e1693428506443.jpeg
END:VEVENT
BEGIN:VEVENT
DTSTART;TZID=Europe/Zurich:20250331T080000
DTEND;TZID=Europe/Zurich:20250331T090000
DTSTAMP:20260424T003153
CREATED:20241204T155308Z
LAST-MODIFIED:20250508T082754Z
UID:10001225-1743408000-1743411600@cebtg.ch
SUMMARY:Méditation
DESCRIPTION:Méditation du calme mental en présence à la Maison Verte\, sur Zoom (codes habituels) et Youtube.
URL:https://cebtg.ch/evenement/meditation-60/
CATEGORIES:Calme Mental
ATTACH;FMTTYPE=image/jpeg:https://cebtg.ch/wp-content/uploads/2023/08/IMG_7234-scaled-e1693428506443.jpeg
END:VEVENT
BEGIN:VEVENT
DTSTART;TZID=Europe/Zurich:20250331T183000
DTEND;TZID=Europe/Zurich:20250331T200000
DTSTAMP:20260424T003153
CREATED:20241204T155308Z
LAST-MODIFIED:20250508T082754Z
UID:10001227-1743445800-1743451200@cebtg.ch
SUMMARY:Méditation
DESCRIPTION:Méditation du calme mental\, en présence à Vimalakirti\, sur Zoom (codes habituels) et Youtube.
URL:https://cebtg.ch/evenement/meditation-61/
CATEGORIES:Calme Mental
ATTACH;FMTTYPE=image/jpeg:https://cebtg.ch/wp-content/uploads/2023/08/IMG_7234-scaled-e1693428506443.jpeg
END:VEVENT
BEGIN:VEVENT
DTSTART;TZID=Europe/Zurich:20250414T080000
DTEND;TZID=Europe/Zurich:20250414T090000
DTSTAMP:20260424T003153
CREATED:20241204T155309Z
LAST-MODIFIED:20241207T163847Z
UID:10001237-1744617600-1744621200@cebtg.ch
SUMMARY:Méditation
DESCRIPTION:Méditation du calme mental en présence à la Maison Verte\, sur Zoom (codes habituels) et Youtube.
URL:https://cebtg.ch/evenement/meditation-64/
CATEGORIES:Calme Mental
ATTACH;FMTTYPE=image/jpeg:https://cebtg.ch/wp-content/uploads/2023/08/IMG_7234-scaled-e1693428506443.jpeg
END:VEVENT
BEGIN:VEVENT
DTSTART;TZID=Europe/Zurich:20250414T183000
DTEND;TZID=Europe/Zurich:20250414T200000
DTSTAMP:20260424T003153
CREATED:20241204T155309Z
LAST-MODIFIED:20241207T163847Z
UID:10001238-1744655400-1744660800@cebtg.ch
SUMMARY:Méditation
DESCRIPTION:Méditation du calme mental\, en présence à Vimalakirti\, sur Zoom (codes habituels) et Youtube.
URL:https://cebtg.ch/evenement/meditation-65/
CATEGORIES:Calme Mental
ATTACH;FMTTYPE=image/jpeg:https://cebtg.ch/wp-content/uploads/2023/08/IMG_7234-scaled-e1693428506443.jpeg
END:VEVENT
BEGIN:VEVENT
DTSTART;TZID=Europe/Zurich:20250505T080000
DTEND;TZID=Europe/Zurich:20250505T090000
DTSTAMP:20260424T003153
CREATED:20250508T084631Z
LAST-MODIFIED:20250831T105406Z
UID:10001311-1746432000-1746435600@cebtg.ch
SUMMARY:Méditation
DESCRIPTION:Méditation du calme mental en présence à la Maison Verte\, sur Zoom (codes habituels) et Youtube.
URL:https://cebtg.ch/evenement/meditation-66/
CATEGORIES:Calme Mental
ATTACH;FMTTYPE=image/jpeg:https://cebtg.ch/wp-content/uploads/2023/08/IMG_7234-scaled-e1693428506443.jpeg
END:VEVENT
BEGIN:VEVENT
DTSTART;TZID=Europe/Zurich:20250512T080000
DTEND;TZID=Europe/Zurich:20250512T090000
DTSTAMP:20260424T003153
CREATED:20250508T084631Z
LAST-MODIFIED:20250831T105406Z
UID:10001317-1747036800-1747040400@cebtg.ch
SUMMARY:Méditation
DESCRIPTION:Méditation du calme mental en présence à la Maison Verte\, sur Zoom (codes habituels) et Youtube.
URL:https://cebtg.ch/evenement/meditation-67/
CATEGORIES:Calme Mental
ATTACH;FMTTYPE=image/jpeg:https://cebtg.ch/wp-content/uploads/2023/08/IMG_7234-scaled-e1693428506443.jpeg
END:VEVENT
BEGIN:VEVENT
DTSTART;TZID=Europe/Zurich:20250512T183000
DTEND;TZID=Europe/Zurich:20250512T200000
DTSTAMP:20260424T003153
CREATED:20250508T084631Z
LAST-MODIFIED:20250831T105406Z
UID:10001318-1747074600-1747080000@cebtg.ch
SUMMARY:Méditation
DESCRIPTION:Méditation du calme mental\, en présence à Vimalakirti\, sur Zoom (codes habituels) et Youtube.
URL:https://cebtg.ch/evenement/meditation-68/
CATEGORIES:Calme Mental
ATTACH;FMTTYPE=image/jpeg:https://cebtg.ch/wp-content/uploads/2023/08/IMG_7234-scaled-e1693428506443.jpeg
END:VEVENT
BEGIN:VEVENT
DTSTART;TZID=Europe/Zurich:20250519T080000
DTEND;TZID=Europe/Zurich:20250519T090000
DTSTAMP:20260424T003153
CREATED:20250508T084632Z
LAST-MODIFIED:20250831T105406Z
UID:10001323-1747641600-1747645200@cebtg.ch
SUMMARY:Méditation
DESCRIPTION:Méditation du calme mental en présence à la Maison Verte\, sur Zoom (codes habituels) et Youtube.
URL:https://cebtg.ch/evenement/meditation-69/
CATEGORIES:Calme Mental
ATTACH;FMTTYPE=image/jpeg:https://cebtg.ch/wp-content/uploads/2023/08/IMG_7234-scaled-e1693428506443.jpeg
END:VEVENT
BEGIN:VEVENT
DTSTART;TZID=Europe/Zurich:20250519T183000
DTEND;TZID=Europe/Zurich:20250519T200000
DTSTAMP:20260424T003153
CREATED:20250508T084632Z
LAST-MODIFIED:20250831T105406Z
UID:10001325-1747679400-1747684800@cebtg.ch
SUMMARY:Méditation
DESCRIPTION:Méditation du calme mental\, en présence à Vimalakirti\, sur Zoom (codes habituels) et Youtube.
URL:https://cebtg.ch/evenement/meditation-70/
CATEGORIES:Calme Mental
ATTACH;FMTTYPE=image/jpeg:https://cebtg.ch/wp-content/uploads/2023/08/IMG_7234-scaled-e1693428506443.jpeg
END:VEVENT
END:VCALENDAR