BEGIN:VCALENDAR
VERSION:2.0
PRODID:-//Centre d&#039;Etudes du Bouddhisme Tibétain de Genève - ECPv6.15.20//NONSGML v1.0//EN
CALSCALE:GREGORIAN
METHOD:PUBLISH
X-ORIGINAL-URL:https://cebtg.ch
X-WR-CALDESC:Évènements pour Centre d&#039;Etudes du Bouddhisme Tibétain de Genève
REFRESH-INTERVAL;VALUE=DURATION:PT1H
X-Robots-Tag:noindex
X-PUBLISHED-TTL:PT1H
BEGIN:VTIMEZONE
TZID:Europe/Zurich
BEGIN:DAYLIGHT
TZOFFSETFROM:+0100
TZOFFSETTO:+0200
TZNAME:CEST
DTSTART:20240331T010000
END:DAYLIGHT
BEGIN:STANDARD
TZOFFSETFROM:+0200
TZOFFSETTO:+0100
TZNAME:CET
DTSTART:20241027T010000
END:STANDARD
BEGIN:DAYLIGHT
TZOFFSETFROM:+0100
TZOFFSETTO:+0200
TZNAME:CEST
DTSTART:20250330T010000
END:DAYLIGHT
BEGIN:STANDARD
TZOFFSETFROM:+0200
TZOFFSETTO:+0100
TZNAME:CET
DTSTART:20251026T010000
END:STANDARD
BEGIN:DAYLIGHT
TZOFFSETFROM:+0100
TZOFFSETTO:+0200
TZNAME:CEST
DTSTART:20260329T010000
END:DAYLIGHT
BEGIN:STANDARD
TZOFFSETFROM:+0200
TZOFFSETTO:+0100
TZNAME:CET
DTSTART:20261025T010000
END:STANDARD
BEGIN:DAYLIGHT
TZOFFSETFROM:+0100
TZOFFSETTO:+0200
TZNAME:CEST
DTSTART:20270328T010000
END:DAYLIGHT
BEGIN:STANDARD
TZOFFSETFROM:+0200
TZOFFSETTO:+0100
TZNAME:CET
DTSTART:20271031T010000
END:STANDARD
END:VTIMEZONE
BEGIN:VEVENT
DTSTART;TZID=Europe/Zurich:20250911T191500
DTEND;TZID=Europe/Zurich:20250911T211500
DTSTAMP:20260425T122216
CREATED:20251002T085651Z
LAST-MODIFIED:20251223T162650Z
UID:10001560-1757618100-1757625300@cebtg.ch
SUMMARY:Méditation groupe Lausanne
DESCRIPTION:
URL:https://cebtg.ch/evenement/meditation-groupe-lausanne-11/
CATEGORIES:Calme Mental,Méditation,Shiné
ATTACH;FMTTYPE=image/jpeg:https://cebtg.ch/wp-content/uploads/2023/08/IMG_7234-scaled-e1693428506443.jpeg
END:VEVENT
BEGIN:VEVENT
DTSTART;TZID=Europe/Zurich:20250915T080000
DTEND;TZID=Europe/Zurich:20250915T090000
DTSTAMP:20260425T122216
CREATED:20251002T085651Z
LAST-MODIFIED:20251223T162650Z
UID:10001562-1757923200-1757926800@cebtg.ch
SUMMARY:Méditation
DESCRIPTION:Méditation du calme mental en présence à la Maison Verte\, sur Zoom (codes habituels) et Youtube.
URL:https://cebtg.ch/evenement/meditation-119/
CATEGORIES:Calme Mental,Méditation,Shiné
ATTACH;FMTTYPE=image/jpeg:https://cebtg.ch/wp-content/uploads/2023/08/IMG_7234-scaled-e1693428506443.jpeg
END:VEVENT
BEGIN:VEVENT
DTSTART;TZID=Europe/Zurich:20250915T080000
DTEND;TZID=Europe/Zurich:20250915T090000
DTSTAMP:20260425T122216
CREATED:20250831T104119Z
LAST-MODIFIED:20251002T084151Z
UID:10001411-1757923200-1757926800@cebtg.ch
SUMMARY:Méditation
DESCRIPTION:Méditation du calme mental en présence à la Maison Verte\, sur Zoom (codes habituels) et Youtube.
URL:https://cebtg.ch/evenement/meditation-85/
CATEGORIES:Calme Mental
ATTACH;FMTTYPE=image/jpeg:https://cebtg.ch/wp-content/uploads/2023/08/IMG_7234-scaled-e1693428506443.jpeg
END:VEVENT
BEGIN:VEVENT
DTSTART;TZID=Europe/Zurich:20250915T183000
DTEND;TZID=Europe/Zurich:20250915T200000
DTSTAMP:20260425T122216
CREATED:20251002T085651Z
LAST-MODIFIED:20251223T162650Z
UID:10001564-1757961000-1757966400@cebtg.ch
SUMMARY:Méditation
DESCRIPTION:Méditation du calme mental\, en présence à Vimalakirti\, sur Zoom (codes habituels) et Youtube.
URL:https://cebtg.ch/evenement/meditation-120/
CATEGORIES:Calme Mental,Méditation,Shiné
ATTACH;FMTTYPE=image/jpeg:https://cebtg.ch/wp-content/uploads/2023/08/IMG_7234-scaled-e1693428506443.jpeg
END:VEVENT
BEGIN:VEVENT
DTSTART;TZID=Europe/Zurich:20250915T183000
DTEND;TZID=Europe/Zurich:20250915T200000
DTSTAMP:20260425T122216
CREATED:20250831T104119Z
LAST-MODIFIED:20251002T084151Z
UID:10001412-1757961000-1757966400@cebtg.ch
SUMMARY:Méditation
DESCRIPTION:Méditation du calme mental\, en présence à Vimalakirti\, sur Zoom (codes habituels) et Youtube.
URL:https://cebtg.ch/evenement/meditation-86/
CATEGORIES:Calme Mental
ATTACH;FMTTYPE=image/jpeg:https://cebtg.ch/wp-content/uploads/2023/08/IMG_7234-scaled-e1693428506443.jpeg
END:VEVENT
BEGIN:VEVENT
DTSTART;TZID=Europe/Zurich:20250922T080000
DTEND;TZID=Europe/Zurich:20250922T090000
DTSTAMP:20260425T122216
CREATED:20251002T085651Z
LAST-MODIFIED:20251223T162651Z
UID:10001569-1758528000-1758531600@cebtg.ch
SUMMARY:Méditation
DESCRIPTION:Méditation du calme mental en présence à la Maison Verte\, sur Zoom (codes habituels) et Youtube.
URL:https://cebtg.ch/evenement/meditation-121/
CATEGORIES:Calme Mental,Méditation,Shiné
ATTACH;FMTTYPE=image/jpeg:https://cebtg.ch/wp-content/uploads/2023/08/IMG_7234-scaled-e1693428506443.jpeg
END:VEVENT
BEGIN:VEVENT
DTSTART;TZID=Europe/Zurich:20250922T080000
DTEND;TZID=Europe/Zurich:20250922T090000
DTSTAMP:20260425T122216
CREATED:20250831T104120Z
LAST-MODIFIED:20251002T084151Z
UID:10001416-1758528000-1758531600@cebtg.ch
SUMMARY:Méditation
DESCRIPTION:Méditation du calme mental en présence à la Maison Verte\, sur Zoom (codes habituels) et Youtube.
URL:https://cebtg.ch/evenement/meditation-87/
CATEGORIES:Calme Mental
ATTACH;FMTTYPE=image/jpeg:https://cebtg.ch/wp-content/uploads/2023/08/IMG_7234-scaled-e1693428506443.jpeg
END:VEVENT
BEGIN:VEVENT
DTSTART;TZID=Europe/Zurich:20250922T183000
DTEND;TZID=Europe/Zurich:20250922T200000
DTSTAMP:20260425T122216
CREATED:20251002T085651Z
LAST-MODIFIED:20251223T162651Z
UID:10001570-1758565800-1758571200@cebtg.ch
SUMMARY:Méditation
DESCRIPTION:Méditation du calme mental\, en présence à Vimalakirti\, sur Zoom (codes habituels) et Youtube.
URL:https://cebtg.ch/evenement/meditation-122/
CATEGORIES:Calme Mental,Méditation,Shiné
ATTACH;FMTTYPE=image/jpeg:https://cebtg.ch/wp-content/uploads/2023/08/IMG_7234-scaled-e1693428506443.jpeg
END:VEVENT
BEGIN:VEVENT
DTSTART;TZID=Europe/Zurich:20250922T183000
DTEND;TZID=Europe/Zurich:20250922T200000
DTSTAMP:20260425T122216
CREATED:20250831T104120Z
LAST-MODIFIED:20251002T084152Z
UID:10001417-1758565800-1758571200@cebtg.ch
SUMMARY:Méditation
DESCRIPTION:Méditation du calme mental\, en présence à Vimalakirti\, sur Zoom (codes habituels) et Youtube.
URL:https://cebtg.ch/evenement/meditation-88/
CATEGORIES:Calme Mental
ATTACH;FMTTYPE=image/jpeg:https://cebtg.ch/wp-content/uploads/2023/08/IMG_7234-scaled-e1693428506443.jpeg
END:VEVENT
BEGIN:VEVENT
DTSTART;TZID=Europe/Zurich:20250929T080000
DTEND;TZID=Europe/Zurich:20250929T090000
DTSTAMP:20260425T122216
CREATED:20251002T085652Z
LAST-MODIFIED:20251223T162651Z
UID:10001574-1759132800-1759136400@cebtg.ch
SUMMARY:Méditation
DESCRIPTION:Méditation du calme mental en présence à la Maison Verte\, sur Zoom (codes habituels) et Youtube.
URL:https://cebtg.ch/evenement/meditation-123/
CATEGORIES:Calme Mental,Méditation,Shiné
ATTACH;FMTTYPE=image/jpeg:https://cebtg.ch/wp-content/uploads/2023/08/IMG_7234-scaled-e1693428506443.jpeg
END:VEVENT
BEGIN:VEVENT
DTSTART;TZID=Europe/Zurich:20250929T080000
DTEND;TZID=Europe/Zurich:20250929T090000
DTSTAMP:20260425T122216
CREATED:20250831T104120Z
LAST-MODIFIED:20251002T091327Z
UID:10001421-1759132800-1759136400@cebtg.ch
SUMMARY:Méditation
DESCRIPTION:Méditation du calme mental en présence à la Maison Verte\, sur Zoom (codes habituels) et Youtube.
URL:https://cebtg.ch/evenement/meditation-89/
CATEGORIES:Calme Mental,Méditation,Shiné
ATTACH;FMTTYPE=image/jpeg:https://cebtg.ch/wp-content/uploads/2023/08/IMG_7234-scaled-e1693428506443.jpeg
END:VEVENT
BEGIN:VEVENT
DTSTART;TZID=Europe/Zurich:20250929T183000
DTEND;TZID=Europe/Zurich:20250929T200000
DTSTAMP:20260425T122216
CREATED:20251002T085652Z
LAST-MODIFIED:20251223T162651Z
UID:10001576-1759170600-1759176000@cebtg.ch
SUMMARY:Méditation
DESCRIPTION:Méditation du calme mental\, en présence à Vimalakirti\, sur Zoom (codes habituels) et Youtube.
URL:https://cebtg.ch/evenement/meditation-124/
CATEGORIES:Calme Mental,Méditation,Shiné
ATTACH;FMTTYPE=image/jpeg:https://cebtg.ch/wp-content/uploads/2023/08/IMG_7234-scaled-e1693428506443.jpeg
END:VEVENT
BEGIN:VEVENT
DTSTART;TZID=Europe/Zurich:20250929T183000
DTEND;TZID=Europe/Zurich:20250929T200000
DTSTAMP:20260425T122216
CREATED:20250831T104120Z
LAST-MODIFIED:20251002T091327Z
UID:10001422-1759170600-1759176000@cebtg.ch
SUMMARY:Méditation
DESCRIPTION:Méditation du calme mental\, en présence à Vimalakirti\, sur Zoom (codes habituels) et Youtube.
URL:https://cebtg.ch/evenement/meditation-90/
CATEGORIES:Calme Mental,Méditation,Shiné
ATTACH;FMTTYPE=image/jpeg:https://cebtg.ch/wp-content/uploads/2023/08/IMG_7234-scaled-e1693428506443.jpeg
END:VEVENT
BEGIN:VEVENT
DTSTART;TZID=Europe/Zurich:20251002T183000
DTEND;TZID=Europe/Zurich:20251002T203000
DTSTAMP:20260425T122216
CREATED:20251002T085652Z
LAST-MODIFIED:20251223T162651Z
UID:10001581-1759429800-1759437000@cebtg.ch
SUMMARY:Vevey Méditation
DESCRIPTION:
URL:https://cebtg.ch/evenement/vevey-meditation-22/
CATEGORIES:Calme Mental,Méditation,Shiné,Vevey
ATTACH;FMTTYPE=image/jpeg:https://cebtg.ch/wp-content/uploads/2023/08/IMG_7234-scaled-e1693428506443.jpeg
END:VEVENT
BEGIN:VEVENT
DTSTART;TZID=Europe/Zurich:20251006T080000
DTEND;TZID=Europe/Zurich:20251006T090000
DTSTAMP:20260425T122216
CREATED:20251002T085652Z
LAST-MODIFIED:20251223T162651Z
UID:10001584-1759737600-1759741200@cebtg.ch
SUMMARY:Méditation
DESCRIPTION:Méditation du calme mental en présence à la Maison Verte\, sur Zoom (codes habituels) et Youtube.
URL:https://cebtg.ch/evenement/meditation-125/
CATEGORIES:Calme Mental,Méditation,Shiné
ATTACH;FMTTYPE=image/jpeg:https://cebtg.ch/wp-content/uploads/2023/08/IMG_7234-scaled-e1693428506443.jpeg
END:VEVENT
BEGIN:VEVENT
DTSTART;TZID=Europe/Zurich:20251006T183000
DTEND;TZID=Europe/Zurich:20251006T200000
DTSTAMP:20260425T122216
CREATED:20251002T085653Z
LAST-MODIFIED:20251223T162652Z
UID:10001585-1759775400-1759780800@cebtg.ch
SUMMARY:Méditation
DESCRIPTION:Méditation du calme mental\, en présence à Vimalakirti\, sur Zoom (codes habituels) et Youtube.
URL:https://cebtg.ch/evenement/meditation-126/
CATEGORIES:Calme Mental,Méditation,Shiné
ATTACH;FMTTYPE=image/jpeg:https://cebtg.ch/wp-content/uploads/2023/08/IMG_7234-scaled-e1693428506443.jpeg
END:VEVENT
BEGIN:VEVENT
DTSTART;TZID=Europe/Zurich:20251013T080000
DTEND;TZID=Europe/Zurich:20251013T090000
DTSTAMP:20260425T122216
CREATED:20251002T085653Z
LAST-MODIFIED:20251223T162652Z
UID:10001591-1760342400-1760346000@cebtg.ch
SUMMARY:Méditation
DESCRIPTION:Méditation du calme mental en présence à la Maison Verte\, sur Zoom (codes habituels) et Youtube.
URL:https://cebtg.ch/evenement/meditation-127/
CATEGORIES:Calme Mental,Méditation,Shiné
ATTACH;FMTTYPE=image/jpeg:https://cebtg.ch/wp-content/uploads/2023/08/IMG_7234-scaled-e1693428506443.jpeg
END:VEVENT
BEGIN:VEVENT
DTSTART;TZID=Europe/Zurich:20251020T080000
DTEND;TZID=Europe/Zurich:20251020T090000
DTSTAMP:20260425T122216
CREATED:20251002T085654Z
LAST-MODIFIED:20251223T162652Z
UID:10001597-1760947200-1760950800@cebtg.ch
SUMMARY:Méditation
DESCRIPTION:Méditation du calme mental en présence à la Maison Verte\, sur Zoom (codes habituels) et Youtube.
URL:https://cebtg.ch/evenement/meditation-129/
CATEGORIES:Calme Mental,Méditation,Shiné
ATTACH;FMTTYPE=image/jpeg:https://cebtg.ch/wp-content/uploads/2023/08/IMG_7234-scaled-e1693428506443.jpeg
END:VEVENT
BEGIN:VEVENT
DTSTART;TZID=Europe/Zurich:20251124T183000
DTEND;TZID=Europe/Zurich:20251124T200000
DTSTAMP:20260425T122216
CREATED:20251002T085656Z
LAST-MODIFIED:20260108T091337Z
UID:10001630-1764009000-1764014400@cebtg.ch
SUMMARY:Méditation
DESCRIPTION:Méditation du calme mental\, en présence à Vimalakirti\, sur Zoom (codes habituels) et Youtube.
URL:https://cebtg.ch/evenement/meditation-138/
CATEGORIES:Calme Mental,Méditation,Mercredi soir,Shiné
ATTACH;FMTTYPE=image/jpeg:https://cebtg.ch/wp-content/uploads/2023/03/calme-turquoise.jpg
END:VEVENT
BEGIN:VEVENT
DTSTART;TZID=Europe/Zurich:20251201T080000
DTEND;TZID=Europe/Zurich:20251201T090000
DTSTAMP:20260425T122216
CREATED:20251002T085657Z
LAST-MODIFIED:20260125T105116Z
UID:10001633-1764576000-1764579600@cebtg.ch
SUMMARY:Méditation
DESCRIPTION:Méditation du calme mental en présence à la Maison Verte\, sur Zoom (codes habituels) et Youtube.
URL:https://cebtg.ch/evenement/meditation-139/
CATEGORIES:Calme Mental,Méditation,Mercredi soir,Shiné
ATTACH;FMTTYPE=image/jpeg:https://cebtg.ch/wp-content/uploads/2023/03/calme-turquoise.jpg
END:VEVENT
BEGIN:VEVENT
DTSTART;TZID=Europe/Zurich:20251208T080000
DTEND;TZID=Europe/Zurich:20251208T090000
DTSTAMP:20260425T122216
CREATED:20251002T085657Z
LAST-MODIFIED:20260125T105117Z
UID:10001641-1765180800-1765184400@cebtg.ch
SUMMARY:Méditation
DESCRIPTION:Méditation du calme mental en présence à la Maison Verte\, sur Zoom (codes habituels) et Youtube.
URL:https://cebtg.ch/evenement/meditation-141/
CATEGORIES:Calme Mental,Méditation,Mercredi soir,Shiné
ATTACH;FMTTYPE=image/jpeg:https://cebtg.ch/wp-content/uploads/2023/03/calme-turquoise.jpg
END:VEVENT
BEGIN:VEVENT
DTSTART;TZID=Europe/Zurich:20251208T183000
DTEND;TZID=Europe/Zurich:20251208T200000
DTSTAMP:20260425T122216
CREATED:20251002T085657Z
LAST-MODIFIED:20260125T105117Z
UID:10001643-1765218600-1765224000@cebtg.ch
SUMMARY:Méditation
DESCRIPTION:Méditation du calme mental\, en présence à Vimalakirti\, sur Zoom (codes habituels) et Youtube.
URL:https://cebtg.ch/evenement/meditation-142/
CATEGORIES:Calme Mental,Méditation,Mercredi soir,Shiné
ATTACH;FMTTYPE=image/jpeg:https://cebtg.ch/wp-content/uploads/2023/03/calme-turquoise.jpg
END:VEVENT
BEGIN:VEVENT
DTSTART;TZID=Europe/Zurich:20251215T080000
DTEND;TZID=Europe/Zurich:20251215T090000
DTSTAMP:20260425T122216
CREATED:20251209T165650Z
LAST-MODIFIED:20260125T105117Z
UID:10001698-1765785600-1765789200@cebtg.ch
SUMMARY:Méditation (en présentiel\, Maison Verte)
DESCRIPTION:Méditation du calme mental en présence à la Maison Verte\, sur Zoom (codes habituels) et Youtube.
URL:https://cebtg.ch/evenement/meditation-en-presentiel-maison-verte/
CATEGORIES:Calme Mental,Méditation
ATTACH;FMTTYPE=image/jpeg:https://cebtg.ch/wp-content/uploads/2023/08/IMG_7234-scaled-e1693428506443.jpeg
END:VEVENT
BEGIN:VEVENT
DTSTART;TZID=Europe/Zurich:20251215T180000
DTEND;TZID=Europe/Zurich:20251215T190000
DTSTAMP:20260425T122216
CREATED:20251002T085658Z
LAST-MODIFIED:20260125T105117Z
UID:10001649-1765821600-1765825200@cebtg.ch
SUMMARY:Méditation
DESCRIPTION:Méditation du calme mental\, uniquement sur Zoom et YouTube pour cette session.
URL:https://cebtg.ch/evenement/meditation-144/
CATEGORIES:Calme Mental,Méditation,Mercredi soir,Shiné
ATTACH;FMTTYPE=image/jpeg:https://cebtg.ch/wp-content/uploads/2023/03/calme-turquoise.jpg
END:VEVENT
BEGIN:VEVENT
DTSTART;TZID=Europe/Zurich:20251222T080000
DTEND;TZID=Europe/Zurich:20251222T090000
DTSTAMP:20260425T122216
CREATED:20251223T163958Z
LAST-MODIFIED:20260125T105117Z
UID:10001791-1766390400-1766394000@cebtg.ch
SUMMARY:Méditation
DESCRIPTION:Méditation du calme mental en présence à la Maison Verte\, sur Zoom (codes habituels) et Youtube.
URL:https://cebtg.ch/evenement/meditation-172/
CATEGORIES:Calme Mental,Méditation
ATTACH;FMTTYPE=image/jpeg:https://cebtg.ch/wp-content/uploads/2023/08/IMG_7234-scaled-e1693428506443.jpeg
END:VEVENT
BEGIN:VEVENT
DTSTART;TZID=Europe/Zurich:20251222T183000
DTEND;TZID=Europe/Zurich:20251222T200000
DTSTAMP:20260425T122216
CREATED:20251223T163958Z
LAST-MODIFIED:20260125T105118Z
UID:10001792-1766428200-1766433600@cebtg.ch
SUMMARY:Méditation
DESCRIPTION:Méditation du calme mental\, en présence à Vimalakirti\, sur Zoom (codes habituels) et Youtube.
URL:https://cebtg.ch/evenement/meditation-173/
CATEGORIES:Calme Mental,Méditation
ATTACH;FMTTYPE=image/jpeg:https://cebtg.ch/wp-content/uploads/2023/08/IMG_7234-scaled-e1693428506443.jpeg
END:VEVENT
BEGIN:VEVENT
DTSTART;TZID=Europe/Zurich:20260105T080000
DTEND;TZID=Europe/Zurich:20260105T090000
DTSTAMP:20260425T122216
CREATED:20251223T163615Z
LAST-MODIFIED:20260125T105118Z
UID:10001716-1767600000-1767603600@cebtg.ch
SUMMARY:Méditation
DESCRIPTION:Méditation du calme mental en présence à la Maison Verte\, sur Zoom (codes habituels) et Youtube.
URL:https://cebtg.ch/evenement/meditation-147/
CATEGORIES:Calme Mental,Méditation
ATTACH;FMTTYPE=image/jpeg:https://cebtg.ch/wp-content/uploads/2023/08/IMG_7234-scaled-e1693428506443.jpeg
END:VEVENT
BEGIN:VEVENT
DTSTART;TZID=Europe/Zurich:20260105T183000
DTEND;TZID=Europe/Zurich:20260105T200000
DTSTAMP:20260425T122216
CREATED:20251223T163616Z
LAST-MODIFIED:20260125T105118Z
UID:10001717-1767637800-1767643200@cebtg.ch
SUMMARY:Méditation - Shiné
DESCRIPTION:Méditation du calme mental\, en présence à Vimalakirti\, sur Zoom (codes habituels) et Youtube.
URL:https://cebtg.ch/evenement/meditation-148/
CATEGORIES:Calme Mental,Méditation
ATTACH;FMTTYPE=image/jpeg:https://cebtg.ch/wp-content/uploads/2023/08/IMG_7234-scaled-e1693428506443.jpeg
END:VEVENT
BEGIN:VEVENT
DTSTART;TZID=Europe/Zurich:20260112T080000
DTEND;TZID=Europe/Zurich:20260112T090000
DTSTAMP:20260425T122216
CREATED:20251223T163616Z
LAST-MODIFIED:20260125T105118Z
UID:10001723-1768204800-1768208400@cebtg.ch
SUMMARY:Méditation
DESCRIPTION:Méditation du calme mental en présence à la Maison Verte\, sur Zoom (codes habituels) et Youtube.
URL:https://cebtg.ch/evenement/meditation-149/
LOCATION:La Maison Verte\, Pl. des Grottes 5\, Genève\, Geneva\, 1201\, Suisse
CATEGORIES:Calme Mental,Méditation
ATTACH;FMTTYPE=image/jpeg:https://cebtg.ch/wp-content/uploads/2023/08/IMG_7234-scaled-e1693428506443.jpeg
END:VEVENT
BEGIN:VEVENT
DTSTART;TZID=Europe/Zurich:20260112T183000
DTEND;TZID=Europe/Zurich:20260112T200000
DTSTAMP:20260425T122216
CREATED:20260108T095422Z
LAST-MODIFIED:20260125T105118Z
UID:10001799-1768242600-1768248000@cebtg.ch
SUMMARY:Méditation - Shiné
DESCRIPTION:Méditation du calme mental\, en présence à Vimalakirti\, sur Zoom (codes habituels) et Youtube.
URL:https://cebtg.ch/evenement/meditation-shine/
CATEGORIES:Calme Mental,Shiné
ATTACH;FMTTYPE=image/jpeg:https://cebtg.ch/wp-content/uploads/2023/03/calme-turquoise.jpg
END:VEVENT
END:VCALENDAR