BEGIN:VCALENDAR
VERSION:2.0
PRODID:-//Centre d&#039;Etudes du Bouddhisme Tibétain de Genève - ECPv6.15.20//NONSGML v1.0//EN
CALSCALE:GREGORIAN
METHOD:PUBLISH
X-WR-CALNAME:Centre d&#039;Etudes du Bouddhisme Tibétain de Genève
X-ORIGINAL-URL:https://cebtg.ch
X-WR-CALDESC:Évènements pour Centre d&#039;Etudes du Bouddhisme Tibétain de Genève
REFRESH-INTERVAL;VALUE=DURATION:PT1H
X-Robots-Tag:noindex
X-PUBLISHED-TTL:PT1H
BEGIN:VTIMEZONE
TZID:Europe/Zurich
BEGIN:DAYLIGHT
TZOFFSETFROM:+0100
TZOFFSETTO:+0200
TZNAME:CEST
DTSTART:20230326T010000
END:DAYLIGHT
BEGIN:STANDARD
TZOFFSETFROM:+0200
TZOFFSETTO:+0100
TZNAME:CET
DTSTART:20231029T010000
END:STANDARD
BEGIN:DAYLIGHT
TZOFFSETFROM:+0100
TZOFFSETTO:+0200
TZNAME:CEST
DTSTART:20240331T010000
END:DAYLIGHT
BEGIN:STANDARD
TZOFFSETFROM:+0200
TZOFFSETTO:+0100
TZNAME:CET
DTSTART:20241027T010000
END:STANDARD
BEGIN:DAYLIGHT
TZOFFSETFROM:+0100
TZOFFSETTO:+0200
TZNAME:CEST
DTSTART:20250330T010000
END:DAYLIGHT
BEGIN:STANDARD
TZOFFSETFROM:+0200
TZOFFSETTO:+0100
TZNAME:CET
DTSTART:20251026T010000
END:STANDARD
END:VTIMEZONE
BEGIN:VEVENT
DTSTART;VALUE=DATE:20241026
DTEND;VALUE=DATE:20241028
DTSTAMP:20260423T060945
CREATED:20240730T112556Z
LAST-MODIFIED:20241204T154443Z
UID:10000924-1729900800-1730073599@cebtg.ch
SUMMARY:Lodjong et Tonglen à Montchardon – 1° partie
DESCRIPTION:Entrainement de l’esprit Lodjong et Tonglen – 1° partie\n \nAvec Lama Jean-Marc Falcombello (Djinpa Lodreu)\n \n\n \n\nQuelques mots sur l’Entraînement de l’esprit\, Lojong et Tonglèn\nLa pratique de Lojong\, l’Entraînement de l’esprit en 7 points\, est un texte célèbre\, écrit par Tchekawa Yeshé Dorjé au 12e siècle et n’a pas cessé depuis d’être commentée et mise en œuvre par des générations de pratiquants jusqu’à nos jours. Ces instructions  se présentent sous la forme de 59 aphorismes ou maximes\, en 7 chapitres. Elles permettent de transformer toute situation ordinaire en une opportunité d’évolution spirituelle. En s’entraînant à développer les deux aspects cruciaux de la pratique\, d’une part l’amour et la compassion\, d’autre part la sagesse qui voit les choses telles qu’elles sont. Cette pratique de Lodjong nous amène peu à peu à nous libérer des tendances égocentriques qui nous affligent et opère une profonde transformation dans notre esprit.\nLa mise en œuvre de cette pratique de Tonglèn\, la pratique du don et de la prise en charge. Elle prend la forme d’une méditation silencieuse au cours de laquelle chaque phase de la respiration est associée tout d’abord au don fait à tous les êtres de tout ce qui est bon en nous\, et ensuite\, à la prise en charge de tout ce qui est douloureux et qui les touche. Elle repose sur le principe de l’échange avec autrui. \nChaque année\, le centre de Montchardon propose deux périodes de stages\, au printemps et en automne\, consacrées à l’Entraînement de l’esprit\, Lojong en tibétain. Ces rendez-vous réguliers nous donnent l’occasion de nous entrainer collectivement à cette pratique de Lojong\, d’explorer à nouveau le contenu des instructions et de voir comment nous pouvons les intégrer dans notre vie. Ensemble\, engagé dans le travail proposé\, nous profitons de la compréhension de chacun pour découvrir l’infinie richesse de la pratique profonde à laquelle nous invite les 7 points de l’Entraînement de l’esprit.\nDurant ce stage\, animé dans l’esprit d’un atelier\, chacun trouve l’occasion au cours des sessions\, alternant entre des moments de méditation\, d’exercice\, de partage et de réflexion\, de se familiariser avec le grand thème sous-jacents de l’Entraînement de l’esprit : le développement de l’amour et la compassion.\nS’appuyant sur les instructions-clés de « l’égalité avec autrui » et de « l’échange avec autrui » tel qu’en parle Śāntideva dans la Marche vers l’Éveil\, nous apprenons ensemble à comprendre ces principes et à nous en inspirer pour nous nous engager dans l’Entraînement de l’esprit et la mise en œuvre de l’amour et de la compassion. \n1ère partie du stage – Du vendredi 12\, 20h au dimanche 14 avril\nC’est une prise de contact avec cette démarche particulière de l’Entraînement de l’esprit. Si l’on a déjà participé à ce stage\, c’est l’occasion de mettre à jour notre pratique et de l’approfondir. Et si c’est notre première participation\, cela nous permet d’intégrer les principes fondamentaux de cette pratique et la démarche intérieure qu’elle propose.\nLes instructions étudiées et pratiquées s’appuient sur le commentaire de l’Entraînement de l’esprit composé par Jamgoeun Kongtrul.\nNous prenons aussi le temps de mettre en place les bases de la pratique méditative associée à l’Entraînement de l’esprit : la pratique de Tonglen. \nIl est possible d’assister uniquement au week-end sans poursuivre avec la deuxième partie du stage. \nLe stage débute vendredi soir à 20h00 par une séance d’introduction. \n\n\nFrais de session : 8\,50€/jour \nOrganisation : Montchardon
URL:https://cebtg.ch/evenement/lojong-1/
LOCATION:Montchardon KML\, 8900 Rte de Montchardon\, Izeron\, 38160\, France
CATEGORIES:KML
ATTACH;FMTTYPE=image/jpeg:https://cebtg.ch/wp-content/uploads/2024/07/lojong-slogans-boeddhisme-1620x614-c-default@2x-scaled.jpg
END:VEVENT
BEGIN:VEVENT
DTSTART;VALUE=DATE:20241028
DTEND;VALUE=DATE:20241102
DTSTAMP:20260423T060945
CREATED:20240730T112557Z
LAST-MODIFIED:20241204T154443Z
UID:10000925-1730073600-1730505599@cebtg.ch
SUMMARY:Lodjong et Tonglen à Montchardon – 2e partie
DESCRIPTION:2ème partie – Du lundi 28 au vendredi 1er novembre \nLa deuxième partie du stage nous permet de mieux intégrer encore certains des 59 aphorismes de l’Entraînement de lʼesprit\, qui composent le texte racine sous la forme de courtes phrases.\nNous avons aussi l’occasion de prendre plus de temps pour la pratique méditative associée à l’Entraînement de l’esprit : la pratique de Tonglen. Des moments de restitution et d’échange\, en groupe\, sont aussi proposés pour nous aider à clarifier et enrichir notre pratique.\nIl est possible d’assister uniquement à cette deuxième partie\, mais si l’on n’a jamais pris contact avec la pratique de Lojong\, il est conseillé de suivre tout d’abord la première partie du stage. \nQuelques mots sur l’Entraînement de l’esprit\, Lojong et Tonglèn (cliquer sur ce lien) \nFrais de session : 12€/jour
URL:https://cebtg.ch/evenement/lojong/
LOCATION:Montchardon KML\, 8900 Rte de Montchardon\, Izeron\, 38160\, France
CATEGORIES:KML
ATTACH;FMTTYPE=image/jpeg:https://cebtg.ch/wp-content/uploads/2024/07/lojong-slogans-boeddhisme-1620x614-c-default@2x-scaled.jpg
END:VEVENT
BEGIN:VEVENT
DTSTART;TZID=Europe/Zurich:20241028T073000
DTEND;TZID=Europe/Zurich:20241028T080000
DTSTAMP:20260423T060945
CREATED:20240821T110408Z
LAST-MODIFIED:20241208T220547Z
UID:10001085-1730100600-1730102400@cebtg.ch
SUMMARY:Récitation de l'Appel au Lama de loin
DESCRIPTION:Récitation de l’Appel au Lama de loin en présence à la Maison Verte et sur Zoom.
URL:https://cebtg.ch/evenement/recitation-de-lappel-au-lama-de-loin-8/
CATEGORIES:Prière
ATTACH;FMTTYPE=image/jpeg:https://cebtg.ch/wp-content/uploads/2024/11/IMG_5501-e1733695400999.jpg
END:VEVENT
BEGIN:VEVENT
DTSTART;TZID=Europe/Zurich:20241028T080000
DTEND;TZID=Europe/Zurich:20241028T090000
DTSTAMP:20260423T060945
CREATED:20240821T110408Z
LAST-MODIFIED:20241204T154443Z
UID:10001086-1730102400-1730106000@cebtg.ch
SUMMARY:Méditation
DESCRIPTION:Méditation du calme mental en présence à la Maison Verte\, sur Zoom (codes habituels) et Youtube.
URL:https://cebtg.ch/evenement/meditation-17/
CATEGORIES:Calme Mental
ATTACH;FMTTYPE=image/jpeg:https://cebtg.ch/wp-content/uploads/2023/08/IMG_7234-scaled-e1693428506443.jpeg
END:VEVENT
BEGIN:VEVENT
DTSTART;TZID=Europe/Zurich:20241028T190000
DTEND;TZID=Europe/Zurich:20241028T203000
DTSTAMP:20260423T060945
CREATED:20240821T214850Z
LAST-MODIFIED:20241204T154443Z
UID:10001106-1730142000-1730147400@cebtg.ch
SUMMARY:Présentation des "groupes d'études" par les restituteurs de Dhagpo
DESCRIPTION:Deux restituteurs de Dhagpo Kagyu Ling feront une session par Zoom pour toutes les personnes intéressées du CEBTG\, ainsi que des centres proches CEBTL et Kagyu Die.\nLes restituteurs présenteront la manière d’organiser une étude approfondie par petits groupes. Il s’agit d’une méthode mise en place par Jigmé Rinpoché dans les centres du maṇḍala de Dhagpo depuis plusieurs années. \nLa présentation sera suivie d’une session de questions-réponses. Cette méthodologie s’applique à tout type de texte du Dharma et à tout groupe\, que l’on soit en présence ou en ligne. C’est un moyen précieux qui renforce la connaissance précise des textes et les liens des communautés.\nL’idée consiste ensuite à organiser des groupes en autonomie pour étudier ensemble le Dhagpo Targyen (« Cycle Gampopa » ) ou d’autres textes. \nVous pouvez rejoindre cette session en utilisant les codes habituels du CEBTG.
URL:https://cebtg.ch/evenement/groupe-de-partage/
LOCATION:Online
ATTACH;FMTTYPE=image/jpeg:https://cebtg.ch/wp-content/uploads/2024/10/groupe-detude-DKL-e1729410503155.jpg
END:VEVENT
BEGIN:VEVENT
DTSTART;TZID=Europe/Zurich:20241030T183000
DTEND;TZID=Europe/Zurich:20241030T191500
DTSTAMP:20260423T060945
CREATED:20240821T110408Z
LAST-MODIFIED:20241204T154443Z
UID:10001088-1730313000-1730315700@cebtg.ch
SUMMARY:Pratique de Tchenrezi
DESCRIPTION:Pratique de Thenrezi en présence à Vimalakirti et sur Zoom
URL:https://cebtg.ch/evenement/pratique-de-tchenrezi-8/
CATEGORIES:Tchenrezi
ATTACH;FMTTYPE=image/jpeg:https://cebtg.ch/wp-content/uploads/2023/08/Tchenrezi-4-bras1.jpg
END:VEVENT
BEGIN:VEVENT
DTSTART;TZID=Europe/Zurich:20241030T193000
DTEND;TZID=Europe/Zurich:20241030T203000
DTSTAMP:20260423T060945
CREATED:20240821T110408Z
LAST-MODIFIED:20241204T154443Z
UID:10001089-1730316600-1730320200@cebtg.ch
SUMMARY:Enseignement - thème libre
DESCRIPTION:Enseignement de lama Djinpa Lodreu (Jean-Marc Falcombello) en présence à Vimalakirti\, sur Zoom et Youtube. Thème libre.
URL:https://cebtg.ch/evenement/enseignement-4/
CATEGORIES:Enseignement
ATTACH;FMTTYPE=image/jpeg:https://cebtg.ch/wp-content/uploads/2023/04/IMG_5560.jpg
END:VEVENT
BEGIN:VEVENT
DTSTART;TZID=Europe/Zurich:20241104T073000
DTEND;TZID=Europe/Zurich:20241104T080000
DTSTAMP:20260423T060945
CREATED:20240821T110408Z
LAST-MODIFIED:20241208T220547Z
UID:10001090-1730705400-1730707200@cebtg.ch
SUMMARY:Récitation de l'Appel au Lama de loin
DESCRIPTION:Récitation de l’Appel au Lama de loin en présence à la Maison Verte et sur Zoom.
URL:https://cebtg.ch/evenement/recitation-de-lappel-au-lama-de-loin-9/
CATEGORIES:Prière
ATTACH;FMTTYPE=image/jpeg:https://cebtg.ch/wp-content/uploads/2024/11/IMG_5501-e1733695400999.jpg
END:VEVENT
BEGIN:VEVENT
DTSTART;TZID=Europe/Zurich:20241104T080000
DTEND;TZID=Europe/Zurich:20241104T090000
DTSTAMP:20260423T060945
CREATED:20240821T110408Z
LAST-MODIFIED:20241204T154443Z
UID:10001091-1730707200-1730710800@cebtg.ch
SUMMARY:Méditation
DESCRIPTION:Méditation du calme mental en présence à la Maison Verte\, sur Zoom (codes habituels) et Youtube.
URL:https://cebtg.ch/evenement/meditation-19/
CATEGORIES:Calme Mental
ATTACH;FMTTYPE=image/jpeg:https://cebtg.ch/wp-content/uploads/2023/08/IMG_7234-scaled-e1693428506443.jpeg
END:VEVENT
BEGIN:VEVENT
DTSTART;TZID=Europe/Zurich:20241104T183000
DTEND;TZID=Europe/Zurich:20241104T200000
DTSTAMP:20260423T060945
CREATED:20240821T110409Z
LAST-MODIFIED:20241204T154443Z
UID:10001092-1730745000-1730750400@cebtg.ch
SUMMARY:Méditation
DESCRIPTION:Méditation du calme mental\, en présence à Vimalakirti\, sur Zoom (codes habituels) et Youtube.
URL:https://cebtg.ch/evenement/meditation-20/
CATEGORIES:Calme Mental
ATTACH;FMTTYPE=image/jpeg:https://cebtg.ch/wp-content/uploads/2023/08/IMG_7234-scaled-e1693428506443.jpeg
END:VEVENT
BEGIN:VEVENT
DTSTART;TZID=Europe/Zurich:20241105T190000
DTEND;TZID=Europe/Zurich:20241105T210000
DTSTAMP:20260423T060945
CREATED:20240927T063404Z
LAST-MODIFIED:20251002T091615Z
UID:10001113-1730833200-1730840400@cebtg.ch
SUMMARY:Vevey Méditation
DESCRIPTION:
URL:https://cebtg.ch/evenement/vevey-meditation-14/
CATEGORIES:Vevey
ATTACH;FMTTYPE=image/png:https://cebtg.ch/wp-content/uploads/2023/01/vevey-16_9.png
END:VEVENT
BEGIN:VEVENT
DTSTART;TZID=Europe/Zurich:20241106T113000
DTEND;TZID=Europe/Zurich:20241106T123000
DTSTAMP:20260423T060945
CREATED:20241019T163457Z
LAST-MODIFIED:20241204T154337Z
UID:10001116-1730892600-1730896200@cebtg.ch
SUMMARY:Cours de tibétain débutant
DESCRIPTION:Ce cours « débutant » s’adresse aux personnes qui n’ont aucune connaissance de l’alphabet tibétain et ne savent pas lire. À terme\, elles pourront rejoindre le cours intermédiaire.
URL:https://cebtg.ch/evenement/cours-de-tibetain-debutant-5/
CATEGORIES:Cours de tibétain
ATTACH;FMTTYPE=image/png:https://cebtg.ch/wp-content/uploads/2023/01/texte_tibetain_16_9.png
END:VEVENT
BEGIN:VEVENT
DTSTART;TZID=Europe/Zurich:20241106T183000
DTEND;TZID=Europe/Zurich:20241106T191500
DTSTAMP:20260423T060945
CREATED:20240821T110409Z
LAST-MODIFIED:20241204T154443Z
UID:10001093-1730917800-1730920500@cebtg.ch
SUMMARY:Pratique de Tchenrezi
DESCRIPTION:Pratique de Thenrezi en présence à Vimalakirti et sur Zoom
URL:https://cebtg.ch/evenement/pratique-de-tchenrezi-9/
CATEGORIES:Tchenrezi
ATTACH;FMTTYPE=image/jpeg:https://cebtg.ch/wp-content/uploads/2023/08/Tchenrezi-4-bras1.jpg
END:VEVENT
BEGIN:VEVENT
DTSTART;TZID=Europe/Zurich:20241106T193000
DTEND;TZID=Europe/Zurich:20241106T203000
DTSTAMP:20260423T060945
CREATED:20240821T110409Z
LAST-MODIFIED:20241204T154443Z
UID:10001094-1730921400-1730925000@cebtg.ch
SUMMARY:Enseignement - thème libre
DESCRIPTION:Enseignement de lama Djinpa Lodreu (Jean-Marc Falcombello) en présence à Vimalakirti\, sur Zoom et Youtube. Thème libre.
URL:https://cebtg.ch/evenement/enseignement-5/
CATEGORIES:Enseignement
ATTACH;FMTTYPE=image/jpeg:https://cebtg.ch/wp-content/uploads/2023/04/IMG_5560.jpg
END:VEVENT
BEGIN:VEVENT
DTSTART;TZID=Europe/Zurich:20241107T120000
DTEND;TZID=Europe/Zurich:20241107T130000
DTSTAMP:20260423T060945
CREATED:20240821T081150Z
LAST-MODIFIED:20241106T180904Z
UID:10000979-1730980800-1730984400@cebtg.ch
SUMMARY:Cours de tibétain 2
DESCRIPTION:Le premier cours\, de 12h à 13h concerne l’analyse de texte. Il s’adresse à des étudiants avancés ayant déjà une certaine aisance dans la lecture d’un texte tibétain. L’enseignement s’appuie cette année sur l’étude du texte des 37 pratiques des bodhisattvas. Les leçons sont disponibles en replay pour les personnes qui souhaiteraient reprendre depuis le début.
URL:https://cebtg.ch/evenement/cours-de-tibetain-2-14/
CATEGORIES:Cours de tibétain
ATTACH;FMTTYPE=image/png:https://cebtg.ch/wp-content/uploads/2023/01/texte_tibetain_16_9.png
END:VEVENT
BEGIN:VEVENT
DTSTART;TZID=Europe/Zurich:20241107T131500
DTEND;TZID=Europe/Zurich:20241107T141500
DTSTAMP:20260423T060945
CREATED:20240821T081150Z
LAST-MODIFIED:20241106T180904Z
UID:10000980-1730985300-1730988900@cebtg.ch
SUMMARY:Cours de tibétain 1
DESCRIPTION:Le deuxième cours\, de 13h15 à 14h15\, concerne l’apprentissage de la lecture pour des débutants ou des personnes désireuses de parfaire leur capacité. La méthode employée est une méthode contextuelle développée spécifiquement\, qui consiste à apprendre les lettres directement dans le texte. C’est une sorte d’apprentissage « sur le terrain ». Cette année nous étudierons le sūtra de la pousse de riz. Les leçons sont disponibles en replay pour les personnes qui souhaiteraient reprendre depuis le début.
URL:https://cebtg.ch/evenement/cours-de-tibetain-1-9/
CATEGORIES:Cours de tibétain
ATTACH;FMTTYPE=image/png:https://cebtg.ch/wp-content/uploads/2023/01/texte_tibetain_16_9.png
END:VEVENT
BEGIN:VEVENT
DTSTART;TZID=Europe/Zurich:20241107T191500
DTEND;TZID=Europe/Zurich:20241107T211500
DTSTAMP:20260423T060945
CREATED:20240802T183445Z
LAST-MODIFIED:20241204T154443Z
UID:10000947-1731006900-1731014100@cebtg.ch
SUMMARY:Lausanne Dharma
DESCRIPTION:
URL:https://cebtg.ch/evenement/lausanne-dharma-4/
END:VEVENT
BEGIN:VEVENT
DTSTART;VALUE=DATE:20241108
DTEND;VALUE=DATE:20241109
DTSTAMP:20260423T060945
CREATED:20240730T112557Z
LAST-MODIFIED:20241204T154443Z
UID:10000926-1731024000-1731110399@cebtg.ch
SUMMARY:Journée de visite et méditation au Tibet Museum en Gruyère
DESCRIPTION:Le CEBTG a le plaisir de vous proposer pour la première fois de pratiquer et méditer dans la grande salle du Tibet Museum de Gruyère. Il s’agit d’un événement exceptionnel où nous réciterons les cinq soutras royaux\, nous méditerons et nous aurons la possibilité ensuite d’avoir une visite commentée des pièces du musée par Jean-Marc / Lama Djinpa Lodreu. \nConçu comme un espace méditatif dédié à la beauté spirituelle\, le Tibet Museum de Gruyères en Suisse abrite l’une des plus belles collections d’art tibétain au monde\, dont des pièces de la lignée Kagyu porteuses d’une grande bénédiction.Cette journée est limitée à 16 personnes\, par ordre d’inscription. Voici le lien vers le formulaire d’inscription. \nC’est une première collaboration avec le Tibet Museum que nous espérons renouveler à l’avenir.Pour les personnes qui souhaitent voyager en train\, nous partirons de Genève à 7h58 et rentrerons à 18h. Le prix de la journée sera celui du transport et de l’entrée au Tibet Museum (10.- CHF) payable sur place avec une offrande libre pour le lama. \nProgramme de la journée•Rendez-vous sur place devant le Tibet Museum\, à Gruyère : 10h30•Pratique et méditation : 11h à 13h•Pique-nique (dans un local proche du musée) : de 13h à 14h•Visite commentée : de 14h à 15h30 \nLes personnes inscrites recevront plus d’informations par email quelques jours avant le début de cette excursion.
URL:https://cebtg.ch/evenement/journee-cebt-en-gruyeres/
END:VEVENT
BEGIN:VEVENT
DTSTART;TZID=Europe/Zurich:20241110T100000
DTEND;TZID=Europe/Zurich:20241110T113000
DTSTAMP:20260423T060945
CREATED:20240806T180732Z
LAST-MODIFIED:20241204T154443Z
UID:10000955-1731232800-1731238200@cebtg.ch
SUMMARY:Acharya - Gampopa
DESCRIPTION:Une fois par mois le dimanche\, en direct depuis l’Inde\, l’Acharya Kunchok Tenzin transmet un enseignement sur L’Ornement de la Libération\, un texte fondamental de Gampopa\, le disciple du célèbre Milarépa et un des pères fondateurs de la lignée kagyu. \nCet enseignement fait partie du « Cycle d’enseignement autour de L’Ornement de la Libération » et sert de base à la constitution d’une éducation au Dharma fondée sur : 1) l’écoute\, 2) la réflexion et 3) l’intégration. De ce fait\, cet enseignement dominical est suivi par deux mercredis consacrés chacun à l’exercice de la réflexion et de l’intégration. \nL’enseignement du dimanche est donné en tibétain et est traduit en français par lama Djinpa Lodreu / Jean-Marc Falcombello.
URL:https://cebtg.ch/evenement/acharya-gampopa-3/
CATEGORIES:Gampopa
ATTACH;FMTTYPE=image/png:https://cebtg.ch/wp-content/uploads/2023/01/Gampopa-detail-16_9.png
END:VEVENT
BEGIN:VEVENT
DTSTART;TZID=Europe/Zurich:20241111T073000
DTEND;TZID=Europe/Zurich:20241111T080000
DTSTAMP:20260423T060945
CREATED:20240821T110409Z
LAST-MODIFIED:20241208T220453Z
UID:10001096-1731310200-1731312000@cebtg.ch
SUMMARY:Récitation de l'Appel au Lama de loin
DESCRIPTION:Récitation de l’Appel au Lama de loin en présence à la Maison Verte et sur Zoom.
URL:https://cebtg.ch/evenement/recitation-de-lappel-au-lama-de-loin-10/
CATEGORIES:Prière
ATTACH;FMTTYPE=image/jpeg:https://cebtg.ch/wp-content/uploads/2024/11/IMG_5501-e1733695400999.jpg
END:VEVENT
BEGIN:VEVENT
DTSTART;TZID=Europe/Zurich:20241111T080000
DTEND;TZID=Europe/Zurich:20241111T090000
DTSTAMP:20260423T060945
CREATED:20240821T110409Z
LAST-MODIFIED:20241204T154444Z
UID:10001095-1731312000-1731315600@cebtg.ch
SUMMARY:Méditation
DESCRIPTION:Méditation du calme mental en présence à la Maison Verte\, sur Zoom (codes habituels) et Youtube.
URL:https://cebtg.ch/evenement/meditation-21/
CATEGORIES:Calme Mental
ATTACH;FMTTYPE=image/jpeg:https://cebtg.ch/wp-content/uploads/2023/08/IMG_7234-scaled-e1693428506443.jpeg
END:VEVENT
BEGIN:VEVENT
DTSTART;TZID=Europe/Zurich:20241111T183000
DTEND;TZID=Europe/Zurich:20241111T200000
DTSTAMP:20260423T060945
CREATED:20240821T110409Z
LAST-MODIFIED:20241204T154444Z
UID:10001097-1731349800-1731355200@cebtg.ch
SUMMARY:Méditation
DESCRIPTION:Méditation du calme mental\, en présence à Vimalakirti\, sur Zoom (codes habituels) et Youtube.
URL:https://cebtg.ch/evenement/meditation-22/
CATEGORIES:Calme Mental,Méditation
ATTACH;FMTTYPE=image/jpeg:https://cebtg.ch/wp-content/uploads/2023/08/IMG_7234-scaled-e1693428506443.jpeg
END:VEVENT
BEGIN:VEVENT
DTSTART;TZID=Europe/Zurich:20241113T183000
DTEND;TZID=Europe/Zurich:20241113T191500
DTSTAMP:20260423T060945
CREATED:20240821T110409Z
LAST-MODIFIED:20241204T154444Z
UID:10001098-1731522600-1731525300@cebtg.ch
SUMMARY:Pratique de Tchenrezi
DESCRIPTION:Pratique de Thenrezi en présence à Vimalakirti et sur Zoom
URL:https://cebtg.ch/evenement/pratique-de-tchenrezi-10/
CATEGORIES:Tchenrezi
ATTACH;FMTTYPE=image/jpeg:https://cebtg.ch/wp-content/uploads/2023/08/Tchenrezi-4-bras1.jpg
END:VEVENT
BEGIN:VEVENT
DTSTART;TZID=Europe/Zurich:20241113T193000
DTEND;TZID=Europe/Zurich:20241113T203000
DTSTAMP:20260423T060945
CREATED:20240821T110409Z
LAST-MODIFIED:20241204T154444Z
UID:10001099-1731526200-1731529800@cebtg.ch
SUMMARY:Enseignement - Cycle Gampopa
DESCRIPTION:Enseignement – réflexion/intégration lié au « cycle Gampopa »\, 1er volet. \n \nAvec lama Djinpa Lodreu (Jean-Marc Falcombello) en présence à Vimalakirti\, sur Zoom et Youtube.
URL:https://cebtg.ch/evenement/enseignement-cycle-gampopa-5/
CATEGORIES:Gampopa
ATTACH;FMTTYPE=image/png:https://cebtg.ch/wp-content/uploads/2023/01/Gampopa-detail-16_9.png
END:VEVENT
BEGIN:VEVENT
DTSTART;TZID=Europe/Zurich:20241114T120000
DTEND;TZID=Europe/Zurich:20241114T130000
DTSTAMP:20260423T060945
CREATED:20240821T081150Z
LAST-MODIFIED:20241113T180819Z
UID:10000981-1731585600-1731589200@cebtg.ch
SUMMARY:Cours de tibétain 2
DESCRIPTION:Le premier cours\, de 12h à 13h concerne l’analyse de texte. Il s’adresse à des étudiants avancés ayant déjà une certaine aisance dans la lecture d’un texte tibétain. L’enseignement s’appuie cette année sur l’étude du texte des 37 pratiques des bodhisattvas. Les leçons sont disponibles en replay pour les personnes qui souhaiteraient reprendre depuis le début.
URL:https://cebtg.ch/evenement/cours-de-tibetain-2-15/
CATEGORIES:Cours de tibétain
ATTACH;FMTTYPE=image/png:https://cebtg.ch/wp-content/uploads/2023/01/texte_tibetain_16_9.png
END:VEVENT
BEGIN:VEVENT
DTSTART;TZID=Europe/Zurich:20241114T131500
DTEND;TZID=Europe/Zurich:20241114T141500
DTSTAMP:20260423T060945
CREATED:20240821T081150Z
LAST-MODIFIED:20241113T180819Z
UID:10000982-1731590100-1731593700@cebtg.ch
SUMMARY:Cours de tibétain 1
DESCRIPTION:Le deuxième cours\, de 13h15 à 14h15\, concerne l’apprentissage de la lecture pour des débutants ou des personnes désireuses de parfaire leur capacité. La méthode employée est une méthode contextuelle développée spécifiquement\, qui consiste à apprendre les lettres directement dans le texte. C’est une sorte d’apprentissage « sur le terrain ». Cette année nous étudierons le sūtra de la pousse de riz. Les leçons sont disponibles en replay pour les personnes qui souhaiteraient reprendre depuis le début.
URL:https://cebtg.ch/evenement/cours-de-tibetain-1-10/
CATEGORIES:Cours de tibétain
ATTACH;FMTTYPE=image/png:https://cebtg.ch/wp-content/uploads/2023/01/texte_tibetain_16_9.png
END:VEVENT
BEGIN:VEVENT
DTSTART;VALUE=DATE:20241115
DTEND;VALUE=DATE:20241118
DTSTAMP:20260423T060945
CREATED:20241019T162202Z
LAST-MODIFIED:20241204T154444Z
UID:10001115-1731628800-1731887999@cebtg.ch
SUMMARY:Lama Sangpo
DESCRIPTION:Lama Sangpo\, supérieur de la Congrégation de Montchardon\, Karma Migyur Ling\, maître de retraite et yogi accompli\, nous fait le très grand plaisir d’une visite au CEBT Genève\, du vendredi 15 au soir au dimanche 17 novembre à 16h. \nLe vendredi soir\, il est prévu une pratique d’offrande (Tsok de Milarépa\, à confirmer) et un week-end consacré à la pratique de Tchenrézi\, avec l’initiation de Tchenrézi le dimanche après-midi. \nUne soirée et deux jours d’enseignement en présentiel et online. Si vous souhaitez réservez la date\, nous vous fournirons plus d’informations dans une prochaine newsletter.
URL:https://cebtg.ch/evenement/lama-sangpo/
LOCATION:Salle du Centre Vimalakirti\, Rue Henri-Frédéric-Amiel 10\, Genève\, Geneva\, 1203\, Suisse
ATTACH;FMTTYPE=image/jpeg:https://cebtg.ch/wp-content/uploads/2024/10/lama-sangpo-IMG_6508.jpeg
END:VEVENT
BEGIN:VEVENT
DTSTART;TZID=Europe/Zurich:20241118T073000
DTEND;TZID=Europe/Zurich:20241118T080000
DTSTAMP:20260423T060945
CREATED:20240821T110409Z
LAST-MODIFIED:20241208T220453Z
UID:10001101-1731915000-1731916800@cebtg.ch
SUMMARY:Récitation de l'Appel au Lama de loin
DESCRIPTION:Récitation de l’Appel au Lama de loin en présence à la Maison Verte et sur Zoom.
URL:https://cebtg.ch/evenement/recitation-de-lappel-au-lama-de-loin-11/
CATEGORIES:Prière
ATTACH;FMTTYPE=image/jpeg:https://cebtg.ch/wp-content/uploads/2024/11/IMG_5501-e1733695400999.jpg
END:VEVENT
BEGIN:VEVENT
DTSTART;TZID=Europe/Zurich:20241118T080000
DTEND;TZID=Europe/Zurich:20241118T090000
DTSTAMP:20260423T060945
CREATED:20240821T110409Z
LAST-MODIFIED:20241204T154444Z
UID:10001100-1731916800-1731920400@cebtg.ch
SUMMARY:Méditation
DESCRIPTION:Méditation du calme mental en présence à la Maison Verte\, sur Zoom (codes habituels) et Youtube.
URL:https://cebtg.ch/evenement/meditation-23/
CATEGORIES:Calme Mental,Méditation
ATTACH;FMTTYPE=image/jpeg:https://cebtg.ch/wp-content/uploads/2023/08/IMG_7234-scaled-e1693428506443.jpeg
END:VEVENT
BEGIN:VEVENT
DTSTART;TZID=Europe/Zurich:20241118T183000
DTEND;TZID=Europe/Zurich:20241118T200000
DTSTAMP:20260423T060945
CREATED:20240821T110409Z
LAST-MODIFIED:20241204T154444Z
UID:10001102-1731954600-1731960000@cebtg.ch
SUMMARY:Méditation
DESCRIPTION:Méditation du calme mental\, en présence à Vimalakirti\, sur Zoom (codes habituels) et Youtube.
URL:https://cebtg.ch/evenement/meditation-24/
CATEGORIES:Calme Mental,Méditation
ATTACH;FMTTYPE=image/jpeg:https://cebtg.ch/wp-content/uploads/2023/08/IMG_7234-scaled-e1693428506443.jpeg
END:VEVENT
END:VCALENDAR