BEGIN:VCALENDAR
VERSION:2.0
PRODID:-//Centre d&#039;Etudes du Bouddhisme Tibétain de Genève - ECPv6.15.20//NONSGML v1.0//EN
CALSCALE:GREGORIAN
METHOD:PUBLISH
X-ORIGINAL-URL:https://cebtg.ch
X-WR-CALDESC:Évènements pour Centre d&#039;Etudes du Bouddhisme Tibétain de Genève
REFRESH-INTERVAL;VALUE=DURATION:PT1H
X-Robots-Tag:noindex
X-PUBLISHED-TTL:PT1H
BEGIN:VTIMEZONE
TZID:Europe/Zurich
BEGIN:DAYLIGHT
TZOFFSETFROM:+0100
TZOFFSETTO:+0200
TZNAME:CEST
DTSTART:20240331T010000
END:DAYLIGHT
BEGIN:STANDARD
TZOFFSETFROM:+0200
TZOFFSETTO:+0100
TZNAME:CET
DTSTART:20241027T010000
END:STANDARD
BEGIN:DAYLIGHT
TZOFFSETFROM:+0100
TZOFFSETTO:+0200
TZNAME:CEST
DTSTART:20250330T010000
END:DAYLIGHT
BEGIN:STANDARD
TZOFFSETFROM:+0200
TZOFFSETTO:+0100
TZNAME:CET
DTSTART:20251026T010000
END:STANDARD
BEGIN:DAYLIGHT
TZOFFSETFROM:+0100
TZOFFSETTO:+0200
TZNAME:CEST
DTSTART:20260329T010000
END:DAYLIGHT
BEGIN:STANDARD
TZOFFSETFROM:+0200
TZOFFSETTO:+0100
TZNAME:CET
DTSTART:20261025T010000
END:STANDARD
END:VTIMEZONE
BEGIN:VEVENT
DTSTART;TZID=Europe/Zurich:20250113T080000
DTEND;TZID=Europe/Zurich:20250113T090000
DTSTAMP:20260423T002559
CREATED:20241204T155304Z
LAST-MODIFIED:20250508T082750Z
UID:10001168-1736755200-1736758800@cebtg.ch
SUMMARY:Méditation
DESCRIPTION:Méditation du calme mental en présence à la Maison Verte\, sur Zoom (codes habituels) et Youtube.
URL:https://cebtg.ch/evenement/meditation-38/
CATEGORIES:Calme Mental,Méditation
ATTACH;FMTTYPE=image/jpeg:https://cebtg.ch/wp-content/uploads/2023/08/IMG_7234-scaled-e1693428506443.jpeg
END:VEVENT
BEGIN:VEVENT
DTSTART;TZID=Europe/Zurich:20250113T183000
DTEND;TZID=Europe/Zurich:20250113T200000
DTSTAMP:20260423T002559
CREATED:20241204T155305Z
LAST-MODIFIED:20250508T082750Z
UID:10001170-1736793000-1736798400@cebtg.ch
SUMMARY:Méditation
DESCRIPTION:Méditation du calme mental\, en présence à Vimalakirti\, sur Zoom (codes habituels) et Youtube.
URL:https://cebtg.ch/evenement/meditation-39/
CATEGORIES:Calme Mental,Méditation
ATTACH;FMTTYPE=image/jpeg:https://cebtg.ch/wp-content/uploads/2023/08/IMG_7234-scaled-e1693428506443.jpeg
END:VEVENT
BEGIN:VEVENT
DTSTART;TZID=Europe/Zurich:20250115T113000
DTEND;TZID=Europe/Zurich:20250115T123000
DTSTAMP:20260423T002559
CREATED:20241128T185301Z
LAST-MODIFIED:20250114T190953Z
UID:10001148-1736940600-1736944200@cebtg.ch
SUMMARY:Cours de tibétain débutant
DESCRIPTION:Ce cours « débutant » s’adresse aux personnes qui n’ont aucune connaissance de l’alphabet tibétain et ne savent pas lire. À terme\, elles pourront rejoindre le cours intermédiaire.
URL:https://cebtg.ch/evenement/cours-de-tibetain-debutant-9/
CATEGORIES:Cours de tibétain
ATTACH;FMTTYPE=image/png:https://cebtg.ch/wp-content/uploads/2023/01/texte_tibetain_16_9.png
END:VEVENT
BEGIN:VEVENT
DTSTART;TZID=Europe/Zurich:20250115T183000
DTEND;TZID=Europe/Zurich:20250115T191500
DTSTAMP:20260423T002559
CREATED:20241204T155305Z
LAST-MODIFIED:20250508T082750Z
UID:10001171-1736965800-1736968500@cebtg.ch
SUMMARY:Pratique de Tchenrezi
DESCRIPTION:La pratique de Tchenrézi est une méditation chantée combinant visualisation et mantra\, centrée sur le développement de l’amour et de la compassion. Cette activité est ouverte à toute personne intéressée par la tradition tibétaine\, qu’elle soit bouddhiste ou non\, débutante ou confirmée. Des textes de pratique avec transcription phonétique sont disponibles sur place.Un mercredi sur deux\, la pratique est guidée : les parties récitées sont commentées pour faciliter la visualisation correspondante. \nCette pratique de Tchenrézi est caractéristique du vajrayana\, ou bouddhisme tantrique. Pour mieux l’appréhender\, des séances d’instructions individuelles ou collectives sont proposées sur demande.La pratique de Tchenrézi est accessible en présentiel et en ligne (exclusivement via Zoom).  \nLes séances en présentiel se déroulent dans la salle du Centre Vimalakirti\, située dans le quartier des Délices à Genève\, rue Henri-Frédéric Amiel 10\, 1203 Genève.
URL:https://cebtg.ch/evenement/pratique-de-tchenrezi-18/
CATEGORIES:Tchenrezi
ATTACH;FMTTYPE=image/jpeg:https://cebtg.ch/wp-content/uploads/2023/08/Tchenrezi-4-bras1.jpg
END:VEVENT
BEGIN:VEVENT
DTSTART;TZID=Europe/Zurich:20250115T193000
DTEND;TZID=Europe/Zurich:20250115T203000
DTSTAMP:20260423T002559
CREATED:20241204T155305Z
LAST-MODIFIED:20250831T120532Z
UID:10001172-1736969400-1736973000@cebtg.ch
SUMMARY:Enseignement - Cycle Gampopa
DESCRIPTION:Enseignement – réflexion/intégration lié au « cycle Gampopa »\, 1er volet. \n \nAvec lama Djinpa Lodreu (Jean-Marc Falcombello) en présence à Vimalakirti\, sur Zoom et Youtube.
URL:https://cebtg.ch/evenement/enseignement-cycle-gampopa-9/
CATEGORIES:Gampopa
ATTACH;FMTTYPE=image/png:https://cebtg.ch/wp-content/uploads/2023/01/Gampopa-detail-16_9.png
END:VEVENT
BEGIN:VEVENT
DTSTART;TZID=Europe/Zurich:20250116T120000
DTEND;TZID=Europe/Zurich:20250116T130000
DTSTAMP:20260423T002559
CREATED:20241204T154102Z
LAST-MODIFIED:20250115T191100Z
UID:10001149-1737028800-1737032400@cebtg.ch
SUMMARY:Cours de tibétain 2
DESCRIPTION:Le premier cours\, de 12h à 13h concerne l’analyse de texte. Il s’adresse à des étudiants avancés ayant déjà une certaine aisance dans la lecture d’un texte tibétain. L’enseignement s’appuie cette année sur l’étude du texte des 37 pratiques des bodhisattvas. Les leçons sont disponibles en replay pour les personnes qui souhaiteraient reprendre depuis le début.
URL:https://cebtg.ch/evenement/cours-de-tibetain-2-21/
CATEGORIES:Cours de tibétain
ATTACH;FMTTYPE=image/png:https://cebtg.ch/wp-content/uploads/2023/01/texte_tibetain_16_9.png
END:VEVENT
BEGIN:VEVENT
DTSTART;TZID=Europe/Zurich:20250116T131500
DTEND;TZID=Europe/Zurich:20250116T141500
DTSTAMP:20260423T002559
CREATED:20241204T154102Z
LAST-MODIFIED:20250115T191101Z
UID:10001150-1737033300-1737036900@cebtg.ch
SUMMARY:Cours de tibétain 1
DESCRIPTION:Le deuxième cours\, de 13h15 à 14h15\, concerne l’apprentissage de la lecture pour des débutants ou des personnes désireuses de parfaire leur capacité. La méthode employée est une méthode contextuelle développée spécifiquement\, qui consiste à apprendre les lettres directement dans le texte. C’est une sorte d’apprentissage « sur le terrain ». Cette année nous étudierons le sūtra de la pousse de riz. Les leçons sont disponibles en replay pour les personnes qui souhaiteraient reprendre depuis le début.
URL:https://cebtg.ch/evenement/cours-de-tibetain-1-16/
CATEGORIES:Cours de tibétain
ATTACH;FMTTYPE=image/png:https://cebtg.ch/wp-content/uploads/2023/01/texte_tibetain_16_9.png
END:VEVENT
BEGIN:VEVENT
DTSTART;TZID=Europe/Zurich:20250116T190000
DTEND;TZID=Europe/Zurich:20250116T210000
DTSTAMP:20260423T002559
CREATED:20240730T112557Z
LAST-MODIFIED:20251002T091615Z
UID:10000930-1737054000-1737061200@cebtg.ch
SUMMARY:Vevey Méditation
DESCRIPTION:
URL:https://cebtg.ch/evenement/vevey-meditation-8/
CATEGORIES:Vevey
ATTACH;FMTTYPE=image/png:https://cebtg.ch/wp-content/uploads/2023/01/vevey-16_9.png
END:VEVENT
BEGIN:VEVENT
DTSTART;TZID=Europe/Zurich:20250120T073000
DTEND;TZID=Europe/Zurich:20250120T080000
DTSTAMP:20260423T002559
CREATED:20241204T155305Z
LAST-MODIFIED:20250508T082750Z
UID:10001174-1737358200-1737360000@cebtg.ch
SUMMARY:Récitation de l'Appel au Lama de loin
DESCRIPTION:Récitation de l’Appel au Lama de loin en présence à la Maison Verte et sur Zoom.
URL:https://cebtg.ch/evenement/recitation-de-lappel-au-lama-de-loin-20/
CATEGORIES:Prière
ATTACH;FMTTYPE=image/jpeg:https://cebtg.ch/wp-content/uploads/2024/11/IMG_5501-e1733695400999.jpg
END:VEVENT
BEGIN:VEVENT
DTSTART;TZID=Europe/Zurich:20250120T080000
DTEND;TZID=Europe/Zurich:20250120T090000
DTSTAMP:20260423T002559
CREATED:20241204T155305Z
LAST-MODIFIED:20250508T082750Z
UID:10001173-1737360000-1737363600@cebtg.ch
SUMMARY:Méditation
DESCRIPTION:Méditation du calme mental en présence à la Maison Verte\, sur Zoom (codes habituels) et Youtube.
URL:https://cebtg.ch/evenement/meditation-40/
CATEGORIES:Calme Mental,Méditation
ATTACH;FMTTYPE=image/jpeg:https://cebtg.ch/wp-content/uploads/2023/08/IMG_7234-scaled-e1693428506443.jpeg
END:VEVENT
BEGIN:VEVENT
DTSTART;TZID=Europe/Zurich:20250120T183000
DTEND;TZID=Europe/Zurich:20250120T200000
DTSTAMP:20260423T002559
CREATED:20241204T155305Z
LAST-MODIFIED:20250508T082750Z
UID:10001175-1737397800-1737403200@cebtg.ch
SUMMARY:Méditation
DESCRIPTION:Méditation du calme mental\, en présence à Vimalakirti\, sur Zoom (codes habituels) et Youtube.
URL:https://cebtg.ch/evenement/meditation-41/
CATEGORIES:Calme Mental,Méditation
ATTACH;FMTTYPE=image/jpeg:https://cebtg.ch/wp-content/uploads/2023/08/IMG_7234-scaled-e1693428506443.jpeg
END:VEVENT
BEGIN:VEVENT
DTSTART;TZID=Europe/Zurich:20250122T183000
DTEND;TZID=Europe/Zurich:20250122T191500
DTSTAMP:20260423T002559
CREATED:20241204T155305Z
LAST-MODIFIED:20250831T125202Z
UID:10001176-1737570600-1737573300@cebtg.ch
SUMMARY:Pratique de Tchenrezi
DESCRIPTION:La pratique de Tchenrézi est une méditation chantée combinant visualisation et mantra\, centrée sur le développement de l’amour et de la compassion. Cette activité est ouverte à toute personne intéressée par la tradition tibétaine\, qu’elle soit bouddhiste ou non\, débutante ou confirmée. Des textes de pratique avec transcription phonétique sont disponibles sur place.Un mercredi sur deux\, la pratique est guidée : les parties récitées sont commentées pour faciliter la visualisation correspondante. \nCette pratique de Tchenrézi est caractéristique du vajrayana\, ou bouddhisme tantrique. Pour mieux l’appréhender\, des séances d’instructions individuelles ou collectives sont proposées sur demande.La pratique de Tchenrézi est accessible en présentiel et en ligne (exclusivement via Zoom).  \nLes séances en présentiel se déroulent dans la salle du Centre Vimalakirti\, située dans le quartier des Délices à Genève\, rue Henri-Frédéric Amiel 10\, 1203 Genève.
URL:https://cebtg.ch/evenement/pratique-de-tchenrezi-19/
CATEGORIES:Tchenrezi
ATTACH;FMTTYPE=image/jpeg:https://cebtg.ch/wp-content/uploads/2023/08/Tchenrezi-4-bras1.jpg
END:VEVENT
BEGIN:VEVENT
DTSTART;TZID=Europe/Zurich:20250122T193000
DTEND;TZID=Europe/Zurich:20250122T203000
DTSTAMP:20260423T002559
CREATED:20241204T155305Z
LAST-MODIFIED:20250831T120532Z
UID:10001177-1737574200-1737577800@cebtg.ch
SUMMARY:Enseignement - Cycle Gampopa
DESCRIPTION:Enseignement – réflexion/intégration lié au « cycle Gampopa »\, 2e volet. \n \nAvec lama Djinpa Lodreu (Jean-Marc Falcombello) en présence à Vimalakirti\, sur Zoom et Youtube.
URL:https://cebtg.ch/evenement/enseignement-cycle-gampopa-10/
CATEGORIES:Gampopa
ATTACH;FMTTYPE=image/png:https://cebtg.ch/wp-content/uploads/2023/01/Gampopa-detail-16_9.png
END:VEVENT
BEGIN:VEVENT
DTSTART;TZID=Europe/Zurich:20250123T120000
DTEND;TZID=Europe/Zurich:20250123T130000
DTSTAMP:20260423T002559
CREATED:20241204T154102Z
LAST-MODIFIED:20250122T194048Z
UID:10001151-1737633600-1737637200@cebtg.ch
SUMMARY:Cours de tibétain 2
DESCRIPTION:Le premier cours\, de 12h à 13h concerne l’analyse de texte. Il s’adresse à des étudiants avancés ayant déjà une certaine aisance dans la lecture d’un texte tibétain. L’enseignement s’appuie cette année sur l’étude du texte des 37 pratiques des bodhisattvas. Les leçons sont disponibles en replay pour les personnes qui souhaiteraient reprendre depuis le début.
URL:https://cebtg.ch/evenement/cours-de-tibetain-2-22/
CATEGORIES:Cours de tibétain
ATTACH;FMTTYPE=image/png:https://cebtg.ch/wp-content/uploads/2023/01/texte_tibetain_16_9.png
END:VEVENT
BEGIN:VEVENT
DTSTART;TZID=Europe/Zurich:20250123T131500
DTEND;TZID=Europe/Zurich:20250123T141500
DTSTAMP:20260423T002559
CREATED:20241204T154102Z
LAST-MODIFIED:20250122T194048Z
UID:10001152-1737638100-1737641700@cebtg.ch
SUMMARY:Cours de tibétain 1
DESCRIPTION:Le deuxième cours\, de 13h15 à 14h15\, concerne l’apprentissage de la lecture pour des débutants ou des personnes désireuses de parfaire leur capacité. La méthode employée est une méthode contextuelle développée spécifiquement\, qui consiste à apprendre les lettres directement dans le texte. C’est une sorte d’apprentissage « sur le terrain ». Cette année nous étudierons le sūtra de la pousse de riz. Les leçons sont disponibles en replay pour les personnes qui souhaiteraient reprendre depuis le début.
URL:https://cebtg.ch/evenement/cours-de-tibetain-1-17/
CATEGORIES:Cours de tibétain
ATTACH;FMTTYPE=image/png:https://cebtg.ch/wp-content/uploads/2023/01/texte_tibetain_16_9.png
END:VEVENT
BEGIN:VEVENT
DTSTART;TZID=Europe/Zurich:20250123T191500
DTEND;TZID=Europe/Zurich:20250123T211500
DTSTAMP:20260423T002559
CREATED:20250111T141101Z
LAST-MODIFIED:20250508T082751Z
UID:10001249-1737659700-1737666900@cebtg.ch
SUMMARY:Méditation groupe Lausanne et Agathe à LS séance religion.ch représenter CEBT
DESCRIPTION:
URL:https://cebtg.ch/evenement/meditation-lausanne-et-agathe-a-ls-seance-religion/
END:VEVENT
BEGIN:VEVENT
DTSTART;TZID=Europe/Zurich:20250127T073000
DTEND;TZID=Europe/Zurich:20250127T080000
DTSTAMP:20260423T002559
CREATED:20241204T155305Z
LAST-MODIFIED:20250508T082751Z
UID:10001178-1737963000-1737964800@cebtg.ch
SUMMARY:Récitation de l'Appel au Lama de loin
DESCRIPTION:Récitation de l’Appel au Lama de loin en présence à la Maison Verte et sur Zoom.
URL:https://cebtg.ch/evenement/recitation-de-lappel-au-lama-de-loin-21/
CATEGORIES:Prière
ATTACH;FMTTYPE=image/jpeg:https://cebtg.ch/wp-content/uploads/2024/11/IMG_5501-e1733695400999.jpg
END:VEVENT
BEGIN:VEVENT
DTSTART;TZID=Europe/Zurich:20250127T080000
DTEND;TZID=Europe/Zurich:20250127T090000
DTSTAMP:20260423T002559
CREATED:20241204T155305Z
LAST-MODIFIED:20250508T082751Z
UID:10001179-1737964800-1737968400@cebtg.ch
SUMMARY:Méditation
DESCRIPTION:Méditation du calme mental en présence à la Maison Verte\, sur Zoom (codes habituels) et Youtube.
URL:https://cebtg.ch/evenement/meditation-42/
CATEGORIES:Calme Mental,Méditation
ATTACH;FMTTYPE=image/jpeg:https://cebtg.ch/wp-content/uploads/2023/08/IMG_7234-scaled-e1693428506443.jpeg
END:VEVENT
BEGIN:VEVENT
DTSTART;TZID=Europe/Zurich:20250127T183000
DTEND;TZID=Europe/Zurich:20250127T200000
DTSTAMP:20260423T002559
CREATED:20241204T155305Z
LAST-MODIFIED:20250508T082751Z
UID:10001180-1738002600-1738008000@cebtg.ch
SUMMARY:Méditation
DESCRIPTION:Méditation du calme mental\, en présence à Vimalakirti\, sur Zoom (codes habituels) et Youtube.
URL:https://cebtg.ch/evenement/meditation-43/
CATEGORIES:Calme Mental,Méditation
ATTACH;FMTTYPE=image/jpeg:https://cebtg.ch/wp-content/uploads/2023/08/IMG_7234-scaled-e1693428506443.jpeg
END:VEVENT
BEGIN:VEVENT
DTSTART;TZID=Europe/Zurich:20250129T071500
DTEND;TZID=Europe/Zurich:20250129T080000
DTSTAMP:20260423T002559
CREATED:20241208T082247Z
LAST-MODIFIED:20250508T082751Z
UID:10001241-1738134900-1738137600@cebtg.ch
SUMMARY:Récitation des cinq soutras royaux
DESCRIPTION:Le 25 mai 2021\, Karmapa Thayé Dorjé partageait un message à la veille du Vesak\, le jour qui marque la naissance\, l’éveil et le décès du bouddha Shakyamuni. Dans son adresse\, Karmapa demandait aux pratiquants de formuler des prières et des aspirations en ces termes : \n« Profitons surtout de ce jour de Vesak pour formuler des prières et des aspirations afin de nous affranchir du cycle de la naissance et de la mort\, pour suivre les traces du révéré Bouddha et atteindre l’état de samyak sambuddha\, l’éveil parfait. \nS’appuyer sur une parole parfaitement pure est une excellente façon de formuler prières et aspirations en ce jour spécial ; j’encourage donc chacun d’entre vous à réciter les Cinq Soutras souverains\, soit seul\, soit en retrouvant en ligne vos amis du Dharma et en pratiquant ces récitations en groupe. » \nCes Cinq Soutras souverains peuvent se réciter quotidiennement\, lors de jours particulièrement fastes ou chacun à sa guise.
URL:https://cebtg.ch/evenement/recitation-des-cinq-soutras-royaux-3/
CATEGORIES:Soutra
ATTACH;FMTTYPE=image/png:https://cebtg.ch/wp-content/uploads/2023/03/roue-du-dharma5-16_9.png
END:VEVENT
BEGIN:VEVENT
DTSTART;TZID=Europe/Zurich:20250129T113000
DTEND;TZID=Europe/Zurich:20250129T123000
DTSTAMP:20260423T002559
CREATED:20241204T154102Z
LAST-MODIFIED:20250128T195315Z
UID:10001153-1738150200-1738153800@cebtg.ch
SUMMARY:Cours de tibétain débutant
DESCRIPTION:Ce cours « débutant » s’adresse aux personnes qui n’ont aucune connaissance de l’alphabet tibétain et ne savent pas lire. À terme\, elles pourront rejoindre le cours intermédiaire.
URL:https://cebtg.ch/evenement/cours-de-tibetain-debutant-10/
CATEGORIES:Cours de tibétain
ATTACH;FMTTYPE=image/png:https://cebtg.ch/wp-content/uploads/2023/01/texte_tibetain_16_9.png
END:VEVENT
BEGIN:VEVENT
DTSTART;TZID=Europe/Zurich:20250129T183000
DTEND;TZID=Europe/Zurich:20250129T191500
DTSTAMP:20260423T002559
CREATED:20241204T155305Z
LAST-MODIFIED:20250831T125202Z
UID:10001181-1738175400-1738178100@cebtg.ch
SUMMARY:Pratique de Tchenrezi
DESCRIPTION:La pratique de Tchenrézi est une méditation chantée combinant visualisation et mantra\, centrée sur le développement de l’amour et de la compassion. Cette activité est ouverte à toute personne intéressée par la tradition tibétaine\, qu’elle soit bouddhiste ou non\, débutante ou confirmée. Des textes de pratique avec transcription phonétique sont disponibles sur place.Un mercredi sur deux\, la pratique est guidée : les parties récitées sont commentées pour faciliter la visualisation correspondante. \nCette pratique de Tchenrézi est caractéristique du vajrayana\, ou bouddhisme tantrique. Pour mieux l’appréhender\, des séances d’instructions individuelles ou collectives sont proposées sur demande.La pratique de Tchenrézi est accessible en présentiel et en ligne (exclusivement via Zoom).  \nLes séances en présentiel se déroulent dans la salle du Centre Vimalakirti\, située dans le quartier des Délices à Genève\, rue Henri-Frédéric Amiel 10\, 1203 Genève.
URL:https://cebtg.ch/evenement/pratique-de-tchenrezi-20/
CATEGORIES:Tchenrezi
ATTACH;FMTTYPE=image/jpeg:https://cebtg.ch/wp-content/uploads/2023/08/Tchenrezi-4-bras1.jpg
END:VEVENT
BEGIN:VEVENT
DTSTART;TZID=Europe/Zurich:20250129T193000
DTEND;TZID=Europe/Zurich:20250129T203000
DTSTAMP:20260423T002559
CREATED:20241204T155305Z
LAST-MODIFIED:20250508T082751Z
UID:10001182-1738179000-1738182600@cebtg.ch
SUMMARY:Enseignement - thème libre
DESCRIPTION:Enseignement de lama Djinpa Lodreu (Jean-Marc Falcombello) en présence à Vimalakirti\, sur Zoom et Youtube. Thème libre.
URL:https://cebtg.ch/evenement/enseignement-theme-libre-5/
END:VEVENT
BEGIN:VEVENT
DTSTART;TZID=Europe/Zurich:20250130T120000
DTEND;TZID=Europe/Zurich:20250130T130000
DTSTAMP:20260423T002559
CREATED:20241204T154102Z
LAST-MODIFIED:20250129T195311Z
UID:10001154-1738238400-1738242000@cebtg.ch
SUMMARY:Cours de tibétain 2
DESCRIPTION:Le premier cours\, de 12h à 13h concerne l’analyse de texte. Il s’adresse à des étudiants avancés ayant déjà une certaine aisance dans la lecture d’un texte tibétain. L’enseignement s’appuie cette année sur l’étude du texte des 37 pratiques des bodhisattvas. Les leçons sont disponibles en replay pour les personnes qui souhaiteraient reprendre depuis le début.
URL:https://cebtg.ch/evenement/cours-de-tibetain-2-23/
CATEGORIES:Cours de tibétain
ATTACH;FMTTYPE=image/png:https://cebtg.ch/wp-content/uploads/2023/01/texte_tibetain_16_9.png
END:VEVENT
BEGIN:VEVENT
DTSTART;TZID=Europe/Zurich:20250130T131500
DTEND;TZID=Europe/Zurich:20250130T141500
DTSTAMP:20260423T002559
CREATED:20241204T154102Z
LAST-MODIFIED:20250129T195312Z
UID:10001155-1738242900-1738246500@cebtg.ch
SUMMARY:Cours de tibétain 1
DESCRIPTION:Le deuxième cours\, de 13h15 à 14h15\, concerne l’apprentissage de la lecture pour des débutants ou des personnes désireuses de parfaire leur capacité. La méthode employée est une méthode contextuelle développée spécifiquement\, qui consiste à apprendre les lettres directement dans le texte. C’est une sorte d’apprentissage « sur le terrain ». Cette année nous étudierons le sūtra de la pousse de riz. Les leçons sont disponibles en replay pour les personnes qui souhaiteraient reprendre depuis le début.
URL:https://cebtg.ch/evenement/cours-de-tibetain-1-18/
CATEGORIES:Cours de tibétain
ATTACH;FMTTYPE=image/png:https://cebtg.ch/wp-content/uploads/2023/01/texte_tibetain_16_9.png
END:VEVENT
BEGIN:VEVENT
DTSTART;TZID=Europe/Zurich:20250203T073000
DTEND;TZID=Europe/Zurich:20250203T080000
DTSTAMP:20260423T002559
CREATED:20241204T155305Z
LAST-MODIFIED:20250508T082751Z
UID:10001184-1738567800-1738569600@cebtg.ch
SUMMARY:Récitation de l'Appel au Lama de loin
DESCRIPTION:Récitation de l’Appel au Lama de loin en présence à la Maison Verte et sur Zoom.
URL:https://cebtg.ch/evenement/recitation-de-lappel-au-lama-de-loin-22/
CATEGORIES:Prière
ATTACH;FMTTYPE=image/jpeg:https://cebtg.ch/wp-content/uploads/2024/11/IMG_5501-e1733695400999.jpg
END:VEVENT
BEGIN:VEVENT
DTSTART;TZID=Europe/Zurich:20250203T080000
DTEND;TZID=Europe/Zurich:20250203T090000
DTSTAMP:20260423T002559
CREATED:20241204T155305Z
LAST-MODIFIED:20250508T082751Z
UID:10001183-1738569600-1738573200@cebtg.ch
SUMMARY:Méditation
DESCRIPTION:Méditation du calme mental en présence à la Maison Verte\, sur Zoom (codes habituels) et Youtube.
URL:https://cebtg.ch/evenement/meditation-44/
CATEGORIES:Calme Mental,Méditation
ATTACH;FMTTYPE=image/jpeg:https://cebtg.ch/wp-content/uploads/2023/08/IMG_7234-scaled-e1693428506443.jpeg
END:VEVENT
BEGIN:VEVENT
DTSTART;TZID=Europe/Zurich:20250203T183000
DTEND;TZID=Europe/Zurich:20250203T200000
DTSTAMP:20260423T002559
CREATED:20241204T155306Z
LAST-MODIFIED:20250508T082751Z
UID:10001185-1738607400-1738612800@cebtg.ch
SUMMARY:Méditation
DESCRIPTION:Méditation du calme mental\, en présence à Vimalakirti\, sur Zoom (codes habituels) et Youtube.
URL:https://cebtg.ch/evenement/meditation-45/
CATEGORIES:Calme Mental,Méditation
ATTACH;FMTTYPE=image/jpeg:https://cebtg.ch/wp-content/uploads/2023/08/IMG_7234-scaled-e1693428506443.jpeg
END:VEVENT
BEGIN:VEVENT
DTSTART;TZID=Europe/Zurich:20250205T183000
DTEND;TZID=Europe/Zurich:20250205T191500
DTSTAMP:20260423T002559
CREATED:20241204T155306Z
LAST-MODIFIED:20250831T125202Z
UID:10001186-1738780200-1738782900@cebtg.ch
SUMMARY:Pratique de Tchenrezi
DESCRIPTION:La pratique de Tchenrézi est une méditation chantée combinant visualisation et mantra\, centrée sur le développement de l’amour et de la compassion. Cette activité est ouverte à toute personne intéressée par la tradition tibétaine\, qu’elle soit bouddhiste ou non\, débutante ou confirmée. Des textes de pratique avec transcription phonétique sont disponibles sur place.Un mercredi sur deux\, la pratique est guidée : les parties récitées sont commentées pour faciliter la visualisation correspondante. \nCette pratique de Tchenrézi est caractéristique du vajrayana\, ou bouddhisme tantrique. Pour mieux l’appréhender\, des séances d’instructions individuelles ou collectives sont proposées sur demande.La pratique de Tchenrézi est accessible en présentiel et en ligne (exclusivement via Zoom).  \nLes séances en présentiel se déroulent dans la salle du Centre Vimalakirti\, située dans le quartier des Délices à Genève\, rue Henri-Frédéric Amiel 10\, 1203 Genève.
URL:https://cebtg.ch/evenement/pratique-de-tchenrezi-21/
CATEGORIES:Tchenrezi
ATTACH;FMTTYPE=image/jpeg:https://cebtg.ch/wp-content/uploads/2023/08/Tchenrezi-4-bras1.jpg
END:VEVENT
BEGIN:VEVENT
DTSTART;TZID=Europe/Zurich:20250205T193000
DTEND;TZID=Europe/Zurich:20250205T203000
DTSTAMP:20260423T002559
CREATED:20250129T201131Z
LAST-MODIFIED:20250508T082751Z
UID:10001258-1738783800-1738787400@cebtg.ch
SUMMARY:Enseignement - thème libre
DESCRIPTION:Enseignement de lama Djinpa Lodreu (Jean-Marc Falcombello) en présence à Vimalakirti\, sur Zoom et Youtube. Thème libre. \n \nPoursuite des enseignements sur les 4 Dharmas de Gampopa.
URL:https://cebtg.ch/evenement/enseignement-theme-libre-12/
END:VEVENT
END:VCALENDAR