BEGIN:VCALENDAR
VERSION:2.0
PRODID:-//Centre d&#039;Etudes du Bouddhisme Tibétain de Genève - ECPv6.15.20//NONSGML v1.0//EN
CALSCALE:GREGORIAN
METHOD:PUBLISH
X-ORIGINAL-URL:https://cebtg.ch
X-WR-CALDESC:Évènements pour Centre d&#039;Etudes du Bouddhisme Tibétain de Genève
REFRESH-INTERVAL;VALUE=DURATION:PT1H
X-Robots-Tag:noindex
X-PUBLISHED-TTL:PT1H
BEGIN:VTIMEZONE
TZID:Europe/Zurich
BEGIN:DAYLIGHT
TZOFFSETFROM:+0100
TZOFFSETTO:+0200
TZNAME:CEST
DTSTART:20230326T010000
END:DAYLIGHT
BEGIN:STANDARD
TZOFFSETFROM:+0200
TZOFFSETTO:+0100
TZNAME:CET
DTSTART:20231029T010000
END:STANDARD
BEGIN:DAYLIGHT
TZOFFSETFROM:+0100
TZOFFSETTO:+0200
TZNAME:CEST
DTSTART:20240331T010000
END:DAYLIGHT
BEGIN:STANDARD
TZOFFSETFROM:+0200
TZOFFSETTO:+0100
TZNAME:CET
DTSTART:20241027T010000
END:STANDARD
BEGIN:DAYLIGHT
TZOFFSETFROM:+0100
TZOFFSETTO:+0200
TZNAME:CEST
DTSTART:20250330T010000
END:DAYLIGHT
BEGIN:STANDARD
TZOFFSETFROM:+0200
TZOFFSETTO:+0100
TZNAME:CET
DTSTART:20251026T010000
END:STANDARD
BEGIN:DAYLIGHT
TZOFFSETFROM:+0100
TZOFFSETTO:+0200
TZNAME:CEST
DTSTART:20260329T010000
END:DAYLIGHT
BEGIN:STANDARD
TZOFFSETFROM:+0200
TZOFFSETTO:+0100
TZNAME:CET
DTSTART:20261025T010000
END:STANDARD
END:VTIMEZONE
BEGIN:VEVENT
DTSTART;TZID=Europe/Zurich:20241203T190000
DTEND;TZID=Europe/Zurich:20241203T210000
DTSTAMP:20260423T002828
CREATED:20241019T180345Z
LAST-MODIFIED:20251002T091615Z
UID:10001127-1733252400-1733259600@cebtg.ch
SUMMARY:Vevey Méditation
DESCRIPTION:
URL:https://cebtg.ch/evenement/vevey-meditation-15/
CATEGORIES:Vevey
ATTACH;FMTTYPE=image/png:https://cebtg.ch/wp-content/uploads/2023/01/vevey-16_9.png
END:VEVENT
BEGIN:VEVENT
DTSTART;TZID=Europe/Zurich:20241204T113000
DTEND;TZID=Europe/Zurich:20241204T123000
DTSTAMP:20260423T002828
CREATED:20241019T163458Z
LAST-MODIFIED:20241204T154337Z
UID:10001118-1733311800-1733315400@cebtg.ch
SUMMARY:Cours de tibétain débutant
DESCRIPTION:Ce cours « débutant » s’adresse aux personnes qui n’ont aucune connaissance de l’alphabet tibétain et ne savent pas lire. À terme\, elles pourront rejoindre le cours intermédiaire.
URL:https://cebtg.ch/evenement/cours-de-tibetain-debutant-7/
CATEGORIES:Cours de tibétain
ATTACH;FMTTYPE=image/png:https://cebtg.ch/wp-content/uploads/2023/01/texte_tibetain_16_9.png
END:VEVENT
BEGIN:VEVENT
DTSTART;TZID=Europe/Zurich:20241204T183000
DTEND;TZID=Europe/Zurich:20241204T191500
DTSTAMP:20260423T002828
CREATED:20241019T180345Z
LAST-MODIFIED:20241208T220130Z
UID:10001128-1733337000-1733339700@cebtg.ch
SUMMARY:Pratique de Tchenrezi
DESCRIPTION:Pratique de Thenrezi en présence à Vimalakirti et sur Zoom
URL:https://cebtg.ch/evenement/pratique-de-tchenrezi-13/
CATEGORIES:Tchenrezi
ATTACH;FMTTYPE=image/jpeg:https://cebtg.ch/wp-content/uploads/2023/08/Tchenrezi-4-bras1.jpg
END:VEVENT
BEGIN:VEVENT
DTSTART;TZID=Europe/Zurich:20241204T193000
DTEND;TZID=Europe/Zurich:20241204T203000
DTSTAMP:20260423T002828
CREATED:20241204T155303Z
LAST-MODIFIED:20241207T163841Z
UID:10001156-1733340600-1733344200@cebtg.ch
SUMMARY:Enseignement - thème libre
DESCRIPTION:Enseignement de lama Djinpa Lodreu (Jean-Marc Falcombello) en présence à Vimalakirti\, sur Zoom et Youtube.  \n \nLes 4 Dharmas de Gampopa.
URL:https://cebtg.ch/evenement/enseignement-theme-libre-3/
END:VEVENT
BEGIN:VEVENT
DTSTART;TZID=Europe/Zurich:20241205T120000
DTEND;TZID=Europe/Zurich:20241205T130000
DTSTAMP:20260423T002828
CREATED:20240821T081150Z
LAST-MODIFIED:20241204T154102Z
UID:10000987-1733400000-1733403600@cebtg.ch
SUMMARY:Cours de tibétain 2
DESCRIPTION:Le premier cours\, de 12h à 13h concerne l’analyse de texte. Il s’adresse à des étudiants avancés ayant déjà une certaine aisance dans la lecture d’un texte tibétain. L’enseignement s’appuie cette année sur l’étude du texte des 37 pratiques des bodhisattvas. Les leçons sont disponibles en replay pour les personnes qui souhaiteraient reprendre depuis le début.
URL:https://cebtg.ch/evenement/cours-de-tibetain-2-18/
CATEGORIES:Cours de tibétain
ATTACH;FMTTYPE=image/png:https://cebtg.ch/wp-content/uploads/2023/01/texte_tibetain_16_9.png
END:VEVENT
BEGIN:VEVENT
DTSTART;TZID=Europe/Zurich:20241205T131500
DTEND;TZID=Europe/Zurich:20241205T141500
DTSTAMP:20260423T002828
CREATED:20240821T081150Z
LAST-MODIFIED:20241204T154102Z
UID:10000988-1733404500-1733408100@cebtg.ch
SUMMARY:Cours de tibétain 1
DESCRIPTION:Le deuxième cours\, de 13h15 à 14h15\, concerne l’apprentissage de la lecture pour des débutants ou des personnes désireuses de parfaire leur capacité. La méthode employée est une méthode contextuelle développée spécifiquement\, qui consiste à apprendre les lettres directement dans le texte. C’est une sorte d’apprentissage « sur le terrain ». Cette année nous étudierons le sūtra de la pousse de riz. Les leçons sont disponibles en replay pour les personnes qui souhaiteraient reprendre depuis le début.
URL:https://cebtg.ch/evenement/cours-de-tibetain-1-13/
CATEGORIES:Cours de tibétain
ATTACH;FMTTYPE=image/png:https://cebtg.ch/wp-content/uploads/2023/01/texte_tibetain_16_9.png
END:VEVENT
BEGIN:VEVENT
DTSTART;TZID=Europe/Zurich:20241208T100000
DTEND;TZID=Europe/Zurich:20241208T113000
DTSTAMP:20260423T002828
CREATED:20241125T214316Z
LAST-MODIFIED:20250508T082749Z
UID:10001145-1733652000-1733657400@cebtg.ch
SUMMARY:Acharya - Gampopa
DESCRIPTION:Une fois par mois le dimanche\, en direct depuis l’Inde\, l’Acharya Kunchok Tenzin transmet un enseignement sur L’Ornement de la Libération\, un texte fondamental de Gampopa\, le disciple du célèbre Milarépa et un des pères fondateurs de la lignée kagyu. \nCet enseignement fait partie du « Cycle d’enseignement autour de L’Ornement de la Libération » et sert de base à la constitution d’une éducation au Dharma fondée sur : 1) l’écoute\, 2) la réflexion et 3) l’intégration. De ce fait\, cet enseignement dominical est suivi par deux mercredis consacrés chacun à l’exercice de la réflexion et de l’intégration. \nL’enseignement du dimanche est donné en tibétain et est traduit en français par lama Djinpa Lodreu / Jean-Marc Falcombello.
URL:https://cebtg.ch/evenement/acharya-gampopa-5/
CATEGORIES:Gampopa
ATTACH;FMTTYPE=image/png:https://cebtg.ch/wp-content/uploads/2023/01/Gampopa-detail-16_9.png
END:VEVENT
BEGIN:VEVENT
DTSTART;TZID=Europe/Zurich:20241209T073000
DTEND;TZID=Europe/Zurich:20241209T080000
DTSTAMP:20260423T002828
CREATED:20241019T180345Z
LAST-MODIFIED:20250508T082749Z
UID:10001131-1733729400-1733731200@cebtg.ch
SUMMARY:Récitation de l'Appel au Lama de loin
DESCRIPTION:Récitation de l’Appel au Lama de loin en présence à la Maison Verte et sur Zoom.
URL:https://cebtg.ch/evenement/recitation-de-lappel-au-lama-de-loin-14/
CATEGORIES:Prière
ATTACH;FMTTYPE=image/jpeg:https://cebtg.ch/wp-content/uploads/2024/11/IMG_5501-e1733695400999.jpg
END:VEVENT
BEGIN:VEVENT
DTSTART;TZID=Europe/Zurich:20241209T080000
DTEND;TZID=Europe/Zurich:20241209T090000
DTSTAMP:20260423T002828
CREATED:20241019T180345Z
LAST-MODIFIED:20250508T082749Z
UID:10001130-1733731200-1733734800@cebtg.ch
SUMMARY:Méditation
DESCRIPTION:Méditation du calme mental en présence à la Maison Verte\, sur Zoom (codes habituels) et Youtube.
URL:https://cebtg.ch/evenement/meditation-28/
CATEGORIES:Calme Mental,Méditation
ATTACH;FMTTYPE=image/jpeg:https://cebtg.ch/wp-content/uploads/2023/08/IMG_7234-scaled-e1693428506443.jpeg
END:VEVENT
BEGIN:VEVENT
DTSTART;TZID=Europe/Zurich:20241209T183000
DTEND;TZID=Europe/Zurich:20241209T200000
DTSTAMP:20260423T002828
CREATED:20241019T180345Z
LAST-MODIFIED:20250508T082749Z
UID:10001132-1733769000-1733774400@cebtg.ch
SUMMARY:Méditation
DESCRIPTION:Méditation du calme mental\, en présence à Vimalakirti\, sur Zoom (codes habituels) et Youtube.
URL:https://cebtg.ch/evenement/meditation-29/
CATEGORIES:Calme Mental,Méditation
ATTACH;FMTTYPE=image/jpeg:https://cebtg.ch/wp-content/uploads/2023/08/IMG_7234-scaled-e1693428506443.jpeg
END:VEVENT
BEGIN:VEVENT
DTSTART;TZID=Europe/Zurich:20241210T120000
DTEND;TZID=Europe/Zurich:20241210T130000
DTSTAMP:20260423T002828
CREATED:20240821T081150Z
LAST-MODIFIED:20241209T162405Z
UID:10000989-1733832000-1733835600@cebtg.ch
SUMMARY:Cours de tibétain - avancé
DESCRIPTION:Le premier cours\, de 12h à 13h concerne l’analyse de texte. Il s’adresse à des étudiants avancés ayant déjà une certaine aisance dans la lecture d’un texte tibétain. L’enseignement s’appuie cette année sur l’étude du texte des 37 pratiques des bodhisattvas. Les leçons sont disponibles en replay pour les personnes qui souhaiteraient reprendre depuis le début.
URL:https://cebtg.ch/evenement/cours-de-tibetain-2-19/
CATEGORIES:Cours de tibétain
ATTACH;FMTTYPE=image/png:https://cebtg.ch/wp-content/uploads/2023/01/texte_tibetain_16_9.png
END:VEVENT
BEGIN:VEVENT
DTSTART;TZID=Europe/Zurich:20241210T131500
DTEND;TZID=Europe/Zurich:20241210T141500
DTSTAMP:20260423T002828
CREATED:20240821T081150Z
LAST-MODIFIED:20241209T162405Z
UID:10000990-1733836500-1733840100@cebtg.ch
SUMMARY:Cours de tibétain - intermédiaire
DESCRIPTION:Le deuxième cours\, de 13h15 à 14h15\, concerne l’apprentissage de la lecture pour des débutants ou des personnes désireuses de parfaire leur capacité. La méthode employée est une méthode contextuelle développée spécifiquement\, qui consiste à apprendre les lettres directement dans le texte. C’est une sorte d’apprentissage « sur le terrain ». Cette année nous étudierons le sūtra de la pousse de riz. Les leçons sont disponibles en replay pour les personnes qui souhaiteraient reprendre depuis le début.
URL:https://cebtg.ch/evenement/cours-de-tibetain-1-14/
CATEGORIES:Cours de tibétain
ATTACH;FMTTYPE=image/png:https://cebtg.ch/wp-content/uploads/2023/01/texte_tibetain_16_9.png
END:VEVENT
BEGIN:VEVENT
DTSTART;TZID=Europe/Zurich:20241210T180000
DTEND;TZID=Europe/Zurich:20241210T190000
DTSTAMP:20260423T002828
CREATED:20241019T163458Z
LAST-MODIFIED:20241210T162623Z
UID:10001119-1733853600-1733857200@cebtg.ch
SUMMARY:Cours de tibétain - débutant
DESCRIPTION:Ce cours « débutant » s’adresse aux personnes qui n’ont aucune connaissance de l’alphabet tibétain et ne savent pas lire. À terme\, elles pourront rejoindre le cours intermédiaire.
URL:https://cebtg.ch/evenement/cours-de-tibetain-debutant-8/
CATEGORIES:Cours de tibétain
ATTACH;FMTTYPE=image/png:https://cebtg.ch/wp-content/uploads/2023/01/texte_tibetain_16_9.png
END:VEVENT
BEGIN:VEVENT
DTSTART;TZID=Europe/Zurich:20241211T183000
DTEND;TZID=Europe/Zurich:20241211T191500
DTSTAMP:20260423T002828
CREATED:20241019T180345Z
LAST-MODIFIED:20250508T082749Z
UID:10001133-1733941800-1733944500@cebtg.ch
SUMMARY:Pratique de Tchenrezi
DESCRIPTION:Pratique de Thenrezi en présence à Vimalakirti et sur Zoom
URL:https://cebtg.ch/evenement/pratique-de-tchenrezi-14/
CATEGORIES:Tchenrezi
ATTACH;FMTTYPE=image/jpeg:https://cebtg.ch/wp-content/uploads/2023/08/Tchenrezi-4-bras1.jpg
END:VEVENT
BEGIN:VEVENT
DTSTART;TZID=Europe/Zurich:20241211T193000
DTEND;TZID=Europe/Zurich:20241211T203000
DTSTAMP:20260423T002828
CREATED:20241019T180346Z
LAST-MODIFIED:20250508T082749Z
UID:10001134-1733945400-1733949000@cebtg.ch
SUMMARY:Enseignement - Cycle Gampopa
DESCRIPTION:Enseignement – réflexion/intégration lié au « cycle Gampopa »\, 1er volet. \nAvec lama Djinpa Lodreu (Jean-Marc Falcombello) en présence à Vimalakirti\, sur Zoom et Youtube.
URL:https://cebtg.ch/evenement/enseignement-cycle-gampopa-7/
CATEGORIES:Gampopa
ATTACH;FMTTYPE=image/png:https://cebtg.ch/wp-content/uploads/2023/01/Gampopa-detail-16_9.png
END:VEVENT
BEGIN:VEVENT
DTSTART;TZID=Europe/Zurich:20241216T183000
DTEND;TZID=Europe/Zurich:20241216T200000
DTSTAMP:20260423T002828
CREATED:20241019T211319Z
LAST-MODIFIED:20250508T082749Z
UID:10001139-1734373800-1734379200@cebtg.ch
SUMMARY:Méditation
DESCRIPTION:Méditation du calme mental\, en présence à Vimalakirti\, sur Zoom (codes habituels) et Youtube. Avec Catherine.
URL:https://cebtg.ch/evenement/meditation-33/
CATEGORIES:Calme Mental,Méditation
ATTACH;FMTTYPE=image/jpeg:https://cebtg.ch/wp-content/uploads/2023/08/IMG_7234-scaled-e1693428506443.jpeg
END:VEVENT
BEGIN:VEVENT
DTSTART;TZID=Europe/Zurich:20241218T183000
DTEND;TZID=Europe/Zurich:20241218T191500
DTSTAMP:20260423T002828
CREATED:20241019T211319Z
LAST-MODIFIED:20250508T082749Z
UID:10001140-1734546600-1734549300@cebtg.ch
SUMMARY:Pratique de Tchenrezi
DESCRIPTION:Pratique de Thenrezi en présence à Vimalakirti et sur Zoom
URL:https://cebtg.ch/evenement/pratique-de-tchenrezi-15/
CATEGORIES:Tchenrezi
ATTACH;FMTTYPE=image/jpeg:https://cebtg.ch/wp-content/uploads/2023/08/Tchenrezi-4-bras1.jpg
END:VEVENT
BEGIN:VEVENT
DTSTART;TZID=Europe/Zurich:20241218T193000
DTEND;TZID=Europe/Zurich:20241218T203000
DTSTAMP:20260423T002828
CREATED:20241204T155304Z
LAST-MODIFIED:20250831T120533Z
UID:10001157-1734550200-1734553800@cebtg.ch
SUMMARY:Enseignement - Cycle Gampopa
DESCRIPTION:Enseignement – réflexion/intégration lié au « cycle Gampopa »\, 2e volet. \n \nAvec lama Djinpa Lodreu (Jean-Marc Falcombello) en présence à Vimalakirti\, sur Zoom et Youtube.
URL:https://cebtg.ch/evenement/enseignement-cycle-gampopa-8/
CATEGORIES:Gampopa
ATTACH;FMTTYPE=image/png:https://cebtg.ch/wp-content/uploads/2023/01/Gampopa-detail-16_9.png
END:VEVENT
BEGIN:VEVENT
DTSTART;TZID=Europe/Zurich:20241223T080000
DTEND;TZID=Europe/Zurich:20241223T090000
DTSTAMP:20260423T002828
CREATED:20241204T155304Z
LAST-MODIFIED:20250508T082749Z
UID:10001158-1734940800-1734944400@cebtg.ch
SUMMARY:Méditation
DESCRIPTION:Méditation du calme mental en présence à la Maison Verte\, avec Serge.
URL:https://cebtg.ch/evenement/meditation-34/
CATEGORIES:Calme Mental,Méditation
ATTACH;FMTTYPE=image/jpeg:https://cebtg.ch/wp-content/uploads/2023/08/IMG_7234-scaled-e1693428506443.jpeg
END:VEVENT
BEGIN:VEVENT
DTSTART;TZID=Europe/Zurich:20241223T183000
DTEND;TZID=Europe/Zurich:20241223T200000
DTSTAMP:20260423T002828
CREATED:20241204T155304Z
LAST-MODIFIED:20250508T082749Z
UID:10001159-1734978600-1734984000@cebtg.ch
SUMMARY:Méditation
DESCRIPTION:Méditation du calme mental\, en présence à Vimalakirti\, sur Zoom (codes habituels) et Youtube. Avec Catherine.
URL:https://cebtg.ch/evenement/meditation-35/
CATEGORIES:Calme Mental,Méditation
ATTACH;FMTTYPE=image/jpeg:https://cebtg.ch/wp-content/uploads/2023/08/IMG_7234-scaled-e1693428506443.jpeg
END:VEVENT
BEGIN:VEVENT
DTSTART;TZID=Europe/Zurich:20241225T183000
DTEND;TZID=Europe/Zurich:20241225T191500
DTSTAMP:20260423T002828
CREATED:20241204T155304Z
LAST-MODIFIED:20250508T082749Z
UID:10001160-1735151400-1735154100@cebtg.ch
SUMMARY:Pratique de Tchenrezi
DESCRIPTION:Pratique de Thenrezi en présence à Vimalakirti et sur Zoom
URL:https://cebtg.ch/evenement/pratique-de-tchenrezi-16/
CATEGORIES:Tchenrezi
ATTACH;FMTTYPE=image/jpeg:https://cebtg.ch/wp-content/uploads/2023/08/Tchenrezi-4-bras1.jpg
END:VEVENT
BEGIN:VEVENT
DTSTART;TZID=Europe/Zurich:20241230T071500
DTEND;TZID=Europe/Zurich:20241230T080000
DTSTAMP:20260423T002828
CREATED:20241204T155304Z
LAST-MODIFIED:20250508T082750Z
UID:10001161-1735542900-1735545600@cebtg.ch
SUMMARY:Récitation des cinq soutras royaux
DESCRIPTION:Le 25 mai 2021\, Karmapa Thayé Dorjé partageait un message à la veille du Vesak\, le jour qui marque la naissance\, l’éveil et le décès du bouddha Shakyamuni. Dans son adresse\, Karmapa demandait aux pratiquants de formuler des prières et des aspirations en ces termes : \n« Profitons surtout de ce jour de Vesak pour formuler des prières et des aspirations afin de nous affranchir du cycle de la naissance et de la mort\, pour suivre les traces du révéré Bouddha et atteindre l’état de samyak sambuddha\, l’éveil parfait. \nS’appuyer sur une parole parfaitement pure est une excellente façon de formuler prières et aspirations en ce jour spécial ; j’encourage donc chacun d’entre vous à réciter les Cinq Soutras souverains\, soit seul\, soit en retrouvant en ligne vos amis du Dharma et en pratiquant ces récitations en groupe. » \nCes Cinq Soutras souverains peuvent se réciter quotidiennement\, lors de jours particulièrement fastes ou chacun à sa guise.
URL:https://cebtg.ch/evenement/recitation-des-cinq-soutras-royaux/
CATEGORIES:Soutra
ATTACH;FMTTYPE=image/png:https://cebtg.ch/wp-content/uploads/2023/03/roue-du-dharma5-16_9.png
END:VEVENT
BEGIN:VEVENT
DTSTART;TZID=Europe/Zurich:20250106T073000
DTEND;TZID=Europe/Zurich:20250106T080000
DTSTAMP:20260423T002828
CREATED:20241204T155304Z
LAST-MODIFIED:20250508T082750Z
UID:10001162-1736148600-1736150400@cebtg.ch
SUMMARY:Récitation de l'Appel au Lama de loin
DESCRIPTION:Récitation de l’Appel au Lama de loin en présence à la Maison Verte et sur Zoom.
URL:https://cebtg.ch/evenement/recitation-de-lappel-au-lama-de-loin-18/
CATEGORIES:Prière
ATTACH;FMTTYPE=image/jpeg:https://cebtg.ch/wp-content/uploads/2024/11/IMG_5501-e1733695400999.jpg
END:VEVENT
BEGIN:VEVENT
DTSTART;TZID=Europe/Zurich:20250106T080000
DTEND;TZID=Europe/Zurich:20250106T090000
DTSTAMP:20260423T002828
CREATED:20241204T155304Z
LAST-MODIFIED:20250508T082750Z
UID:10001163-1736150400-1736154000@cebtg.ch
SUMMARY:Méditation
DESCRIPTION:Méditation du calme mental en présence à la Maison Verte\, sur Zoom (codes habituels) et Youtube.
URL:https://cebtg.ch/evenement/meditation-36/
CATEGORIES:Calme Mental,Méditation
ATTACH;FMTTYPE=image/jpeg:https://cebtg.ch/wp-content/uploads/2023/08/IMG_7234-scaled-e1693428506443.jpeg
END:VEVENT
BEGIN:VEVENT
DTSTART;TZID=Europe/Zurich:20250106T183000
DTEND;TZID=Europe/Zurich:20250106T200000
DTSTAMP:20260423T002828
CREATED:20241204T155304Z
LAST-MODIFIED:20250508T082750Z
UID:10001164-1736188200-1736193600@cebtg.ch
SUMMARY:Méditation
DESCRIPTION:Méditation du calme mental\, en présence à Vimalakirti\, sur Zoom (codes habituels) et Youtube.
URL:https://cebtg.ch/evenement/meditation-37/
CATEGORIES:Calme Mental,Méditation
ATTACH;FMTTYPE=image/jpeg:https://cebtg.ch/wp-content/uploads/2023/08/IMG_7234-scaled-e1693428506443.jpeg
END:VEVENT
BEGIN:VEVENT
DTSTART;TZID=Europe/Zurich:20250108T183000
DTEND;TZID=Europe/Zurich:20250108T191500
DTSTAMP:20260423T002828
CREATED:20241204T155304Z
LAST-MODIFIED:20250508T082750Z
UID:10001165-1736361000-1736363700@cebtg.ch
SUMMARY:Pratique de Tchenrezi
DESCRIPTION:La pratique de Tchenrézi est une méditation chantée combinant visualisation et mantra\, centrée sur le développement de l’amour et de la compassion. Cette activité est ouverte à toute personne intéressée par la tradition tibétaine\, qu’elle soit bouddhiste ou non\, débutante ou confirmée. Des textes de pratique avec transcription phonétique sont disponibles sur place.Un mercredi sur deux\, la pratique est guidée : les parties récitées sont commentées pour faciliter la visualisation correspondante. \nCette pratique de Tchenrézi est caractéristique du vajrayana\, ou bouddhisme tantrique. Pour mieux l’appréhender\, des séances d’instructions individuelles ou collectives sont proposées sur demande.La pratique de Tchenrézi est accessible en présentiel et en ligne (exclusivement via Zoom).  \nLes séances en présentiel se déroulent dans la salle du Centre Vimalakirti\, située dans le quartier des Délices à Genève\, rue Henri-Frédéric Amiel 10\, 1203 Genève.
URL:https://cebtg.ch/evenement/pratique-de-tchenrezi-17/
CATEGORIES:Tchenrezi
ATTACH;FMTTYPE=image/jpeg:https://cebtg.ch/wp-content/uploads/2023/08/Tchenrezi-4-bras1.jpg
END:VEVENT
BEGIN:VEVENT
DTSTART;TZID=Europe/Zurich:20250108T193000
DTEND;TZID=Europe/Zurich:20250108T203000
DTSTAMP:20260423T002828
CREATED:20241204T155304Z
LAST-MODIFIED:20250508T082750Z
UID:10001166-1736364600-1736368200@cebtg.ch
SUMMARY:Enseignement - thème libre
DESCRIPTION:Enseignement de lama Djinpa Lodreu (Jean-Marc Falcombello) en présence à Vimalakirti\, sur Zoom et Youtube. Thème libre.
URL:https://cebtg.ch/evenement/enseignement-theme-libre-4/
END:VEVENT
BEGIN:VEVENT
DTSTART;TZID=Europe/Zurich:20250109T120000
DTEND;TZID=Europe/Zurich:20250109T130000
DTSTAMP:20260423T002828
CREATED:20241128T185301Z
LAST-MODIFIED:20250108T182614Z
UID:10001146-1736424000-1736427600@cebtg.ch
SUMMARY:Cours de tibétain 2
DESCRIPTION:Le premier cours\, de 12h à 13h concerne l’analyse de texte. Il s’adresse à des étudiants avancés ayant déjà une certaine aisance dans la lecture d’un texte tibétain. L’enseignement s’appuie cette année sur l’étude du texte des 37 pratiques des bodhisattvas. Les leçons sont disponibles en replay pour les personnes qui souhaiteraient reprendre depuis le début.
URL:https://cebtg.ch/evenement/cours-de-tibetain-2-20/
CATEGORIES:Cours de tibétain
ATTACH;FMTTYPE=image/png:https://cebtg.ch/wp-content/uploads/2023/01/texte_tibetain_16_9.png
END:VEVENT
BEGIN:VEVENT
DTSTART;TZID=Europe/Zurich:20250109T131500
DTEND;TZID=Europe/Zurich:20250109T141500
DTSTAMP:20260423T002828
CREATED:20241128T185301Z
LAST-MODIFIED:20250108T182614Z
UID:10001147-1736428500-1736432100@cebtg.ch
SUMMARY:Cours de tibétain 1
DESCRIPTION:Le deuxième cours\, de 13h15 à 14h15\, concerne l’apprentissage de la lecture pour des débutants ou des personnes désireuses de parfaire leur capacité. La méthode employée est une méthode contextuelle développée spécifiquement\, qui consiste à apprendre les lettres directement dans le texte. C’est une sorte d’apprentissage « sur le terrain ». Cette année nous étudierons le sūtra de la pousse de riz. Les leçons sont disponibles en replay pour les personnes qui souhaiteraient reprendre depuis le début.
URL:https://cebtg.ch/evenement/cours-de-tibetain-1-15/
CATEGORIES:Cours de tibétain
ATTACH;FMTTYPE=image/png:https://cebtg.ch/wp-content/uploads/2023/01/texte_tibetain_16_9.png
END:VEVENT
BEGIN:VEVENT
DTSTART;TZID=Europe/Zurich:20250112T100000
DTEND;TZID=Europe/Zurich:20250112T113000
DTSTAMP:20260423T002828
CREATED:20241204T155304Z
LAST-MODIFIED:20250508T082750Z
UID:10001167-1736676000-1736681400@cebtg.ch
SUMMARY:Acharya - Gampopa
DESCRIPTION:Une fois par mois le dimanche\, en direct depuis l’Inde\, l’Acharya Kunchok Tenzin transmet un enseignement sur L’Ornement de la Libération\, un texte fondamental de Gampopa\, le disciple du célèbre Milarépa et un des pères fondateurs de la lignée kagyu. \nCet enseignement fait partie du « Cycle d’enseignement autour de L’Ornement de la Libération » et sert de base à la constitution d’une éducation au Dharma fondée sur : 1) l’écoute\, 2) la réflexion et 3) l’intégration. De ce fait\, cet enseignement dominical est suivi par deux mercredis consacrés chacun à l’exercice de la réflexion et de l’intégration. \nL’enseignement du dimanche est donné en tibétain et est traduit en français par lama Djinpa Lodreu / Jean-Marc Falcombello.
URL:https://cebtg.ch/evenement/acharya-gampopa-6/
END:VEVENT
END:VCALENDAR