BEGIN:VCALENDAR
VERSION:2.0
PRODID:-//Centre d&#039;Etudes du Bouddhisme Tibétain de Genève - ECPv6.15.20//NONSGML v1.0//EN
CALSCALE:GREGORIAN
METHOD:PUBLISH
X-WR-CALNAME:Centre d&#039;Etudes du Bouddhisme Tibétain de Genève
X-ORIGINAL-URL:https://cebtg.ch
X-WR-CALDESC:Évènements pour Centre d&#039;Etudes du Bouddhisme Tibétain de Genève
REFRESH-INTERVAL;VALUE=DURATION:PT1H
X-Robots-Tag:noindex
X-PUBLISHED-TTL:PT1H
BEGIN:VTIMEZONE
TZID:Europe/Zurich
BEGIN:DAYLIGHT
TZOFFSETFROM:+0100
TZOFFSETTO:+0200
TZNAME:CEST
DTSTART:20240331T010000
END:DAYLIGHT
BEGIN:STANDARD
TZOFFSETFROM:+0200
TZOFFSETTO:+0100
TZNAME:CET
DTSTART:20241027T010000
END:STANDARD
BEGIN:DAYLIGHT
TZOFFSETFROM:+0100
TZOFFSETTO:+0200
TZNAME:CEST
DTSTART:20250330T010000
END:DAYLIGHT
BEGIN:STANDARD
TZOFFSETFROM:+0200
TZOFFSETTO:+0100
TZNAME:CET
DTSTART:20251026T010000
END:STANDARD
BEGIN:DAYLIGHT
TZOFFSETFROM:+0100
TZOFFSETTO:+0200
TZNAME:CEST
DTSTART:20260329T010000
END:DAYLIGHT
BEGIN:STANDARD
TZOFFSETFROM:+0200
TZOFFSETTO:+0100
TZNAME:CET
DTSTART:20261025T010000
END:STANDARD
END:VTIMEZONE
BEGIN:VEVENT
DTSTART;TZID=Europe/Zurich:20250205T183000
DTEND;TZID=Europe/Zurich:20250205T191500
DTSTAMP:20260423T133418
CREATED:20241204T155306Z
LAST-MODIFIED:20250831T125202Z
UID:10001186-1738780200-1738782900@cebtg.ch
SUMMARY:Pratique de Tchenrezi
DESCRIPTION:La pratique de Tchenrézi est une méditation chantée combinant visualisation et mantra\, centrée sur le développement de l’amour et de la compassion. Cette activité est ouverte à toute personne intéressée par la tradition tibétaine\, qu’elle soit bouddhiste ou non\, débutante ou confirmée. Des textes de pratique avec transcription phonétique sont disponibles sur place.Un mercredi sur deux\, la pratique est guidée : les parties récitées sont commentées pour faciliter la visualisation correspondante. \nCette pratique de Tchenrézi est caractéristique du vajrayana\, ou bouddhisme tantrique. Pour mieux l’appréhender\, des séances d’instructions individuelles ou collectives sont proposées sur demande.La pratique de Tchenrézi est accessible en présentiel et en ligne (exclusivement via Zoom).  \nLes séances en présentiel se déroulent dans la salle du Centre Vimalakirti\, située dans le quartier des Délices à Genève\, rue Henri-Frédéric Amiel 10\, 1203 Genève.
URL:https://cebtg.ch/evenement/pratique-de-tchenrezi-21/
CATEGORIES:Tchenrezi
ATTACH;FMTTYPE=image/jpeg:https://cebtg.ch/wp-content/uploads/2023/08/Tchenrezi-4-bras1.jpg
END:VEVENT
BEGIN:VEVENT
DTSTART;TZID=Europe/Zurich:20250205T193000
DTEND;TZID=Europe/Zurich:20250205T203000
DTSTAMP:20260423T133418
CREATED:20250129T201131Z
LAST-MODIFIED:20250508T082751Z
UID:10001258-1738783800-1738787400@cebtg.ch
SUMMARY:Enseignement - thème libre
DESCRIPTION:Enseignement de lama Djinpa Lodreu (Jean-Marc Falcombello) en présence à Vimalakirti\, sur Zoom et Youtube. Thème libre. \n \nPoursuite des enseignements sur les 4 Dharmas de Gampopa.
URL:https://cebtg.ch/evenement/enseignement-theme-libre-12/
END:VEVENT
BEGIN:VEVENT
DTSTART;TZID=Europe/Zurich:20250206T120000
DTEND;TZID=Europe/Zurich:20250206T130000
DTSTAMP:20260423T133418
CREATED:20250120T192719Z
LAST-MODIFIED:20250205T142726Z
UID:10001255-1738843200-1738846800@cebtg.ch
SUMMARY:Cours de tibétain - Tib 3
DESCRIPTION:Le premier cours\, de 12h à 13h concerne l’analyse de texte. Il s’adresse à des étudiants avancés ayant déjà une certaine aisance dans la lecture d’un texte tibétain. L’enseignement s’appuie cette année sur l’étude du texte des 37 pratiques des bodhisattvas. Les leçons sont disponibles en replay pour les personnes qui souhaiteraient reprendre depuis le début.
URL:https://cebtg.ch/evenement/cours-de-tibetain-2-24/
CATEGORIES:Cours de tibétain
ATTACH;FMTTYPE=image/png:https://cebtg.ch/wp-content/uploads/2023/01/texte_tibetain_16_9.png
END:VEVENT
BEGIN:VEVENT
DTSTART;TZID=Europe/Zurich:20250206T131500
DTEND;TZID=Europe/Zurich:20250206T141500
DTSTAMP:20260423T133418
CREATED:20250120T192719Z
LAST-MODIFIED:20250205T142726Z
UID:10001256-1738847700-1738851300@cebtg.ch
SUMMARY:Cours de tibétain - Tib 2
DESCRIPTION:Le deuxième cours\, de 13h15 à 14h15\, concerne l’apprentissage de la lecture pour des débutants ou des personnes désireuses de parfaire leur capacité. La méthode employée est une méthode contextuelle développée spécifiquement\, qui consiste à apprendre les lettres directement dans le texte. C’est une sorte d’apprentissage « sur le terrain ». Cette année nous étudierons le sūtra de la pousse de riz. Les leçons sont disponibles en replay pour les personnes qui souhaiteraient reprendre depuis le début.
URL:https://cebtg.ch/evenement/cours-de-tibetain-1-19/
CATEGORIES:Cours de tibétain
ATTACH;FMTTYPE=image/png:https://cebtg.ch/wp-content/uploads/2023/01/texte_tibetain_16_9.png
END:VEVENT
BEGIN:VEVENT
DTSTART;TZID=Europe/Zurich:20250206T183000
DTEND;TZID=Europe/Zurich:20250206T200000
DTSTAMP:20260423T133418
CREATED:20250129T201131Z
LAST-MODIFIED:20250508T082751Z
UID:10001259-1738866600-1738872000@cebtg.ch
SUMMARY:Instructions de Vajrasattva
DESCRIPTION:
URL:https://cebtg.ch/evenement/instructions-de-vajrasattva/
END:VEVENT
BEGIN:VEVENT
DTSTART;TZID=Europe/Zurich:20250209T100000
DTEND;TZID=Europe/Zurich:20250209T113000
DTSTAMP:20260423T133419
CREATED:20241204T155306Z
LAST-MODIFIED:20250508T082751Z
UID:10001188-1739095200-1739100600@cebtg.ch
SUMMARY:Acharya - Gampopa
DESCRIPTION:Une fois par mois le dimanche\, en direct depuis l’Inde\, l’Acharya Kunchok Tenzin transmet un enseignement sur L’Ornement de la Libération\, un texte fondamental de Gampopa\, le disciple du célèbre Milarépa et un des pères fondateurs de la lignée kagyu. \nCet enseignement fait partie du « Cycle d’enseignement autour de L’Ornement de la Libération » et sert de base à la constitution d’une éducation au Dharma fondée sur : 1) l’écoute\, 2) la réflexion et 3) l’intégration. De ce fait\, cet enseignement dominical est suivi par deux mercredis consacrés chacun à l’exercice de la réflexion et de l’intégration. \nL’enseignement du dimanche est donné en tibétain et est traduit en français par lama Djinpa Lodreu / Jean-Marc Falcombello.
URL:https://cebtg.ch/evenement/acharya-gampopa-7/
END:VEVENT
BEGIN:VEVENT
DTSTART;TZID=Europe/Zurich:20250210T073000
DTEND;TZID=Europe/Zurich:20250210T080000
DTSTAMP:20260423T133419
CREATED:20241204T155306Z
LAST-MODIFIED:20250508T082751Z
UID:10001189-1739172600-1739174400@cebtg.ch
SUMMARY:Récitation de l'Appel au Lama de loin
DESCRIPTION:Récitation de l’Appel au Lama de loin en présence à la Maison Verte et sur Zoom.
URL:https://cebtg.ch/evenement/recitation-de-lappel-au-lama-de-loin-23/
CATEGORIES:Prière
ATTACH;FMTTYPE=image/jpeg:https://cebtg.ch/wp-content/uploads/2024/11/IMG_5501-e1733695400999.jpg
END:VEVENT
BEGIN:VEVENT
DTSTART;TZID=Europe/Zurich:20250210T080000
DTEND;TZID=Europe/Zurich:20250210T090000
DTSTAMP:20260423T133419
CREATED:20241204T155306Z
LAST-MODIFIED:20250508T082752Z
UID:10001190-1739174400-1739178000@cebtg.ch
SUMMARY:Méditation
DESCRIPTION:Méditation du calme mental en présence à la Maison Verte\, sur Zoom (codes habituels) et Youtube.
URL:https://cebtg.ch/evenement/meditation-46/
CATEGORIES:Calme Mental
ATTACH;FMTTYPE=image/jpeg:https://cebtg.ch/wp-content/uploads/2023/08/IMG_7234-scaled-e1693428506443.jpeg
END:VEVENT
BEGIN:VEVENT
DTSTART;TZID=Europe/Zurich:20250210T183000
DTEND;TZID=Europe/Zurich:20250210T200000
DTSTAMP:20260423T133419
CREATED:20241204T155306Z
LAST-MODIFIED:20250508T082752Z
UID:10001191-1739212200-1739217600@cebtg.ch
SUMMARY:Méditation
DESCRIPTION:Méditation du calme mental\, en présence à Vimalakirti\, sur Zoom (codes habituels) et Youtube.
URL:https://cebtg.ch/evenement/meditation-47/
CATEGORIES:Calme Mental
ATTACH;FMTTYPE=image/jpeg:https://cebtg.ch/wp-content/uploads/2023/08/IMG_7234-scaled-e1693428506443.jpeg
END:VEVENT
BEGIN:VEVENT
DTSTART;TZID=Europe/Zurich:20250212T071500
DTEND;TZID=Europe/Zurich:20250212T080000
DTSTAMP:20260423T133419
CREATED:20241208T082248Z
LAST-MODIFIED:20250508T082752Z
UID:10001242-1739344500-1739347200@cebtg.ch
SUMMARY:Récitation des cinq soutras royaux
DESCRIPTION:Le 25 mai 2021\, Karmapa Thayé Dorjé partageait un message à la veille du Vesak\, le jour qui marque la naissance\, l’éveil et le décès du bouddha Shakyamuni. Dans son adresse\, Karmapa demandait aux pratiquants de formuler des prières et des aspirations en ces termes : \n« Profitons surtout de ce jour de Vesak pour formuler des prières et des aspirations afin de nous affranchir du cycle de la naissance et de la mort\, pour suivre les traces du révéré Bouddha et atteindre l’état de samyak sambuddha\, l’éveil parfait. \nS’appuyer sur une parole parfaitement pure est une excellente façon de formuler prières et aspirations en ce jour spécial ; j’encourage donc chacun d’entre vous à réciter les Cinq Soutras souverains\, soit seul\, soit en retrouvant en ligne vos amis du Dharma et en pratiquant ces récitations en groupe. » \nCes Cinq Soutras souverains peuvent se réciter quotidiennement\, lors de jours particulièrement fastes ou chacun à sa guise.
URL:https://cebtg.ch/evenement/recitation-des-cinq-soutras-royaux-4/
CATEGORIES:Soutra
ATTACH;FMTTYPE=image/png:https://cebtg.ch/wp-content/uploads/2023/03/roue-du-dharma5-16_9.png
END:VEVENT
BEGIN:VEVENT
DTSTART;TZID=Europe/Zurich:20250212T113000
DTEND;TZID=Europe/Zurich:20250212T123000
DTSTAMP:20260423T133419
CREATED:20250120T192719Z
LAST-MODIFIED:20250211T152550Z
UID:10001257-1739359800-1739363400@cebtg.ch
SUMMARY:Cours de tibétain débutant
DESCRIPTION:Ce cours « débutant » s’adresse aux personnes qui n’ont aucune connaissance de l’alphabet tibétain et ne savent pas lire. À terme\, elles pourront rejoindre le cours intermédiaire.
URL:https://cebtg.ch/evenement/cours-de-tibetain-debutant-11/
CATEGORIES:Cours de tibétain
ATTACH;FMTTYPE=image/png:https://cebtg.ch/wp-content/uploads/2023/01/texte_tibetain_16_9.png
END:VEVENT
BEGIN:VEVENT
DTSTART;TZID=Europe/Zurich:20250212T183000
DTEND;TZID=Europe/Zurich:20250212T191500
DTSTAMP:20260423T133419
CREATED:20241204T155306Z
LAST-MODIFIED:20250831T125202Z
UID:10001192-1739385000-1739387700@cebtg.ch
SUMMARY:Pratique de Tchenrezi
DESCRIPTION:La pratique de Tchenrézi est une méditation chantée combinant visualisation et mantra\, centrée sur le développement de l’amour et de la compassion. Cette activité est ouverte à toute personne intéressée par la tradition tibétaine\, qu’elle soit bouddhiste ou non\, débutante ou confirmée. Des textes de pratique avec transcription phonétique sont disponibles sur place.Un mercredi sur deux\, la pratique est guidée : les parties récitées sont commentées pour faciliter la visualisation correspondante. \nCette pratique de Tchenrézi est caractéristique du vajrayana\, ou bouddhisme tantrique. Pour mieux l’appréhender\, des séances d’instructions individuelles ou collectives sont proposées sur demande.La pratique de Tchenrézi est accessible en présentiel et en ligne (exclusivement via Zoom).  \nLes séances en présentiel se déroulent dans la salle du Centre Vimalakirti\, située dans le quartier des Délices à Genève\, rue Henri-Frédéric Amiel 10\, 1203 Genève.
URL:https://cebtg.ch/evenement/pratique-de-tchenrezi-22/
CATEGORIES:Tchenrezi
ATTACH;FMTTYPE=image/jpeg:https://cebtg.ch/wp-content/uploads/2023/08/Tchenrezi-4-bras1.jpg
END:VEVENT
BEGIN:VEVENT
DTSTART;TZID=Europe/Zurich:20250212T193000
DTEND;TZID=Europe/Zurich:20250212T203000
DTSTAMP:20260423T133419
CREATED:20241204T155306Z
LAST-MODIFIED:20250831T120431Z
UID:10001193-1739388600-1739392200@cebtg.ch
SUMMARY:Enseignement - Cycle Gampopa
DESCRIPTION:Enseignement – réflexion/intégration lié au « cycle Gampopa »\, 1er volet. \n \nAvec lama Djinpa Lodreu (Jean-Marc Falcombello) en présence à Vimalakirti\, sur Zoom et Youtube.
URL:https://cebtg.ch/evenement/enseignement-cycle-gampopa-11/
CATEGORIES:Gampopa
ATTACH;FMTTYPE=image/png:https://cebtg.ch/wp-content/uploads/2023/01/Gampopa-detail-16_9.png
END:VEVENT
BEGIN:VEVENT
DTSTART;TZID=Europe/Zurich:20250213T120000
DTEND;TZID=Europe/Zurich:20250213T130000
DTSTAMP:20260423T133419
CREATED:20250202T200812Z
LAST-MODIFIED:20250212T154106Z
UID:10001260-1739448000-1739451600@cebtg.ch
SUMMARY:Cours de tibétain - Tib 3
DESCRIPTION:Le premier cours\, de 12h à 13h concerne l’analyse de texte. Il s’adresse à des étudiants avancés ayant déjà une certaine aisance dans la lecture d’un texte tibétain. L’enseignement s’appuie cette année sur l’étude du texte des 37 pratiques des bodhisattvas. Les leçons sont disponibles en replay pour les personnes qui souhaiteraient reprendre depuis le début.
URL:https://cebtg.ch/evenement/cours-de-tibetain-tib-3/
CATEGORIES:Cours de tibétain
ATTACH;FMTTYPE=image/png:https://cebtg.ch/wp-content/uploads/2023/01/texte_tibetain_16_9.png
END:VEVENT
BEGIN:VEVENT
DTSTART;TZID=Europe/Zurich:20250213T131500
DTEND;TZID=Europe/Zurich:20250213T141500
DTSTAMP:20260423T133419
CREATED:20250202T200812Z
LAST-MODIFIED:20250212T154106Z
UID:10001261-1739452500-1739456100@cebtg.ch
SUMMARY:Cours de tibétain - Tib 2
DESCRIPTION:Le deuxième cours\, de 13h15 à 14h15\, concerne l’apprentissage de la lecture pour des débutants ou des personnes désireuses de parfaire leur capacité. La méthode employée est une méthode contextuelle développée spécifiquement\, qui consiste à apprendre les lettres directement dans le texte. C’est une sorte d’apprentissage « sur le terrain ». Cette année nous étudierons le sūtra de la pousse de riz. Les leçons sont disponibles en replay pour les personnes qui souhaiteraient reprendre depuis le début.
URL:https://cebtg.ch/evenement/cours-de-tibetain-tib-2/
CATEGORIES:Cours de tibétain
ATTACH;FMTTYPE=image/png:https://cebtg.ch/wp-content/uploads/2023/01/texte_tibetain_16_9.png
END:VEVENT
BEGIN:VEVENT
DTSTART;VALUE=DATE:20250215
DTEND;VALUE=DATE:20250220
DTSTAMP:20260423T133419
CREATED:20250112T111120Z
LAST-MODIFIED:20250508T082752Z
UID:10001253-1739577600-1740009599@cebtg.ch
SUMMARY:Les 5 agrégats et la saisie d’un « soi » – Khenpo Samdroup Rinpoché
DESCRIPTION:L’enseignement du Bouddha consiste à comprendre que la saisie du « je » est l’origine de toute souffrance. Afin de se libérer de tous les conditionnements qui génèrent le samsara et amènent la souffrance\, il faut comprendre que ce « je » n’existe pas de manière intrinsèque. Le Bouddha démontre que notre individu n’est que la somme de ce qui le constitue\, les éléments physiques et psychiques que sont les cinq agrégats.Loin d’une compréhension purement théorique ou d’une vision abstraite\, cet enseignement est un levier puissant pour la pratique de la méditation. \nDurant ces quelques jours\, Lama Jean-Marc sera à Montchardon pour traduire cet enseignement important. \nPus d’infos ici : https://www.montchardon.fr/stages/les-5-agregats-khenpo-samdroup-rinpoche/
URL:https://cebtg.ch/evenement/les-5-agregats-et-la-saisie-dun-soi-khenpo-samdroup-rinpoche/
END:VEVENT
BEGIN:VEVENT
DTSTART;TZID=Europe/Zurich:20250217T073000
DTEND;TZID=Europe/Zurich:20250217T080000
DTSTAMP:20260423T133419
CREATED:20241204T155306Z
LAST-MODIFIED:20250508T082752Z
UID:10001195-1739777400-1739779200@cebtg.ch
SUMMARY:Récitation de l'Appel au Lama de loin
DESCRIPTION:Lundi 17 février\, comme initialement évoqué (précédente newsletter)\, la récitation de l’appel au lama de loin et la session de méditation auront lieu par zoom pour les personnes à distance. \n \nPour les personnes qui sont à Genève\, de 8h à 9h il vous sera possible de venir méditer à la Maison Verte (sans suivre sur zoom).
URL:https://cebtg.ch/evenement/recitation-de-lappel-au-lama-de-loin-24/
CATEGORIES:Prière
ATTACH;FMTTYPE=image/jpeg:https://cebtg.ch/wp-content/uploads/2024/11/IMG_5501-e1733695400999.jpg
END:VEVENT
BEGIN:VEVENT
DTSTART;TZID=Europe/Zurich:20250217T080000
DTEND;TZID=Europe/Zurich:20250217T090000
DTSTAMP:20260423T133419
CREATED:20241204T155306Z
LAST-MODIFIED:20250508T082752Z
UID:10001194-1739779200-1739782800@cebtg.ch
SUMMARY:Méditation
DESCRIPTION:Lundi 17 février\, comme initialement évoqué (précédente newsletter)\, la récitation de l’appel au lama de loin et la session de méditation auront lieu par zoom pour les personnes à distance. \n \nPour les personnes qui sont à Genève\, de 8h à 9h il vous sera possible de venir méditer à la Maison Verte (sans suivre sur zoom).
URL:https://cebtg.ch/evenement/meditation-48/
CATEGORIES:Calme Mental
ATTACH;FMTTYPE=image/jpeg:https://cebtg.ch/wp-content/uploads/2023/08/IMG_7234-scaled-e1693428506443.jpeg
END:VEVENT
BEGIN:VEVENT
DTSTART;TZID=Europe/Zurich:20250217T183000
DTEND;TZID=Europe/Zurich:20250217T200000
DTSTAMP:20260423T133419
CREATED:20241204T155306Z
LAST-MODIFIED:20250508T082752Z
UID:10001196-1739817000-1739822400@cebtg.ch
SUMMARY:Méditation
DESCRIPTION:Méditation du calme mental\, en présence à Vimalakirti\, sur Zoom (codes habituels) et Youtube.
URL:https://cebtg.ch/evenement/meditation-49/
CATEGORIES:Calme Mental
ATTACH;FMTTYPE=image/jpeg:https://cebtg.ch/wp-content/uploads/2023/08/IMG_7234-scaled-e1693428506443.jpeg
END:VEVENT
BEGIN:VEVENT
DTSTART;TZID=Europe/Zurich:20250219T183000
DTEND;TZID=Europe/Zurich:20250219T191500
DTSTAMP:20260423T133419
CREATED:20241204T155306Z
LAST-MODIFIED:20250831T125202Z
UID:10001197-1739989800-1739992500@cebtg.ch
SUMMARY:Pratique de Tchenrezi
DESCRIPTION:La pratique de Tchenrézi est une méditation chantée combinant visualisation et mantra\, centrée sur le développement de l’amour et de la compassion. Cette activité est ouverte à toute personne intéressée par la tradition tibétaine\, qu’elle soit bouddhiste ou non\, débutante ou confirmée. Des textes de pratique avec transcription phonétique sont disponibles sur place.Un mercredi sur deux\, la pratique est guidée : les parties récitées sont commentées pour faciliter la visualisation correspondante. \nCette pratique de Tchenrézi est caractéristique du vajrayana\, ou bouddhisme tantrique. Pour mieux l’appréhender\, des séances d’instructions individuelles ou collectives sont proposées sur demande.La pratique de Tchenrézi est accessible en présentiel et en ligne (exclusivement via Zoom).  \nLes séances en présentiel se déroulent dans la salle du Centre Vimalakirti\, située dans le quartier des Délices à Genève\, rue Henri-Frédéric Amiel 10\, 1203 Genève.
URL:https://cebtg.ch/evenement/pratique-de-tchenrezi-23/
CATEGORIES:Tchenrezi
ATTACH;FMTTYPE=image/jpeg:https://cebtg.ch/wp-content/uploads/2023/08/Tchenrezi-4-bras1.jpg
END:VEVENT
BEGIN:VEVENT
DTSTART;TZID=Europe/Zurich:20250219T193000
DTEND;TZID=Europe/Zurich:20250219T203000
DTSTAMP:20260423T133419
CREATED:20241204T155306Z
LAST-MODIFIED:20250831T120431Z
UID:10001198-1739993400-1739997000@cebtg.ch
SUMMARY:Enseignement - Cycle Gampopa
DESCRIPTION:Enseignement – réflexion/intégration lié au « cycle Gampopa »\, 2e volet. \n \nAvec lama Djinpa Lodreu (Jean-Marc Falcombello) en présence à Vimalakirti\, sur Zoom et Youtube.
URL:https://cebtg.ch/evenement/enseignement-cycle-gampopa-12/
CATEGORIES:Gampopa
ATTACH;FMTTYPE=image/png:https://cebtg.ch/wp-content/uploads/2023/01/Gampopa-detail-16_9.png
END:VEVENT
BEGIN:VEVENT
DTSTART;TZID=Europe/Zurich:20250220T120000
DTEND;TZID=Europe/Zurich:20250220T130000
DTSTAMP:20260423T133419
CREATED:20250202T200812Z
LAST-MODIFIED:20250219T155551Z
UID:10001262-1740052800-1740056400@cebtg.ch
SUMMARY:Cours de tibétain - Tib 3
DESCRIPTION:Le premier cours\, de 12h à 13h concerne l’analyse de texte. Il s’adresse à des étudiants avancés ayant déjà une certaine aisance dans la lecture d’un texte tibétain. L’enseignement s’appuie cette année sur l’étude du texte des 37 pratiques des bodhisattvas. Les leçons sont disponibles en replay pour les personnes qui souhaiteraient reprendre depuis le début.
URL:https://cebtg.ch/evenement/cours-de-tibetain-tib-3-2/
CATEGORIES:Cours de tibétain
ATTACH;FMTTYPE=image/png:https://cebtg.ch/wp-content/uploads/2023/01/texte_tibetain_16_9.png
END:VEVENT
BEGIN:VEVENT
DTSTART;TZID=Europe/Zurich:20250220T131500
DTEND;TZID=Europe/Zurich:20250220T141500
DTSTAMP:20260423T133419
CREATED:20250202T200812Z
LAST-MODIFIED:20250219T155551Z
UID:10001263-1740057300-1740060900@cebtg.ch
SUMMARY:Cours de tibétain - Tib 2
DESCRIPTION:Le deuxième cours\, de 13h15 à 14h15\, concerne l’apprentissage de la lecture pour des débutants ou des personnes désireuses de parfaire leur capacité. La méthode employée est une méthode contextuelle développée spécifiquement\, qui consiste à apprendre les lettres directement dans le texte. C’est une sorte d’apprentissage « sur le terrain ». Cette année nous étudierons le sūtra de la pousse de riz. Les leçons sont disponibles en replay pour les personnes qui souhaiteraient reprendre depuis le début.
URL:https://cebtg.ch/evenement/cours-de-tibetain-tib-2-2/
CATEGORIES:Cours de tibétain
ATTACH;FMTTYPE=image/png:https://cebtg.ch/wp-content/uploads/2023/01/texte_tibetain_16_9.png
END:VEVENT
BEGIN:VEVENT
DTSTART;TZID=Europe/Zurich:20250220T191500
DTEND;TZID=Europe/Zurich:20250220T211500
DTSTAMP:20260423T133419
CREATED:20250111T141102Z
LAST-MODIFIED:20250508T082752Z
UID:10001250-1740078900-1740086100@cebtg.ch
SUMMARY:Méditation groupe Lausanne
DESCRIPTION:
URL:https://cebtg.ch/evenement/meditation-lausanne-et-agathe-a-ls-seance-religion-2/
END:VEVENT
BEGIN:VEVENT
DTSTART;TZID=Europe/Zurich:20250224T073000
DTEND;TZID=Europe/Zurich:20250224T080000
DTSTAMP:20260423T133419
CREATED:20241204T155307Z
LAST-MODIFIED:20250508T082752Z
UID:10001200-1740382200-1740384000@cebtg.ch
SUMMARY:Récitation de l'Appel au Lama de loin
DESCRIPTION:Récitation de l’Appel au Lama de loin en présence à la Maison Verte et sur Zoom.
URL:https://cebtg.ch/evenement/recitation-de-lappel-au-lama-de-loin-25/
CATEGORIES:Prière
ATTACH;FMTTYPE=image/jpeg:https://cebtg.ch/wp-content/uploads/2024/11/IMG_5501-e1733695400999.jpg
END:VEVENT
BEGIN:VEVENT
DTSTART;TZID=Europe/Zurich:20250224T080000
DTEND;TZID=Europe/Zurich:20250224T090000
DTSTAMP:20260423T133419
CREATED:20241204T155307Z
LAST-MODIFIED:20250508T082752Z
UID:10001199-1740384000-1740387600@cebtg.ch
SUMMARY:Méditation
DESCRIPTION:Méditation du calme mental en présence à la Maison Verte\, sur Zoom (codes habituels) et Youtube.
URL:https://cebtg.ch/evenement/meditation-50/
CATEGORIES:Calme Mental
ATTACH;FMTTYPE=image/jpeg:https://cebtg.ch/wp-content/uploads/2023/08/IMG_7234-scaled-e1693428506443.jpeg
END:VEVENT
BEGIN:VEVENT
DTSTART;TZID=Europe/Zurich:20250224T163000
DTEND;TZID=Europe/Zurich:20250224T180000
DTSTAMP:20260423T133419
CREATED:20250210T112309Z
LAST-MODIFIED:20250508T082752Z
UID:10001277-1740414600-1740420000@cebtg.ch
SUMMARY:Pratique de Vajrasattva
DESCRIPTION:Suite aux instructions de la pratique de Vajrasattva données par Lama Jimpa Lodreu / Jean-Marc Falcombello le 6 février dernier (replay possible sur demande uniquement)\, nous vous invitons à venir purifier et clôturer cette année du dragon pour mieux accueillir celle du serpent de bois. \n \nNous pratiquerons donc Vajrasattva ensemble les 24 et 26 février de 16h30 à 18h à Vimalakirti et par zoom.
URL:https://cebtg.ch/evenement/pratique-de-vajrasattva/
END:VEVENT
BEGIN:VEVENT
DTSTART;TZID=Europe/Zurich:20250224T183000
DTEND;TZID=Europe/Zurich:20250224T200000
DTSTAMP:20260423T133419
CREATED:20241204T155307Z
LAST-MODIFIED:20250508T082752Z
UID:10001201-1740421800-1740427200@cebtg.ch
SUMMARY:Méditation
DESCRIPTION:Méditation du calme mental\, en présence à Vimalakirti\, sur Zoom (codes habituels) et Youtube.
URL:https://cebtg.ch/evenement/meditation-51/
CATEGORIES:Calme Mental
ATTACH;FMTTYPE=image/jpeg:https://cebtg.ch/wp-content/uploads/2023/08/IMG_7234-scaled-e1693428506443.jpeg
END:VEVENT
BEGIN:VEVENT
DTSTART;TZID=Europe/Zurich:20250225T120000
DTEND;TZID=Europe/Zurich:20250225T130000
DTSTAMP:20260423T133419
CREATED:20250202T200812Z
LAST-MODIFIED:20250224T162510Z
UID:10001265-1740484800-1740488400@cebtg.ch
SUMMARY:Cours de tibétain - Tib 3
DESCRIPTION:Le premier cours\, de 12h à 13h concerne l’analyse de texte. Il s’adresse à des étudiants avancés ayant déjà une certaine aisance dans la lecture d’un texte tibétain. L’enseignement s’appuie cette année sur l’étude du texte des 37 pratiques des bodhisattvas. Les leçons sont disponibles en replay pour les personnes qui souhaiteraient reprendre depuis le début.
URL:https://cebtg.ch/evenement/cours-de-tibetain-tib-3-3/
CATEGORIES:Cours de tibétain
ATTACH;FMTTYPE=image/png:https://cebtg.ch/wp-content/uploads/2023/01/texte_tibetain_16_9.png
END:VEVENT
BEGIN:VEVENT
DTSTART;TZID=Europe/Zurich:20250225T131500
DTEND;TZID=Europe/Zurich:20250225T141500
DTSTAMP:20260423T133419
CREATED:20250202T200812Z
LAST-MODIFIED:20250224T162510Z
UID:10001266-1740489300-1740492900@cebtg.ch
SUMMARY:Cours de tibétain - Tib 2
DESCRIPTION:Le deuxième cours\, de 13h15 à 14h15\, concerne l’apprentissage de la lecture pour des débutants ou des personnes désireuses de parfaire leur capacité. La méthode employée est une méthode contextuelle développée spécifiquement\, qui consiste à apprendre les lettres directement dans le texte. C’est une sorte d’apprentissage « sur le terrain ». Cette année nous étudierons le sūtra de la pousse de riz. Les leçons sont disponibles en replay pour les personnes qui souhaiteraient reprendre depuis le début.
URL:https://cebtg.ch/evenement/cours-de-tibetain-tib-2-3/
CATEGORIES:Cours de tibétain
ATTACH;FMTTYPE=image/png:https://cebtg.ch/wp-content/uploads/2023/01/texte_tibetain_16_9.png
END:VEVENT
END:VCALENDAR