BEGIN:VCALENDAR
VERSION:2.0
PRODID:-//Centre d&#039;Etudes du Bouddhisme Tibétain de Genève - ECPv6.15.20//NONSGML v1.0//EN
CALSCALE:GREGORIAN
METHOD:PUBLISH
X-WR-CALNAME:Centre d&#039;Etudes du Bouddhisme Tibétain de Genève
X-ORIGINAL-URL:https://cebtg.ch
X-WR-CALDESC:Évènements pour Centre d&#039;Etudes du Bouddhisme Tibétain de Genève
REFRESH-INTERVAL;VALUE=DURATION:PT1H
X-Robots-Tag:noindex
X-PUBLISHED-TTL:PT1H
BEGIN:VTIMEZONE
TZID:Europe/Zurich
BEGIN:DAYLIGHT
TZOFFSETFROM:+0100
TZOFFSETTO:+0200
TZNAME:CEST
DTSTART:20240331T010000
END:DAYLIGHT
BEGIN:STANDARD
TZOFFSETFROM:+0200
TZOFFSETTO:+0100
TZNAME:CET
DTSTART:20241027T010000
END:STANDARD
BEGIN:DAYLIGHT
TZOFFSETFROM:+0100
TZOFFSETTO:+0200
TZNAME:CEST
DTSTART:20250330T010000
END:DAYLIGHT
BEGIN:STANDARD
TZOFFSETFROM:+0200
TZOFFSETTO:+0100
TZNAME:CET
DTSTART:20251026T010000
END:STANDARD
BEGIN:DAYLIGHT
TZOFFSETFROM:+0100
TZOFFSETTO:+0200
TZNAME:CEST
DTSTART:20260329T010000
END:DAYLIGHT
BEGIN:STANDARD
TZOFFSETFROM:+0200
TZOFFSETTO:+0100
TZNAME:CET
DTSTART:20261025T010000
END:STANDARD
END:VTIMEZONE
BEGIN:VEVENT
DTSTART;VALUE=DATE:20251018
DTEND;VALUE=DATE:20251025
DTSTAMP:20260424T051618
CREATED:20251002T085654Z
LAST-MODIFIED:20251223T162652Z
UID:10001599-1760745600-1761350399@cebtg.ch
SUMMARY:Lojong (entrainement de l'esprit) KML JM
DESCRIPTION:
URL:https://cebtg.ch/evenement/lojong-entrainement-de-lesprit-kml-jm-2/
END:VEVENT
BEGIN:VEVENT
DTSTART;TZID=Europe/Zurich:20251020T073000
DTEND;TZID=Europe/Zurich:20251020T080000
DTSTAMP:20260424T051618
CREATED:20251002T085654Z
LAST-MODIFIED:20251223T162652Z
UID:10001596-1760945400-1760947200@cebtg.ch
SUMMARY:Récitation de l'Appel au Lama de loin
DESCRIPTION:Récitation de l’Appel au Lama de loin en présence à la Maison Verte et sur Zoom.
URL:https://cebtg.ch/evenement/recitation-de-lappel-au-lama-de-loin-64/
END:VEVENT
BEGIN:VEVENT
DTSTART;TZID=Europe/Zurich:20251020T080000
DTEND;TZID=Europe/Zurich:20251020T090000
DTSTAMP:20260424T051618
CREATED:20251002T085654Z
LAST-MODIFIED:20251223T162652Z
UID:10001597-1760947200-1760950800@cebtg.ch
SUMMARY:Méditation
DESCRIPTION:Méditation du calme mental en présence à la Maison Verte\, sur Zoom (codes habituels) et Youtube.
URL:https://cebtg.ch/evenement/meditation-129/
CATEGORIES:Calme Mental,Méditation,Shiné
ATTACH;FMTTYPE=image/jpeg:https://cebtg.ch/wp-content/uploads/2023/08/IMG_7234-scaled-e1693428506443.jpeg
END:VEVENT
BEGIN:VEVENT
DTSTART;TZID=Europe/Zurich:20251020T183000
DTEND;TZID=Europe/Zurich:20251020T200000
DTSTAMP:20260424T051618
CREATED:20251002T085654Z
LAST-MODIFIED:20251223T162652Z
UID:10001600-1760985000-1760990400@cebtg.ch
SUMMARY:Méditation
DESCRIPTION:Méditation du calme mental\, en présence à Vimalakirti\, sur Zoom (codes habituels) et Youtube.
URL:https://cebtg.ch/evenement/meditation-130/
CATEGORIES:Mercredi soir,Shiné
ATTACH;FMTTYPE=image/jpeg:https://cebtg.ch/wp-content/uploads/2023/03/calme-turquoise.jpg
END:VEVENT
END:VCALENDAR