BEGIN:VCALENDAR
VERSION:2.0
PRODID:-//Centre d&#039;Etudes du Bouddhisme Tibétain de Genève - ECPv6.15.20//NONSGML v1.0//EN
CALSCALE:GREGORIAN
METHOD:PUBLISH
X-WR-CALNAME:Centre d&#039;Etudes du Bouddhisme Tibétain de Genève
X-ORIGINAL-URL:https://cebtg.ch
X-WR-CALDESC:Évènements pour Centre d&#039;Etudes du Bouddhisme Tibétain de Genève
REFRESH-INTERVAL;VALUE=DURATION:PT1H
X-Robots-Tag:noindex
X-PUBLISHED-TTL:PT1H
BEGIN:VTIMEZONE
TZID:Europe/Zurich
BEGIN:DAYLIGHT
TZOFFSETFROM:+0100
TZOFFSETTO:+0200
TZNAME:CEST
DTSTART:20240331T010000
END:DAYLIGHT
BEGIN:STANDARD
TZOFFSETFROM:+0200
TZOFFSETTO:+0100
TZNAME:CET
DTSTART:20241027T010000
END:STANDARD
BEGIN:DAYLIGHT
TZOFFSETFROM:+0100
TZOFFSETTO:+0200
TZNAME:CEST
DTSTART:20250330T010000
END:DAYLIGHT
BEGIN:STANDARD
TZOFFSETFROM:+0200
TZOFFSETTO:+0100
TZNAME:CET
DTSTART:20251026T010000
END:STANDARD
BEGIN:DAYLIGHT
TZOFFSETFROM:+0100
TZOFFSETTO:+0200
TZNAME:CEST
DTSTART:20260329T010000
END:DAYLIGHT
BEGIN:STANDARD
TZOFFSETFROM:+0200
TZOFFSETTO:+0100
TZNAME:CET
DTSTART:20261025T010000
END:STANDARD
END:VTIMEZONE
BEGIN:VEVENT
DTSTART;VALUE=DATE:20250920
DTEND;VALUE=DATE:20250929
DTSTAMP:20260423T203220
CREATED:20250831T141139Z
LAST-MODIFIED:20251002T084151Z
UID:10001517-1758326400-1759103999@cebtg.ch
SUMMARY:Retraite d'étude à Montchardon - pour les résident·e·s.
DESCRIPTION:Durant cette semaine\, lama Jean-Marc sera à Montchardon pour traduire cette semaine d’étude en compagnie d’acharya Kunchok Tenzin.  \nConséquemment\, certaines sessions seront encadrées par des membres du CEBTG. Merci de consulter le calendrier.
URL:https://cebtg.ch/evenement/retraite-detude-a-montchardon-pour-les-resident%c2%b7e%c2%b7s/
END:VEVENT
BEGIN:VEVENT
DTSTART;VALUE=DATE:20250920
DTEND;VALUE=DATE:20250929
DTSTAMP:20260423T203220
CREATED:20251002T085652Z
LAST-MODIFIED:20251223T162651Z
UID:10001573-1758326400-1759103999@cebtg.ch
SUMMARY:Retraite d'étude à Montchardon - pour les résident·e·s.
DESCRIPTION:Durant cette semaine\, lama Jean-Marc sera à Montchardon pour traduire cette semaine d’étude en compagnie d’acharya Kunchok Tenzin.  \nConséquemment\, certaines sessions seront encadrées par des membres du CEBTG. Merci de consulter le calendrier.
URL:https://cebtg.ch/evenement/retraite-detude-a-montchardon-pour-les-resident%c2%b7e%c2%b7s-2/
END:VEVENT
BEGIN:VEVENT
DTSTART;TZID=Europe/Zurich:20250924T183000
DTEND;TZID=Europe/Zurich:20250924T191500
DTSTAMP:20260423T203220
CREATED:20251002T085652Z
LAST-MODIFIED:20251223T162651Z
UID:10001571-1758738600-1758741300@cebtg.ch
SUMMARY:Pratique de Tchenrezi
DESCRIPTION:La pratique de Tchenrézi est une méditation chantée combinant visualisation et mantra\, centrée sur le développement de l’amour et de la compassion. Cette activité est ouverte à toute personne intéressée par la tradition tibétaine\, qu’elle soit bouddhiste ou non\, débutante ou confirmée. Des textes de pratique avec transcription phonétique sont disponibles sur place.Un mercredi sur deux\, la pratique est guidée : les parties récitées sont commentées pour faciliter la visualisation correspondante. \nCette pratique de Tchenrézi est caractéristique du vajrayana\, ou bouddhisme tantrique. Pour mieux l’appréhender\, des séances d’instructions individuelles ou collectives sont proposées sur demande.La pratique de Tchenrézi est accessible en présentiel et en ligne (exclusivement via Zoom).  \nLes séances en présentiel se déroulent dans la salle du Centre Vimalakirti\, située dans le quartier des Délices à Genève\, rue Henri-Frédéric Amiel 10\, 1203 Genève.
URL:https://cebtg.ch/evenement/pratique-de-tchenrezi-66/
CATEGORIES:Tchenrezi
ATTACH;FMTTYPE=image/jpeg:https://cebtg.ch/wp-content/uploads/2023/08/Tchenrezi-4-bras1.jpg
END:VEVENT
BEGIN:VEVENT
DTSTART;TZID=Europe/Zurich:20250924T193000
DTEND;TZID=Europe/Zurich:20250924T203000
DTSTAMP:20260423T203220
CREATED:20250831T104120Z
LAST-MODIFIED:20260209T102032Z
UID:10001419-1758742200-1758745800@cebtg.ch
SUMMARY:Enseignement - Cycle Gampopa
DESCRIPTION:Enseignement – réflexion/intégration lié au « cycle Gampopa »\, 1er volet. \n \nAvec lama Djinpa Lodreu (Jean-Marc Falcombello) en présence à Vimalakirti\, sur Zoom et Youtube.
URL:https://cebtg.ch/evenement/enseignement-cycle-gampopa-20/
CATEGORIES:Gampopa
ATTACH;FMTTYPE=image/png:https://cebtg.ch/wp-content/uploads/2023/01/Gampopa-detail-16_9.png
END:VEVENT
BEGIN:VEVENT
DTSTART;TZID=Europe/Zurich:20250924T193000
DTEND;TZID=Europe/Zurich:20250924T203000
DTSTAMP:20260423T203220
CREATED:20251002T085652Z
LAST-MODIFIED:20260209T102032Z
UID:10001572-1758742200-1758745800@cebtg.ch
SUMMARY:Enseignement - Cycle Gampopa
DESCRIPTION:Enseignement – réflexion/intégration lié au « cycle Gampopa »\, 1er volet. \n \nAvec lama Djinpa Lodreu (Jean-Marc Falcombello) en présence à Vimalakirti\, sur Zoom et Youtube.
URL:https://cebtg.ch/evenement/enseignement-cycle-gampopa-31/
CATEGORIES:Gampopa
ATTACH;FMTTYPE=image/png:https://cebtg.ch/wp-content/uploads/2023/01/Gampopa-detail-16_9.png
END:VEVENT
END:VCALENDAR