BEGIN:VCALENDAR
VERSION:2.0
PRODID:-//Centre d&#039;Etudes du Bouddhisme Tibétain de Genève - ECPv6.15.20//NONSGML v1.0//EN
CALSCALE:GREGORIAN
METHOD:PUBLISH
X-WR-CALNAME:Centre d&#039;Etudes du Bouddhisme Tibétain de Genève
X-ORIGINAL-URL:https://cebtg.ch
X-WR-CALDESC:Évènements pour Centre d&#039;Etudes du Bouddhisme Tibétain de Genève
REFRESH-INTERVAL;VALUE=DURATION:PT1H
X-Robots-Tag:noindex
X-PUBLISHED-TTL:PT1H
BEGIN:VTIMEZONE
TZID:Europe/Zurich
BEGIN:DAYLIGHT
TZOFFSETFROM:+0100
TZOFFSETTO:+0200
TZNAME:CEST
DTSTART:20240331T010000
END:DAYLIGHT
BEGIN:STANDARD
TZOFFSETFROM:+0200
TZOFFSETTO:+0100
TZNAME:CET
DTSTART:20241027T010000
END:STANDARD
BEGIN:DAYLIGHT
TZOFFSETFROM:+0100
TZOFFSETTO:+0200
TZNAME:CEST
DTSTART:20250330T010000
END:DAYLIGHT
BEGIN:STANDARD
TZOFFSETFROM:+0200
TZOFFSETTO:+0100
TZNAME:CET
DTSTART:20251026T010000
END:STANDARD
BEGIN:DAYLIGHT
TZOFFSETFROM:+0100
TZOFFSETTO:+0200
TZNAME:CEST
DTSTART:20260329T010000
END:DAYLIGHT
BEGIN:STANDARD
TZOFFSETFROM:+0200
TZOFFSETTO:+0100
TZNAME:CET
DTSTART:20261025T010000
END:STANDARD
END:VTIMEZONE
BEGIN:VEVENT
DTSTART;TZID=Europe/Zurich:20250917T113000
DTEND;TZID=Europe/Zurich:20250917T123000
DTSTAMP:20260423T183226
CREATED:20250831T064142Z
LAST-MODIFIED:20251002T093710Z
UID:10001373-1758108600-1758112200@cebtg.ch
SUMMARY:Tib 1 - Tibétain
DESCRIPTION:Ce cours « débutant » s’adresse aux personnes qui n’ont aucune connaissance de l’alphabet tibétain et ne savent pas lire. À terme\, elles pourront rejoindre le cours intermédiaire.
URL:https://cebtg.ch/evenement/tib-1-tibetain-6/
CATEGORIES:Cours de tibétain,Tibétain
ATTACH;FMTTYPE=image/png:https://cebtg.ch/wp-content/uploads/2023/01/texte_tibetain_16_9.png
END:VEVENT
BEGIN:VEVENT
DTSTART;TZID=Europe/Zurich:20250917T113000
DTEND;TZID=Europe/Zurich:20250917T123000
DTSTAMP:20260423T183226
CREATED:20251002T093534Z
LAST-MODIFIED:20260304T104304Z
UID:10001659-1758108600-1758112200@cebtg.ch
SUMMARY:Tib 1 - Tibétain
DESCRIPTION:Ce cours « débutant » s’adresse aux personnes qui n’ont aucune connaissance de l’alphabet tibétain et ne savent pas lire. À terme\, elles pourront rejoindre le cours intermédiaire.
URL:https://cebtg.ch/evenement/tib-1-tibetain-15/
CATEGORIES:Cours de tibétain
ATTACH;FMTTYPE=image/png:https://cebtg.ch/wp-content/uploads/2023/01/texte_tibetain_16_9.png
END:VEVENT
BEGIN:VEVENT
DTSTART;TZID=Europe/Zurich:20250917T183000
DTEND;TZID=Europe/Zurich:20250917T191500
DTSTAMP:20260423T183226
CREATED:20251002T085651Z
LAST-MODIFIED:20251223T162650Z
UID:10001565-1758133800-1758136500@cebtg.ch
SUMMARY:Pratique de Tchenrezi
DESCRIPTION:La pratique de Tchenrézi est une méditation chantée combinant visualisation et mantra\, centrée sur le développement de l’amour et de la compassion. Cette activité est ouverte à toute personne intéressée par la tradition tibétaine\, qu’elle soit bouddhiste ou non\, débutante ou confirmée. Des textes de pratique avec transcription phonétique sont disponibles sur place.Un mercredi sur deux\, la pratique est guidée : les parties récitées sont commentées pour faciliter la visualisation correspondante. \nCette pratique de Tchenrézi est caractéristique du vajrayana\, ou bouddhisme tantrique. Pour mieux l’appréhender\, des séances d’instructions individuelles ou collectives sont proposées sur demande.La pratique de Tchenrézi est accessible en présentiel et en ligne (exclusivement via Zoom).  \nLes séances en présentiel se déroulent dans la salle du Centre Vimalakirti\, située dans le quartier des Délices à Genève\, rue Henri-Frédéric Amiel 10\, 1203 Genève.
URL:https://cebtg.ch/evenement/pratique-de-tchenrezi-65/
CATEGORIES:Tchenrezi
ATTACH;FMTTYPE=image/jpeg:https://cebtg.ch/wp-content/uploads/2023/08/Tchenrezi-4-bras1.jpg
END:VEVENT
BEGIN:VEVENT
DTSTART;TZID=Europe/Zurich:20250917T193000
DTEND;TZID=Europe/Zurich:20250917T203000
DTSTAMP:20260423T183226
CREATED:20250831T104119Z
LAST-MODIFIED:20260209T102032Z
UID:10001414-1758137400-1758141000@cebtg.ch
SUMMARY:Enseignement - Cycle Gampopa
DESCRIPTION:Enseignement – réflexion/intégration lié au « cycle Gampopa »\, 1er volet. \n \nAvec lama Djinpa Lodreu (Jean-Marc Falcombello) en présence à Vimalakirti\, sur Zoom et Youtube.
URL:https://cebtg.ch/evenement/enseignement-cycle-gampopa-19/
CATEGORIES:Gampopa
ATTACH;FMTTYPE=image/png:https://cebtg.ch/wp-content/uploads/2023/01/Gampopa-detail-16_9.png
END:VEVENT
BEGIN:VEVENT
DTSTART;TZID=Europe/Zurich:20250917T193000
DTEND;TZID=Europe/Zurich:20250917T203000
DTSTAMP:20260423T183226
CREATED:20251002T085651Z
LAST-MODIFIED:20260209T102032Z
UID:10001566-1758137400-1758141000@cebtg.ch
SUMMARY:Enseignement - Cycle Gampopa
DESCRIPTION:Enseignement – réflexion/intégration lié au « cycle Gampopa »\, 1er volet. \n \nAvec lama Djinpa Lodreu (Jean-Marc Falcombello) en présence à Vimalakirti\, sur Zoom et Youtube.
URL:https://cebtg.ch/evenement/enseignement-cycle-gampopa-30/
CATEGORIES:Gampopa
ATTACH;FMTTYPE=image/png:https://cebtg.ch/wp-content/uploads/2023/01/Gampopa-detail-16_9.png
END:VEVENT
END:VCALENDAR