BEGIN:VCALENDAR
VERSION:2.0
PRODID:-//Centre d&#039;Etudes du Bouddhisme Tibétain de Genève - ECPv6.15.20//NONSGML v1.0//EN
CALSCALE:GREGORIAN
METHOD:PUBLISH
X-ORIGINAL-URL:https://cebtg.ch
X-WR-CALDESC:Évènements pour Centre d&#039;Etudes du Bouddhisme Tibétain de Genève
REFRESH-INTERVAL;VALUE=DURATION:PT1H
X-Robots-Tag:noindex
X-PUBLISHED-TTL:PT1H
BEGIN:VTIMEZONE
TZID:Europe/Zurich
BEGIN:DAYLIGHT
TZOFFSETFROM:+0100
TZOFFSETTO:+0200
TZNAME:CEST
DTSTART:20240331T010000
END:DAYLIGHT
BEGIN:STANDARD
TZOFFSETFROM:+0200
TZOFFSETTO:+0100
TZNAME:CET
DTSTART:20241027T010000
END:STANDARD
BEGIN:DAYLIGHT
TZOFFSETFROM:+0100
TZOFFSETTO:+0200
TZNAME:CEST
DTSTART:20250330T010000
END:DAYLIGHT
BEGIN:STANDARD
TZOFFSETFROM:+0200
TZOFFSETTO:+0100
TZNAME:CET
DTSTART:20251026T010000
END:STANDARD
BEGIN:DAYLIGHT
TZOFFSETFROM:+0100
TZOFFSETTO:+0200
TZNAME:CEST
DTSTART:20260329T010000
END:DAYLIGHT
BEGIN:STANDARD
TZOFFSETFROM:+0200
TZOFFSETTO:+0100
TZNAME:CET
DTSTART:20261025T010000
END:STANDARD
END:VTIMEZONE
BEGIN:VEVENT
DTSTART;TZID=Europe/Zurich:20250226T113000
DTEND;TZID=Europe/Zurich:20250226T123000
DTSTAMP:20260422T124959
CREATED:20250202T200812Z
LAST-MODIFIED:20250225T162325Z
UID:10001264-1740569400-1740573000@cebtg.ch
SUMMARY:Cours de tibétain débutant - Tib 1
DESCRIPTION:Ce cours « débutant » s’adresse aux personnes qui n’ont aucune connaissance de l’alphabet tibétain et ne savent pas lire. À terme\, elles pourront rejoindre le cours intermédiaire.
URL:https://cebtg.ch/evenement/cours-de-tibetain-debutant-tib-1/
CATEGORIES:Cours de tibétain
ATTACH;FMTTYPE=image/png:https://cebtg.ch/wp-content/uploads/2023/01/texte_tibetain_16_9.png
END:VEVENT
BEGIN:VEVENT
DTSTART;TZID=Europe/Zurich:20250226T163000
DTEND;TZID=Europe/Zurich:20250226T180000
DTSTAMP:20260422T124959
CREATED:20250210T112309Z
LAST-MODIFIED:20250508T082753Z
UID:10001278-1740587400-1740592800@cebtg.ch
SUMMARY:Pratique de Vajrasattva
DESCRIPTION:Suite aux instructions de la pratique de Vajrasattva données par Lama Jimpa Lodreu / Jean-Marc Falcombello le 6 février dernier (replay possible sur demande uniquement)\, nous vous invitons à venir purifier et clôturer cette année du dragon pour mieux accueillir celle du serpent de bois. \n \nNous pratiquerons donc Vajrasattva ensemble les 24 et 26 février de 16h30 à 18h à Vimalakirti et par zoom.
URL:https://cebtg.ch/evenement/pratique-de-vajrasattva-2/
END:VEVENT
BEGIN:VEVENT
DTSTART;TZID=Europe/Zurich:20250226T183000
DTEND;TZID=Europe/Zurich:20250226T191500
DTSTAMP:20260422T124959
CREATED:20241204T155307Z
LAST-MODIFIED:20250831T125202Z
UID:10001202-1740594600-1740597300@cebtg.ch
SUMMARY:Pratique de Tchenrezi
DESCRIPTION:La pratique de Tchenrézi est une méditation chantée combinant visualisation et mantra\, centrée sur le développement de l’amour et de la compassion. Cette activité est ouverte à toute personne intéressée par la tradition tibétaine\, qu’elle soit bouddhiste ou non\, débutante ou confirmée. Des textes de pratique avec transcription phonétique sont disponibles sur place.Un mercredi sur deux\, la pratique est guidée : les parties récitées sont commentées pour faciliter la visualisation correspondante. \nCette pratique de Tchenrézi est caractéristique du vajrayana\, ou bouddhisme tantrique. Pour mieux l’appréhender\, des séances d’instructions individuelles ou collectives sont proposées sur demande.La pratique de Tchenrézi est accessible en présentiel et en ligne (exclusivement via Zoom).  \nLes séances en présentiel se déroulent dans la salle du Centre Vimalakirti\, située dans le quartier des Délices à Genève\, rue Henri-Frédéric Amiel 10\, 1203 Genève.
URL:https://cebtg.ch/evenement/pratique-de-tchenrezi-24/
CATEGORIES:Tchenrezi
ATTACH;FMTTYPE=image/jpeg:https://cebtg.ch/wp-content/uploads/2023/08/Tchenrezi-4-bras1.jpg
END:VEVENT
BEGIN:VEVENT
DTSTART;TZID=Europe/Zurich:20250226T193000
DTEND;TZID=Europe/Zurich:20250226T203000
DTSTAMP:20260422T124959
CREATED:20241204T155307Z
LAST-MODIFIED:20250508T082753Z
UID:10001203-1740598200-1740601800@cebtg.ch
SUMMARY:Enseignement - thème libre
DESCRIPTION:Enseignement de lama Djinpa Lodreu (Jean-Marc Falcombello) en présence à Vimalakirti\, sur Zoom et Youtube. Thème libre.
URL:https://cebtg.ch/evenement/enseignement-theme-libre-7/
END:VEVENT
END:VCALENDAR