BEGIN:VCALENDAR
VERSION:2.0
PRODID:-//Centre d&#039;Etudes du Bouddhisme Tibétain de Genève - ECPv6.15.20//NONSGML v1.0//EN
CALSCALE:GREGORIAN
METHOD:PUBLISH
X-ORIGINAL-URL:https://cebtg.ch
X-WR-CALDESC:Évènements pour Centre d&#039;Etudes du Bouddhisme Tibétain de Genève
REFRESH-INTERVAL;VALUE=DURATION:PT1H
X-Robots-Tag:noindex
X-PUBLISHED-TTL:PT1H
BEGIN:VTIMEZONE
TZID:Europe/Zurich
BEGIN:DAYLIGHT
TZOFFSETFROM:+0100
TZOFFSETTO:+0200
TZNAME:CEST
DTSTART:20240331T010000
END:DAYLIGHT
BEGIN:STANDARD
TZOFFSETFROM:+0200
TZOFFSETTO:+0100
TZNAME:CET
DTSTART:20241027T010000
END:STANDARD
BEGIN:DAYLIGHT
TZOFFSETFROM:+0100
TZOFFSETTO:+0200
TZNAME:CEST
DTSTART:20250330T010000
END:DAYLIGHT
BEGIN:STANDARD
TZOFFSETFROM:+0200
TZOFFSETTO:+0100
TZNAME:CET
DTSTART:20251026T010000
END:STANDARD
BEGIN:DAYLIGHT
TZOFFSETFROM:+0100
TZOFFSETTO:+0200
TZNAME:CEST
DTSTART:20260329T010000
END:DAYLIGHT
BEGIN:STANDARD
TZOFFSETFROM:+0200
TZOFFSETTO:+0100
TZNAME:CET
DTSTART:20261025T010000
END:STANDARD
END:VTIMEZONE
BEGIN:VEVENT
DTSTART;VALUE=DATE:20250215
DTEND;VALUE=DATE:20250220
DTSTAMP:20260423T055157
CREATED:20250112T111120Z
LAST-MODIFIED:20250508T082752Z
UID:10001253-1739577600-1740009599@cebtg.ch
SUMMARY:Les 5 agrégats et la saisie d’un « soi » – Khenpo Samdroup Rinpoché
DESCRIPTION:L’enseignement du Bouddha consiste à comprendre que la saisie du « je » est l’origine de toute souffrance. Afin de se libérer de tous les conditionnements qui génèrent le samsara et amènent la souffrance\, il faut comprendre que ce « je » n’existe pas de manière intrinsèque. Le Bouddha démontre que notre individu n’est que la somme de ce qui le constitue\, les éléments physiques et psychiques que sont les cinq agrégats.Loin d’une compréhension purement théorique ou d’une vision abstraite\, cet enseignement est un levier puissant pour la pratique de la méditation. \nDurant ces quelques jours\, Lama Jean-Marc sera à Montchardon pour traduire cet enseignement important. \nPus d’infos ici : https://www.montchardon.fr/stages/les-5-agregats-khenpo-samdroup-rinpoche/
URL:https://cebtg.ch/evenement/les-5-agregats-et-la-saisie-dun-soi-khenpo-samdroup-rinpoche/
END:VEVENT
END:VCALENDAR