BEGIN:VCALENDAR
VERSION:2.0
PRODID:-//Centre d&#039;Etudes du Bouddhisme Tibétain de Genève - ECPv6.15.20//NONSGML v1.0//EN
CALSCALE:GREGORIAN
METHOD:PUBLISH
X-WR-CALNAME:Centre d&#039;Etudes du Bouddhisme Tibétain de Genève
X-ORIGINAL-URL:https://cebtg.ch
X-WR-CALDESC:Évènements pour Centre d&#039;Etudes du Bouddhisme Tibétain de Genève
REFRESH-INTERVAL;VALUE=DURATION:PT1H
X-Robots-Tag:noindex
X-PUBLISHED-TTL:PT1H
BEGIN:VTIMEZONE
TZID:Europe/Zurich
BEGIN:DAYLIGHT
TZOFFSETFROM:+0100
TZOFFSETTO:+0200
TZNAME:CEST
DTSTART:20230326T010000
END:DAYLIGHT
BEGIN:STANDARD
TZOFFSETFROM:+0200
TZOFFSETTO:+0100
TZNAME:CET
DTSTART:20231029T010000
END:STANDARD
BEGIN:DAYLIGHT
TZOFFSETFROM:+0100
TZOFFSETTO:+0200
TZNAME:CEST
DTSTART:20240331T010000
END:DAYLIGHT
BEGIN:STANDARD
TZOFFSETFROM:+0200
TZOFFSETTO:+0100
TZNAME:CET
DTSTART:20241027T010000
END:STANDARD
BEGIN:DAYLIGHT
TZOFFSETFROM:+0100
TZOFFSETTO:+0200
TZNAME:CEST
DTSTART:20250330T010000
END:DAYLIGHT
BEGIN:STANDARD
TZOFFSETFROM:+0200
TZOFFSETTO:+0100
TZNAME:CET
DTSTART:20251026T010000
END:STANDARD
END:VTIMEZONE
BEGIN:VEVENT
DTSTART;VALUE=DATE:20241202
DTEND;VALUE=DATE:20241203
DTSTAMP:20260423T032440
CREATED:20240730T112557Z
LAST-MODIFIED:20241204T154444Z
UID:10000929-1733097600-1733183999@cebtg.ch
SUMMARY:Lama Jampa Thaye au CEBT Genève
DESCRIPTION:
URL:https://cebtg.ch/evenement/lama-jampa-thaye-au-cebt-geneve/
END:VEVENT
BEGIN:VEVENT
DTSTART;TZID=Europe/Zurich:20241202T073000
DTEND;TZID=Europe/Zurich:20241202T080000
DTSTAMP:20260423T032440
CREATED:20241019T180345Z
LAST-MODIFIED:20241208T220453Z
UID:10001125-1733124600-1733126400@cebtg.ch
SUMMARY:Récitation de l'Appel au Lama de loin
DESCRIPTION:Récitation de l’Appel au Lama de loin en présence à la Maison Verte et sur Zoom.
URL:https://cebtg.ch/evenement/recitation-de-lappel-au-lama-de-loin-13/
CATEGORIES:Prière
ATTACH;FMTTYPE=image/jpeg:https://cebtg.ch/wp-content/uploads/2024/11/IMG_5501-e1733695400999.jpg
END:VEVENT
BEGIN:VEVENT
DTSTART;TZID=Europe/Zurich:20241202T080000
DTEND;TZID=Europe/Zurich:20241202T090000
DTSTAMP:20260423T032440
CREATED:20241019T180345Z
LAST-MODIFIED:20241204T160006Z
UID:10001124-1733126400-1733130000@cebtg.ch
SUMMARY:Méditation
DESCRIPTION:Méditation du calme mental en présence à la Maison Verte\, sur Zoom (codes habituels) et Youtube.
URL:https://cebtg.ch/evenement/meditation-26/
CATEGORIES:Calme Mental,Méditation
ATTACH;FMTTYPE=image/jpeg:https://cebtg.ch/wp-content/uploads/2023/08/IMG_7234-scaled-e1693428506443.jpeg
END:VEVENT
BEGIN:VEVENT
DTSTART;TZID=Europe/Zurich:20241202T183000
DTEND;TZID=Europe/Zurich:20241202T200000
DTSTAMP:20260423T032440
CREATED:20241019T180345Z
LAST-MODIFIED:20241204T160006Z
UID:10001126-1733164200-1733169600@cebtg.ch
SUMMARY:Méditation
DESCRIPTION:Méditation du calme mental\, en présence à Vimalakirti\, sur Zoom (codes habituels) et Youtube.
URL:https://cebtg.ch/evenement/meditation-27/
CATEGORIES:Calme Mental,Méditation
ATTACH;FMTTYPE=image/jpeg:https://cebtg.ch/wp-content/uploads/2023/08/IMG_7234-scaled-e1693428506443.jpeg
END:VEVENT
END:VCALENDAR