BEGIN:VCALENDAR
VERSION:2.0
PRODID:-//Centre d&#039;Etudes du Bouddhisme Tibétain de Genève - ECPv6.15.20//NONSGML v1.0//EN
CALSCALE:GREGORIAN
METHOD:PUBLISH
X-WR-CALNAME:Centre d&#039;Etudes du Bouddhisme Tibétain de Genève
X-ORIGINAL-URL:https://cebtg.ch
X-WR-CALDESC:Évènements pour Centre d&#039;Etudes du Bouddhisme Tibétain de Genève
REFRESH-INTERVAL;VALUE=DURATION:PT1H
X-Robots-Tag:noindex
X-PUBLISHED-TTL:PT1H
BEGIN:VTIMEZONE
TZID:Europe/Zurich
BEGIN:DAYLIGHT
TZOFFSETFROM:+0100
TZOFFSETTO:+0200
TZNAME:CEST
DTSTART:20230326T010000
END:DAYLIGHT
BEGIN:STANDARD
TZOFFSETFROM:+0200
TZOFFSETTO:+0100
TZNAME:CET
DTSTART:20231029T010000
END:STANDARD
BEGIN:DAYLIGHT
TZOFFSETFROM:+0100
TZOFFSETTO:+0200
TZNAME:CEST
DTSTART:20240331T010000
END:DAYLIGHT
BEGIN:STANDARD
TZOFFSETFROM:+0200
TZOFFSETTO:+0100
TZNAME:CET
DTSTART:20241027T010000
END:STANDARD
BEGIN:DAYLIGHT
TZOFFSETFROM:+0100
TZOFFSETTO:+0200
TZNAME:CEST
DTSTART:20250330T010000
END:DAYLIGHT
BEGIN:STANDARD
TZOFFSETFROM:+0200
TZOFFSETTO:+0100
TZNAME:CET
DTSTART:20251026T010000
END:STANDARD
END:VTIMEZONE
BEGIN:VEVENT
DTSTART;VALUE=DATE:20241115
DTEND;VALUE=DATE:20241118
DTSTAMP:20260423T092259
CREATED:20241019T162202Z
LAST-MODIFIED:20241204T154444Z
UID:10001115-1731628800-1731887999@cebtg.ch
SUMMARY:Lama Sangpo
DESCRIPTION:Lama Sangpo\, supérieur de la Congrégation de Montchardon\, Karma Migyur Ling\, maître de retraite et yogi accompli\, nous fait le très grand plaisir d’une visite au CEBT Genève\, du vendredi 15 au soir au dimanche 17 novembre à 16h. \nLe vendredi soir\, il est prévu une pratique d’offrande (Tsok de Milarépa\, à confirmer) et un week-end consacré à la pratique de Tchenrézi\, avec l’initiation de Tchenrézi le dimanche après-midi. \nUne soirée et deux jours d’enseignement en présentiel et online. Si vous souhaitez réservez la date\, nous vous fournirons plus d’informations dans une prochaine newsletter.
URL:https://cebtg.ch/evenement/lama-sangpo/
LOCATION:Salle du Centre Vimalakirti\, Rue Henri-Frédéric-Amiel 10\, Genève\, Geneva\, 1203\, Suisse
ATTACH;FMTTYPE=image/jpeg:https://cebtg.ch/wp-content/uploads/2024/10/lama-sangpo-IMG_6508.jpeg
END:VEVENT
END:VCALENDAR