BEGIN:VCALENDAR
VERSION:2.0
PRODID:-//Centre d&#039;Etudes du Bouddhisme Tibétain de Genève - ECPv6.15.20//NONSGML v1.0//EN
CALSCALE:GREGORIAN
METHOD:PUBLISH
X-WR-CALNAME:Centre d&#039;Etudes du Bouddhisme Tibétain de Genève
X-ORIGINAL-URL:https://cebtg.ch
X-WR-CALDESC:Évènements pour Centre d&#039;Etudes du Bouddhisme Tibétain de Genève
REFRESH-INTERVAL;VALUE=DURATION:PT1H
X-Robots-Tag:noindex
X-PUBLISHED-TTL:PT1H
BEGIN:VTIMEZONE
TZID:Europe/Zurich
BEGIN:DAYLIGHT
TZOFFSETFROM:+0100
TZOFFSETTO:+0200
TZNAME:CEST
DTSTART:20230326T010000
END:DAYLIGHT
BEGIN:STANDARD
TZOFFSETFROM:+0200
TZOFFSETTO:+0100
TZNAME:CET
DTSTART:20231029T010000
END:STANDARD
BEGIN:DAYLIGHT
TZOFFSETFROM:+0100
TZOFFSETTO:+0200
TZNAME:CEST
DTSTART:20240331T010000
END:DAYLIGHT
BEGIN:STANDARD
TZOFFSETFROM:+0200
TZOFFSETTO:+0100
TZNAME:CET
DTSTART:20241027T010000
END:STANDARD
BEGIN:DAYLIGHT
TZOFFSETFROM:+0100
TZOFFSETTO:+0200
TZNAME:CEST
DTSTART:20250330T010000
END:DAYLIGHT
BEGIN:STANDARD
TZOFFSETFROM:+0200
TZOFFSETTO:+0100
TZNAME:CET
DTSTART:20251026T010000
END:STANDARD
END:VTIMEZONE
BEGIN:VEVENT
DTSTART;VALUE=DATE:20241028
DTEND;VALUE=DATE:20241102
DTSTAMP:20260423T183306
CREATED:20240730T112557Z
LAST-MODIFIED:20241204T154443Z
UID:10000925-1730073600-1730505599@cebtg.ch
SUMMARY:Lodjong et Tonglen à Montchardon – 2e partie
DESCRIPTION:2ème partie – Du lundi 28 au vendredi 1er novembre \nLa deuxième partie du stage nous permet de mieux intégrer encore certains des 59 aphorismes de l’Entraînement de lʼesprit\, qui composent le texte racine sous la forme de courtes phrases.\nNous avons aussi l’occasion de prendre plus de temps pour la pratique méditative associée à l’Entraînement de l’esprit : la pratique de Tonglen. Des moments de restitution et d’échange\, en groupe\, sont aussi proposés pour nous aider à clarifier et enrichir notre pratique.\nIl est possible d’assister uniquement à cette deuxième partie\, mais si l’on n’a jamais pris contact avec la pratique de Lojong\, il est conseillé de suivre tout d’abord la première partie du stage. \nQuelques mots sur l’Entraînement de l’esprit\, Lojong et Tonglèn (cliquer sur ce lien) \nFrais de session : 12€/jour
URL:https://cebtg.ch/evenement/lojong/
LOCATION:Montchardon KML\, 8900 Rte de Montchardon\, Izeron\, 38160\, France
CATEGORIES:KML
ATTACH;FMTTYPE=image/jpeg:https://cebtg.ch/wp-content/uploads/2024/07/lojong-slogans-boeddhisme-1620x614-c-default@2x-scaled.jpg
END:VEVENT
BEGIN:VEVENT
DTSTART;TZID=Europe/Zurich:20241028T073000
DTEND;TZID=Europe/Zurich:20241028T080000
DTSTAMP:20260423T183306
CREATED:20240821T110408Z
LAST-MODIFIED:20241208T220547Z
UID:10001085-1730100600-1730102400@cebtg.ch
SUMMARY:Récitation de l'Appel au Lama de loin
DESCRIPTION:Récitation de l’Appel au Lama de loin en présence à la Maison Verte et sur Zoom.
URL:https://cebtg.ch/evenement/recitation-de-lappel-au-lama-de-loin-8/
CATEGORIES:Prière
ATTACH;FMTTYPE=image/jpeg:https://cebtg.ch/wp-content/uploads/2024/11/IMG_5501-e1733695400999.jpg
END:VEVENT
BEGIN:VEVENT
DTSTART;TZID=Europe/Zurich:20241028T080000
DTEND;TZID=Europe/Zurich:20241028T090000
DTSTAMP:20260423T183306
CREATED:20240821T110408Z
LAST-MODIFIED:20241204T154443Z
UID:10001086-1730102400-1730106000@cebtg.ch
SUMMARY:Méditation
DESCRIPTION:Méditation du calme mental en présence à la Maison Verte\, sur Zoom (codes habituels) et Youtube.
URL:https://cebtg.ch/evenement/meditation-17/
CATEGORIES:Calme Mental
ATTACH;FMTTYPE=image/jpeg:https://cebtg.ch/wp-content/uploads/2023/08/IMG_7234-scaled-e1693428506443.jpeg
END:VEVENT
BEGIN:VEVENT
DTSTART;TZID=Europe/Zurich:20241028T190000
DTEND;TZID=Europe/Zurich:20241028T203000
DTSTAMP:20260423T183306
CREATED:20240821T214850Z
LAST-MODIFIED:20241204T154443Z
UID:10001106-1730142000-1730147400@cebtg.ch
SUMMARY:Présentation des "groupes d'études" par les restituteurs de Dhagpo
DESCRIPTION:Deux restituteurs de Dhagpo Kagyu Ling feront une session par Zoom pour toutes les personnes intéressées du CEBTG\, ainsi que des centres proches CEBTL et Kagyu Die.\nLes restituteurs présenteront la manière d’organiser une étude approfondie par petits groupes. Il s’agit d’une méthode mise en place par Jigmé Rinpoché dans les centres du maṇḍala de Dhagpo depuis plusieurs années. \nLa présentation sera suivie d’une session de questions-réponses. Cette méthodologie s’applique à tout type de texte du Dharma et à tout groupe\, que l’on soit en présence ou en ligne. C’est un moyen précieux qui renforce la connaissance précise des textes et les liens des communautés.\nL’idée consiste ensuite à organiser des groupes en autonomie pour étudier ensemble le Dhagpo Targyen (« Cycle Gampopa » ) ou d’autres textes. \nVous pouvez rejoindre cette session en utilisant les codes habituels du CEBTG.
URL:https://cebtg.ch/evenement/groupe-de-partage/
LOCATION:Online
ATTACH;FMTTYPE=image/jpeg:https://cebtg.ch/wp-content/uploads/2024/10/groupe-detude-DKL-e1729410503155.jpg
END:VEVENT
END:VCALENDAR